BEGIN:VCALENDAR
VERSION:2.0
PRODID:-//Vega Training - ECPv6.15.20//NONSGML v1.0//EN
CALSCALE:GREGORIAN
METHOD:PUBLISH
X-WR-CALNAME:Vega Training
X-ORIGINAL-URL:https://www.vegatraining.eu
X-WR-CALDESC:Eventi per Vega Training
REFRESH-INTERVAL;VALUE=DURATION:PT1H
X-Robots-Tag:noindex
X-PUBLISHED-TTL:PT1H
BEGIN:VTIMEZONE
TZID:UTC
BEGIN:STANDARD
TZOFFSETFROM:+0000
TZOFFSETTO:+0000
TZNAME:UTC
DTSTART:20240101T000000
END:STANDARD
END:VTIMEZONE
BEGIN:VEVENT
DTSTART;VALUE=DATE:20250107
DTEND;VALUE=DATE:20250108
DTSTAMP:20260421T114911
CREATED:20241010T074953Z
LAST-MODIFIED:20241010T074953Z
UID:17598-1736208000-1736294399@www.vegatraining.eu
SUMMARY:Azure Administrator AZ-104 – 07012025 – Intensive
DESCRIPTION:Inizio Corso – Durata 4 gg – Full Time – Versione Intensiva.\nCorso di preparazione al conseguimento della Certificazione Microsoft Azure Administrator Associate
URL:https://www.vegatraining.eu/calendario/azure-administrator-az-104-07012025-intensive/
ORGANIZER;CN="Vega Training":MAILTO:contatti@vegatraining.eu
END:VEVENT
BEGIN:VEVENT
DTSTART;VALUE=DATE:20250113
DTEND;VALUE=DATE:20250114
DTSTAMP:20260421T114911
CREATED:20240913T085931Z
LAST-MODIFIED:20241023T100350Z
UID:17457-1736726400-1736812799@www.vegatraining.eu
SUMMARY:Cybersecurity CBROPS – 13012025 – Intensive
DESCRIPTION:Inizio Corso – Durata 5 gg – Full Time – Versione Intensiva.\nCorso di preparazione al conseguimento della\nCertificazione Cisco CyberOps Associate\nUnderstanding Cisco Cybersecurity Operations Fundamentals (CBROPS)
URL:https://www.vegatraining.eu/calendario/cybersecurity-cbrops-13012025-intensive/
ORGANIZER;CN="Vega Training":MAILTO:contatti@vegatraining.eu
END:VEVENT
BEGIN:VEVENT
DTSTART;VALUE=DATE:20250113
DTEND;VALUE=DATE:20250114
DTSTAMP:20260421T114911
CREATED:20241004T092257Z
LAST-MODIFIED:20241004T092257Z
UID:17522-1736726400-1736812799@www.vegatraining.eu
SUMMARY:AWS Cloud Practitioner Essentials – 13012025 – Intensive
DESCRIPTION:Inizio Corso – Durata 1 gg – Full Time – Versione Intensiva.\nCorso di preparazione al conseguimento della Certificazione AWS Certified Cloud Practitioner
URL:https://www.vegatraining.eu/calendario/aws-cloud-practitioner-essentials-13012025-intensive/
ORGANIZER;CN="Vega Training":MAILTO:contatti@vegatraining.eu
END:VEVENT
BEGIN:VEVENT
DTSTART;VALUE=DATE:20250113
DTEND;VALUE=DATE:20250114
DTSTAMP:20260421T114911
CREATED:20241022T160447Z
LAST-MODIFIED:20241022T160447Z
UID:17619-1736726400-1736812799@www.vegatraining.eu
SUMMARY:VMware vSphere ICM – 13012025 – Intensive (TD SYNNEX)
DESCRIPTION:Inizio Corso – Durata 5 gg – Dal Lunedì al Venerdì – Formula Full Time.\nCorso di preparazione al conseguimento della\nCertificazione VMware Certified Professional vSphere Data Center Virtualization VCP-DCV 2023
URL:https://www.vegatraining.eu/calendario/vmware-vsphere-icm-13012025-intensive-td-synnex/
ORGANIZER;CN="Vega Training":MAILTO:contatti@vegatraining.eu
END:VEVENT
BEGIN:VEVENT
DTSTART;VALUE=DATE:20250113
DTEND;VALUE=DATE:20250114
DTSTAMP:20260421T114911
CREATED:20241024T095053Z
LAST-MODIFIED:20241024T095053Z
UID:17671-1736726400-1736812799@www.vegatraining.eu
SUMMARY:CCNP DCCOR - 13012025 - Intensive
DESCRIPTION:Inizio Corso – Durata 5 gg – Full Time\nCorso di preparazione al conseguimento della\nCertificazione Cisco CCNP Data Center DCCOR\nEsame 350-601 Parte della Certificazione Cisco CCNP Data Center\nImplementing and Operating Cisco Data Center Core Technologies (DCCOR)
URL:https://www.vegatraining.eu/calendario/ccnp-dccor-13012025-intensive/
ORGANIZER;CN="Vega Training":MAILTO:contatti@vegatraining.eu
END:VEVENT
BEGIN:VEVENT
DTSTART;VALUE=DATE:20250113
DTEND;VALUE=DATE:20250114
DTSTAMP:20260421T114911
CREATED:20241111T104810Z
LAST-MODIFIED:20241111T104810Z
UID:17764-1736726400-1736812799@www.vegatraining.eu
SUMMARY:Sistemista Informatico CompTIA A+ – 13012025 – Extensive
DESCRIPTION:Inizio Corso – Durata 69 ore – Lun. Mer. 18:30/21:30\nCorso di preparazione al conseguimento della: Certificazione CompTIA A+
URL:https://www.vegatraining.eu/calendario/sistemista-informatico-comptia-a-13012025-extensive/
ORGANIZER;CN="Vega Training":MAILTO:contatti@vegatraining.eu
END:VEVENT
BEGIN:VEVENT
DTSTART;VALUE=DATE:20250113
DTEND;VALUE=DATE:20250114
DTSTAMP:20260421T114911
CREATED:20241204T081228Z
LAST-MODIFIED:20241204T081228Z
UID:18970-1736726400-1736812799@www.vegatraining.eu
SUMMARY:CCNP SPCOR – 13012025 – Intensive
DESCRIPTION:Inizio Corso – Durata 5 gg – Full Time – Versione Intensiva.\nCorso di preparazione al conseguimento della Certificazione Cisco CCNP Service Provider SPCOR
URL:https://www.vegatraining.eu/calendario/ccnp-spcor-13012025-intensive/
ORGANIZER;CN="Vega Training":MAILTO:contatti@vegatraining.eu
END:VEVENT
BEGIN:VEVENT
DTSTART;VALUE=DATE:20250115
DTEND;VALUE=DATE:20250116
DTSTAMP:20260421T114911
CREATED:20241007T082538Z
LAST-MODIFIED:20241007T082538Z
UID:17579-1736899200-1736985599@www.vegatraining.eu
SUMMARY:AWS Security Essentials - 15012025 - Intensive
DESCRIPTION:Inizio Corso – Durata 1 gg – Full Time\nCorso di preparazione al conseguimento della\nCertificazione AWS Certified Database – Specialty
URL:https://www.vegatraining.eu/calendario/aws-security-essentials-15012025-intensive/
ORGANIZER;CN="Vega Training":MAILTO:contatti@vegatraining.eu
END:VEVENT
BEGIN:VEVENT
DTSTART;VALUE=DATE:20250120
DTEND;VALUE=DATE:20250121
DTSTAMP:20260421T114911
CREATED:20240307T081952Z
LAST-MODIFIED:20241129T141328Z
UID:16519-1737331200-1737417599@www.vegatraining.eu
SUMMARY:CCNP ENARSI – 20012025 – Intensive
DESCRIPTION:Inizio Corso – Durata 5 gg – Full Time – Versione Intensiva.\nCorso di preparazione al conseguimento della\nCertificazione Cisco CCNP Enterprise ENARSI
URL:https://www.vegatraining.eu/calendario/ccnp-enarsi-02122024-intensive/
ORGANIZER;CN="Vega Training":MAILTO:contatti@vegatraining.eu
END:VEVENT
BEGIN:VEVENT
DTSTART;VALUE=DATE:20250120
DTEND;VALUE=DATE:20250121
DTSTAMP:20260421T114911
CREATED:20241023T091654Z
LAST-MODIFIED:20241023T091654Z
UID:17638-1737331200-1737417599@www.vegatraining.eu
SUMMARY:Cisco CCNA – 20012025 – Intensive
DESCRIPTION:Inizio Corso – Durata 5 gg – Dal Lunedì al Venerdì – Formula Full Time – Versione CCNA Intensivo.\nCorso di preparazione al conseguimento della\nCertificazione Cisco CCNA Esame 200-301
URL:https://www.vegatraining.eu/calendario/cisco-ccna-20012025-intensive/
ORGANIZER;CN="Vega Training":MAILTO:contatti@vegatraining.eu
END:VEVENT
BEGIN:VEVENT
DTSTART;VALUE=DATE:20250120
DTEND;VALUE=DATE:20250121
DTSTAMP:20260421T114911
CREATED:20241107T085223Z
LAST-MODIFIED:20241107T090535Z
UID:17745-1737331200-1737417599@www.vegatraining.eu
SUMMARY:VMware NSX ICM – 20012025 – Intensive (TD SYNNEX)
DESCRIPTION:Inizio Corso – Durata 5 gg – Dal Lunedì al Venerdì – Formula Full Time.\nCorso di preparazione al conseguimento della:\nCertificazione VMware Certified Professional Network Virtualization 2023 (VCP-NV 2023)
URL:https://www.vegatraining.eu/calendario/vmware-nsx-icm-20012025-intensive/
ORGANIZER;CN="Vega Training":MAILTO:contatti@vegatraining.eu
END:VEVENT
BEGIN:VEVENT
DTSTART;VALUE=DATE:20250122
DTEND;VALUE=DATE:20250123
DTSTAMP:20260421T114911
CREATED:20240604T131839Z
LAST-MODIFIED:20250213T081719Z
UID:17221-1737504000-1737590399@www.vegatraining.eu
SUMMARY:CCNP ENCOR – 22012025 – Extensive
DESCRIPTION:Inizio Corso – Durata 60 ore – Lun. Mer. Ven. 18:30/21:30\nCorso di preparazione al conseguimento della Certificazione Cisco CCNP Enterprise ENCOR Esame 350-401 Parte della Certificazione Cisco CCNP Enterprise Implementing Cisco Enterprise Network Core Technologies (ENCOR)
URL:https://www.vegatraining.eu/calendario/ccnp-encor-11112024-extensive/
ORGANIZER;CN="Vega Training":MAILTO:contatti@vegatraining.eu
END:VEVENT
BEGIN:VEVENT
DTSTART;VALUE=DATE:20250127
DTEND;VALUE=DATE:20250128
DTSTAMP:20260421T114911
CREATED:20240917T131238Z
LAST-MODIFIED:20240917T131238Z
UID:17462-1737936000-1738022399@www.vegatraining.eu
SUMMARY:FortiGate Administrator - 27012025 - Intensive
DESCRIPTION:Inizio Corso – Durata 4 gg – Full Time – Versione Intensiva.\nIl Corso contribuisce alla preparazione dell’esame di Certificazione FCP – FortiGate Administrator\, parte delle Certificazioni:\n– Fortinet Certified Professional in Security Operations\n– Fortinet Certified Professional in Network Security\n– Fortinet Certified Professional in Public Cloud Security
URL:https://www.vegatraining.eu/calendario/fortigate-administrator-27012025-intensive/
ORGANIZER;CN="Vega Training":MAILTO:contatti@vegatraining.eu
END:VEVENT
BEGIN:VEVENT
DTSTART;VALUE=DATE:20250127
DTEND;VALUE=DATE:20250128
DTSTAMP:20260421T114911
CREATED:20241024T100115Z
LAST-MODIFIED:20241024T100115Z
UID:17676-1737936000-1738022399@www.vegatraining.eu
SUMMARY:CCNP SCOR - 27012025 - Intensive
DESCRIPTION:Inizio Corso – Durata 5 gg – Full Time – Versione Intensiva.\nCorso di preparazione al conseguimento della Certificazione Cisco CCNP Security SCOR
URL:https://www.vegatraining.eu/calendario/ccnp-scor-27012025-intensive/
ORGANIZER;CN="Vega Training":MAILTO:contatti@vegatraining.eu
END:VEVENT
BEGIN:VEVENT
DTSTART;VALUE=DATE:20250127
DTEND;VALUE=DATE:20250128
DTSTAMP:20260421T114911
CREATED:20241024T101124Z
LAST-MODIFIED:20241024T101124Z
UID:17681-1737936000-1738022399@www.vegatraining.eu
SUMMARY:CCNP ENCOR – 27012025 – Intensive
DESCRIPTION:Inizio Corso – Durata 5 gg – Full Time – Versione Intensiva.\nCorso di preparazione al conseguimento della Certificazione Cisco CCNP Enterprise ENCOR Esame 350-401\nParte della Certificazione Cisco CCNP Enterprise Implementing Cisco Enterprise Network Core Technologies (ENCOR)
URL:https://www.vegatraining.eu/calendario/ccnp-encor-27012025-intensive/
ORGANIZER;CN="Vega Training":MAILTO:contatti@vegatraining.eu
END:VEVENT
BEGIN:VEVENT
DTSTART;VALUE=DATE:20250128
DTEND;VALUE=DATE:20250129
DTSTAMP:20260421T114911
CREATED:20241202T092137Z
LAST-MODIFIED:20241202T092137Z
UID:18911-1738022400-1738108799@www.vegatraining.eu
SUMMARY:Cisco CCNA – 28012025 – Extensive – PM
DESCRIPTION:Inizio Corso – Durata 120 ore – Mar. Gio. 18:30/21:30\nCorso di preparazione al conseguimento della Certificazione Cisco CCNA Implementing and Administering Cisco Networking Technologies
URL:https://www.vegatraining.eu/calendario/cisco-ccna-28012025-extensive-pm/
ORGANIZER;CN="Vega Training":MAILTO:contatti@vegatraining.eu
END:VEVENT
BEGIN:VEVENT
DTSTART;VALUE=DATE:20250131
DTEND;VALUE=DATE:20250201
DTSTAMP:20260421T114911
CREATED:20240917T131655Z
LAST-MODIFIED:20240917T131655Z
UID:17467-1738281600-1738367999@www.vegatraining.eu
SUMMARY:FortiAnalyzer Analyst - 31012025 - Intensive
DESCRIPTION:Inizio Corso – Durata 1 gg – Full Time – Versione Intensiva.\nIl Corso contribuisce alla preparazione dell’esame di Certificazione FCP – FortiAnalyzer Analyst\, parte del percorso di certificazione Fortinet Certified Professional – Security Operations.
URL:https://www.vegatraining.eu/calendario/fortianalyzer-analyst-31012025-intensive/
ORGANIZER;CN="Vega Training":MAILTO:contatti@vegatraining.eu
END:VEVENT
END:VCALENDAR