BEGIN:VCALENDAR
VERSION:2.0
PRODID:-//Vega Training - ECPv6.15.20//NONSGML v1.0//EN
CALSCALE:GREGORIAN
METHOD:PUBLISH
X-ORIGINAL-URL:https://www.vegatraining.eu
X-WR-CALDESC:Eventi per Vega Training
REFRESH-INTERVAL;VALUE=DURATION:PT1H
X-Robots-Tag:noindex
X-PUBLISHED-TTL:PT1H
BEGIN:VTIMEZONE
TZID:UTC
BEGIN:STANDARD
TZOFFSETFROM:+0000
TZOFFSETTO:+0000
TZNAME:UTC
DTSTART:20230101T000000
END:STANDARD
END:VTIMEZONE
BEGIN:VTIMEZONE
TZID:Europe/Rome
BEGIN:DAYLIGHT
TZOFFSETFROM:+0100
TZOFFSETTO:+0200
TZNAME:CEST
DTSTART:20230326T010000
END:DAYLIGHT
BEGIN:STANDARD
TZOFFSETFROM:+0200
TZOFFSETTO:+0100
TZNAME:CET
DTSTART:20231029T010000
END:STANDARD
BEGIN:DAYLIGHT
TZOFFSETFROM:+0100
TZOFFSETTO:+0200
TZNAME:CEST
DTSTART:20240331T010000
END:DAYLIGHT
BEGIN:STANDARD
TZOFFSETFROM:+0200
TZOFFSETTO:+0100
TZNAME:CET
DTSTART:20241027T010000
END:STANDARD
BEGIN:DAYLIGHT
TZOFFSETFROM:+0100
TZOFFSETTO:+0200
TZNAME:CEST
DTSTART:20250330T010000
END:DAYLIGHT
BEGIN:STANDARD
TZOFFSETFROM:+0200
TZOFFSETTO:+0100
TZNAME:CET
DTSTART:20251026T010000
END:STANDARD
END:VTIMEZONE
BEGIN:VEVENT
DTSTART;VALUE=DATE:20240701
DTEND;VALUE=DATE:20240702
DTSTAMP:20260423T101159
CREATED:20240125T151019Z
LAST-MODIFIED:20240520T132353Z
UID:16328-1719792000-1719878399@www.vegatraining.eu
SUMMARY:Corso VMware Horizon: Deploy and Manage - 01072024 - Intensive
DESCRIPTION:Inizio Corso – Durata 5gg – Full Time – Versione Intensiva. Corso di preparazione al conseguimento della: VMware Certified Professional Desktop Management 2024 (VCP-DTM 2024)
URL:https://www.vegatraining.eu/calendario/corso-vmware-horizon-deploy-and-manage-22072024-intensive/
LOCATION:Vega Training Italia\, Vega Training\, Online\, Italia
ORGANIZER;CN="Vega Training":MAILTO:contatti@vegatraining.eu
END:VEVENT
BEGIN:VEVENT
DTSTART;VALUE=DATE:20240708
DTEND;VALUE=DATE:20240709
DTSTAMP:20260423T101159
CREATED:20240305T114241Z
LAST-MODIFIED:20240305T114241Z
UID:16500-1720396800-1720483199@www.vegatraining.eu
SUMMARY:Cisco CCNA – 08072024 – Intensive
DESCRIPTION:Inizio Corso – Durata 5 gg – Dal Lunedì al Venerdì – Formula Full Time – Versione CCNA Intensivo.\nCorso di preparazione al conseguimento della\nCertificazione Cisco CCNA Esame 200-301
URL:https://www.vegatraining.eu/calendario/cisco-ccna-08072024-intensive/
LOCATION:Vega Training Italia\, Vega Training\, Online\, Italia
ORGANIZER;CN="Vega Training":MAILTO:contatti@vegatraining.eu
END:VEVENT
BEGIN:VEVENT
DTSTART;VALUE=DATE:20240708
DTEND;VALUE=DATE:20240709
DTSTAMP:20260423T101159
CREATED:20240311T082548Z
LAST-MODIFIED:20240311T082548Z
UID:16554-1720396800-1720483199@www.vegatraining.eu
SUMMARY:CCNP ENCOR – 08072024 – Intensive
DESCRIPTION:Inizio Corso – Durata 5 gg – Full Time – Versione Intensiva.\nCorso di preparazione al conseguimento della Certificazione Cisco CCNP Enterprise ENCOR Esame 350-401\nParte della Certificazione Cisco CCNP Enterprise Implementing Cisco Enterprise Network Core Technologies (ENCOR)
URL:https://www.vegatraining.eu/calendario/ccnp-encor-08072024-intensive/
ORGANIZER;CN="Vega Training":MAILTO:contatti@vegatraining.eu
END:VEVENT
BEGIN:VEVENT
DTSTART;VALUE=DATE:20240708
DTEND;VALUE=DATE:20240709
DTSTAMP:20260423T101159
CREATED:20240702T151847Z
LAST-MODIFIED:20240702T151847Z
UID:17298-1720396800-1720483199@www.vegatraining.eu
SUMMARY:VMware vSphere ICM – 08072024 – Intensive
DESCRIPTION:Inizio Corso – Durata 5 gg – Dal Lunedì al Venerdì – Formula Full Time.\nCorso di preparazione al conseguimento della\nCertificazione VMware Certified Professional vSphere Data Center Virtualization VCP-DCV 2023
URL:https://www.vegatraining.eu/calendario/vmware-vsphere-icm-08072024-intensive/
ORGANIZER;CN="Vega Training":MAILTO:contatti@vegatraining.eu
END:VEVENT
BEGIN:VEVENT
DTSTART;VALUE=DATE:20240709
DTEND;VALUE=DATE:20240710
DTSTAMP:20260423T101159
CREATED:20240527T101612Z
LAST-MODIFIED:20240618T131530Z
UID:17202-1720483200-1720569599@www.vegatraining.eu
SUMMARY:Cisco CCNA – 09072024 – Extensive – PM
DESCRIPTION:Inizio Corso – Durata 120 ore – Mar. Gio. 18:30/21:30\nCorso di preparazione al conseguimento della Certificazione Cisco CCNA Implementing and Administering Cisco Networking Technologies
URL:https://www.vegatraining.eu/calendario/cisco-ccna-25062024-extensive-pm/
ORGANIZER;CN="Vega Training":MAILTO:contatti@vegatraining.eu
END:VEVENT
BEGIN:VEVENT
DTSTART;VALUE=DATE:20240715
DTEND;VALUE=DATE:20240716
DTSTAMP:20260423T101159
CREATED:20240326T150248Z
LAST-MODIFIED:20240326T150248Z
UID:16608-1721001600-1721087999@www.vegatraining.eu
SUMMARY:Architecting on AWS – 15072024 – Intensive
DESCRIPTION:Inizio Corso – Durata 3 gg – Full Time\nCorso di preparazione al conseguimento della\nCertificazione AWS Certified Solutions Architect – Associate
URL:https://www.vegatraining.eu/calendario/architecting-on-aws-15072024-intensive/
LOCATION:Vega Training Italia\, Vega Training\, Online\, Italia
ORGANIZER;CN="Vega Training":MAILTO:contatti@vegatraining.eu
END:VEVENT
END:VCALENDAR