BEGIN:VCALENDAR
VERSION:2.0
PRODID:-//Vega Training - ECPv6.15.20//NONSGML v1.0//EN
CALSCALE:GREGORIAN
METHOD:PUBLISH
X-WR-CALNAME:Vega Training
X-ORIGINAL-URL:https://www.vegatraining.eu
X-WR-CALDESC:Eventi per Vega Training
REFRESH-INTERVAL;VALUE=DURATION:PT1H
X-Robots-Tag:noindex
X-PUBLISHED-TTL:PT1H
BEGIN:VTIMEZONE
TZID:Europe/Rome
BEGIN:DAYLIGHT
TZOFFSETFROM:+0100
TZOFFSETTO:+0200
TZNAME:CEST
DTSTART:20230326T010000
END:DAYLIGHT
BEGIN:STANDARD
TZOFFSETFROM:+0200
TZOFFSETTO:+0100
TZNAME:CET
DTSTART:20231029T010000
END:STANDARD
BEGIN:DAYLIGHT
TZOFFSETFROM:+0100
TZOFFSETTO:+0200
TZNAME:CEST
DTSTART:20240331T010000
END:DAYLIGHT
BEGIN:STANDARD
TZOFFSETFROM:+0200
TZOFFSETTO:+0100
TZNAME:CET
DTSTART:20241027T010000
END:STANDARD
BEGIN:DAYLIGHT
TZOFFSETFROM:+0100
TZOFFSETTO:+0200
TZNAME:CEST
DTSTART:20250330T010000
END:DAYLIGHT
BEGIN:STANDARD
TZOFFSETFROM:+0200
TZOFFSETTO:+0100
TZNAME:CET
DTSTART:20251026T010000
END:STANDARD
END:VTIMEZONE
BEGIN:VTIMEZONE
TZID:UTC
BEGIN:STANDARD
TZOFFSETFROM:+0000
TZOFFSETTO:+0000
TZNAME:UTC
DTSTART:20230101T000000
END:STANDARD
END:VTIMEZONE
BEGIN:VEVENT
DTSTART;VALUE=DATE:20240603
DTEND;VALUE=DATE:20240604
DTSTAMP:20260423T113153
CREATED:20231228T143803Z
LAST-MODIFIED:20231228T152857Z
UID:15227-1717372800-1717459199@www.vegatraining.eu
SUMMARY:Google Cloud Fundamentals: Core Infrastructure – 03062024 – Intensive
DESCRIPTION:Inizio Corso – Durata 1gg – Full Time – Versione Intensiva. Corso di preparazione al conseguimento delle Certificazioni: \nGoogle Cloud Certified Associate Cloud Engineer\nGoogle Cloud Certified Professional Cloud Architect
URL:https://www.vegatraining.eu/calendario/google-cloud-fundamentals-core-infrastructure-03062024-intensive/
ORGANIZER;CN="Vega Training":MAILTO:contatti@vegatraining.eu
END:VEVENT
BEGIN:VEVENT
DTSTART;VALUE=DATE:20240603
DTEND;VALUE=DATE:20240604
DTSTAMP:20260423T113153
CREATED:20240125T142605Z
LAST-MODIFIED:20240125T142605Z
UID:16319-1717372800-1717459199@www.vegatraining.eu
SUMMARY:CCNP ENCOR – 03062024 – Extensive
DESCRIPTION:Inizio Corso – Durata 60 ore – Lun. Mer. Ven. 18:30/21:30 – Corso di preparazione al conseguimento della Certificazione Cisco CCNP Enterprise ENCOR Esame 350-401 Parte della Certificazione Cisco CCNP Enterprise Implementing Cisco Enterprise Network Core Technologies (ENCOR)
URL:https://www.vegatraining.eu/calendario/ccnp-encor-03062024-extensive/
LOCATION:Vega Training Italia\, Vega Training\, Online\, Italia
ORGANIZER;CN="Vega Training":MAILTO:contatti@vegatraining.eu
END:VEVENT
BEGIN:VEVENT
DTSTART;VALUE=DATE:20240603
DTEND;VALUE=DATE:20240604
DTSTAMP:20260423T113153
CREATED:20240415T092907Z
LAST-MODIFIED:20240416T125347Z
UID:16822-1717372800-1717459199@www.vegatraining.eu
SUMMARY:Architecting on AWS – 03062024 – Extensive
DESCRIPTION:Inizio Corso – Durata 30 ore – Lun. Mer. Ven. 18:30/21:30\nCorso di preparazione al conseguimento della Certificazione AWS Certified Solutions Architect – Associate
URL:https://www.vegatraining.eu/calendario/architecting-on-aws-03062024-extensive/
LOCATION:Vega Training Italia\, Vega Training\, Online\, Italia
ORGANIZER;CN="Vega Training":MAILTO:contatti@vegatraining.eu
END:VEVENT
BEGIN:VEVENT
DTSTART;VALUE=DATE:20240605
DTEND;VALUE=DATE:20240606
DTSTAMP:20260423T113153
CREATED:20231228T143803Z
LAST-MODIFIED:20231228T152916Z
UID:15225-1717545600-1717631999@www.vegatraining.eu
SUMMARY:Architecting with Google Compute Engine – 05062024 – Intensive
DESCRIPTION:Inizio Corso – Durata 3gg – Full Time – Versione Intensiva. Corso di preparazione al conseguimento delle Certificazioni: \n\nGoogle Cloud Certified Associate Cloud Engineer\nGoogle Cloud Certified Professional Cloud Architect
URL:https://www.vegatraining.eu/calendario/architecting-with-google-compute-engine-05062024-intensive/
ORGANIZER;CN="Vega Training":MAILTO:contatti@vegatraining.eu
END:VEVENT
BEGIN:VEVENT
DTSTART;VALUE=DATE:20240610
DTEND;VALUE=DATE:20240611
DTSTAMP:20260423T113153
CREATED:20240408T131807Z
LAST-MODIFIED:20240408T131807Z
UID:16712-1717977600-1718063999@www.vegatraining.eu
SUMMARY:Corso VMware vSphere: Troubleshooting - 10062024 - Intensive (TD Synnex)
DESCRIPTION:Inizio Corso – Durata 5 gg – Dal Lunedì al Venerdì – Formula Full Time.\nIl corso contribuisce alla preparazione dell’esame di Certificazione VMware Certified Professional Data Center Virtualization e dell’esame di Certificazione VMware Certified Advanced Professional Data Center Virtualization Deploy 2024.
URL:https://www.vegatraining.eu/calendario/corso-vmware-vsphere-troubleshooting-10062024-intensive-td-synnex/
LOCATION:Vega Training Italia\, Vega Training\, Online\, Italia
ORGANIZER;CN="Vega Training":MAILTO:contatti@vegatraining.eu
END:VEVENT
BEGIN:VEVENT
DTSTART;VALUE=DATE:20240613
DTEND;VALUE=DATE:20240614
DTSTAMP:20260423T113153
CREATED:20240219T142821Z
LAST-MODIFIED:20240219T142821Z
UID:16451-1718236800-1718323199@www.vegatraining.eu
SUMMARY:Cybersecurity CBROPS – 13062024 – Extensive
DESCRIPTION:Inizio Corso – Durata 54 ore – Mar. Gio. 18:30/21:30\nCorso di preparazione al conseguimento della Certificazione Cisco Certified CyberOps Associate
URL:https://www.vegatraining.eu/calendario/cybersecurity-cbrops-13062024-extensive/
LOCATION:Vega Training Italia\, Vega Training\, Online\, Italia
ORGANIZER;CN="Vega Training":MAILTO:contatti@vegatraining.eu
END:VEVENT
BEGIN:VEVENT
DTSTART;VALUE=DATE:20240617
DTEND;VALUE=DATE:20240618
DTSTAMP:20260423T113153
CREATED:20231228T143759Z
LAST-MODIFIED:20240102T102621Z
UID:15197-1718582400-1718668799@www.vegatraining.eu
SUMMARY:Architecting on AWS – 17062024 – Intensive
DESCRIPTION:Inizio Corso – Durata 3 gg – Full Time\nCorso di preparazione al conseguimento della\nCertificazione AWS Certified Solutions Architect – Associate
URL:https://www.vegatraining.eu/calendario/architecting-on-aws-17062024-intensive/
ORGANIZER;CN="Vega Training":MAILTO:contatti@vegatraining.eu
END:VEVENT
BEGIN:VEVENT
DTSTART;VALUE=DATE:20240617
DTEND;VALUE=DATE:20240618
DTSTAMP:20260423T113153
CREATED:20231228T143801Z
LAST-MODIFIED:20240214T135105Z
UID:15206-1718582400-1718668799@www.vegatraining.eu
SUMMARY:Azure Administrator AZ-104 – 17062024 – Intensive
DESCRIPTION:Inizio Corso – Durata 4 gg – Full Time – Versione Intensiva.\nCorso di preparazione al conseguimento della Certificazione Microsoft Azure Administrator Associate
URL:https://www.vegatraining.eu/calendario/azure-administrator-az-104-10062024-intensive/
ORGANIZER;CN="Vega Training":MAILTO:contatti@vegatraining.eu
END:VEVENT
BEGIN:VEVENT
DTSTART;VALUE=DATE:20240617
DTEND;VALUE=DATE:20240618
DTSTAMP:20260423T113153
CREATED:20240313T161436Z
LAST-MODIFIED:20240313T161436Z
UID:16562-1718582400-1718668799@www.vegatraining.eu
SUMMARY:CompTIA Security+ – 17062024 – Intensive
DESCRIPTION:Inizio Corso – Durata 5gg – Full Time – Versione Intensiva.\nCorso di preparazione al conseguimento della:\nCertificazione CompTIA Security+
URL:https://www.vegatraining.eu/calendario/comptia-security-17062024-intensive/
LOCATION:Vega Training Italia\, Vega Training\, Online\, Italia
END:VEVENT
BEGIN:VEVENT
DTSTART;VALUE=DATE:20240624
DTEND;VALUE=DATE:20240625
DTSTAMP:20260423T113153
CREATED:20240321T151239Z
LAST-MODIFIED:20240321T151239Z
UID:16591-1719187200-1719273599@www.vegatraining.eu
SUMMARY:VMware vSphere ICM – 24062024 – Intensive (TD SYNNEX)
DESCRIPTION:Inizio Corso – Durata 5 gg – Dal Lunedì al Venerdì – Formula Full Time.\nCorso di preparazione al conseguimento della\nCertificazione VMware Certified Professional vSphere Data Center Virtualization VCP-DCV 2023
URL:https://www.vegatraining.eu/calendario/vmware-vsphere-icm-24062024-intensive-td-synnex/
LOCATION:Vega Training Italia\, Vega Training\, Online\, Italia
ORGANIZER;CN="Vega Training":MAILTO:contatti@vegatraining.eu
END:VEVENT
END:VCALENDAR