BEGIN:VCALENDAR
VERSION:2.0
PRODID:-//Vega Training - ECPv6.15.20//NONSGML v1.0//EN
CALSCALE:GREGORIAN
METHOD:PUBLISH
X-ORIGINAL-URL:https://www.vegatraining.eu
X-WR-CALDESC:Eventi per Vega Training
REFRESH-INTERVAL;VALUE=DURATION:PT1H
X-Robots-Tag:noindex
X-PUBLISHED-TTL:PT1H
BEGIN:VTIMEZONE
TZID:UTC
BEGIN:STANDARD
TZOFFSETFROM:+0000
TZOFFSETTO:+0000
TZNAME:UTC
DTSTART:20250101T000000
END:STANDARD
END:VTIMEZONE
BEGIN:VEVENT
DTSTART;VALUE=DATE:20260323
DTEND;VALUE=DATE:20260324
DTSTAMP:20260422T005252
CREATED:20260120T153012Z
LAST-MODIFIED:20260324T142301Z
UID:21435-1774224000-1774310399@www.vegatraining.eu
SUMMARY:CompTIA Security+ - 23032026 - Extensive
DESCRIPTION:Inizio Corso – Durata 36 ore – Lun. Mer. 18:30/21:30\nCorso di preparazione al conseguimento delle\nCertificazioni CompTIA Security+
URL:https://www.vegatraining.eu/calendario/comptia-security-23032026-extensive/
ORGANIZER;CN="Vega Training":MAILTO:contatti@vegatraining.eu
END:VEVENT
BEGIN:VEVENT
DTSTART;VALUE=DATE:20260323
DTEND;VALUE=DATE:20260324
DTSTAMP:20260422T005252
CREATED:20260130T164846Z
LAST-MODIFIED:20260312T094155Z
UID:21490-1774224000-1774310399@www.vegatraining.eu
SUMMARY:Administering Windows Server Hybrid Core Infrastructure – 23032026 – Fractional
DESCRIPTION:Inizio Corso – Durata 4 gg – Full Time – Versione Frazionata.\nCorso di preparazione al conseguimento della\nCertificazione Windows Server Hybrid Administrator Associate (Esame AZ-800)
URL:https://www.vegatraining.eu/calendario/administering-windows-server-hybrid-core-infrastructure-23032026-intensive/
LOCATION:Vega Training Italia\, Vega Training\, Online\, Italia
ORGANIZER;CN="Vega Training":MAILTO:contatti@vegatraining.eu
END:VEVENT
BEGIN:VEVENT
DTSTART;VALUE=DATE:20260323
DTEND;VALUE=DATE:20260324
DTSTAMP:20260422T005252
CREATED:20260213T082820Z
LAST-MODIFIED:20260213T082820Z
UID:21509-1774224000-1774310399@www.vegatraining.eu
SUMMARY:Fortinet Enterprise Firewall Administrator - 23032026 - Intensive
DESCRIPTION:Inizio Corso – Durata 3 gg – Full Time.\nIl corso contribuisce alla preparazione dell’esame di Certificazione\nFCSS – Enterprise Firewall Administrator
URL:https://www.vegatraining.eu/calendario/fortinet-enterprise-firewall-administrator-23032026-intensive/
ORGANIZER;CN="Vega Training":MAILTO:contatti@vegatraining.eu
END:VEVENT
BEGIN:VEVENT
DTSTART;VALUE=DATE:20260324
DTEND;VALUE=DATE:20260325
DTSTAMP:20260422T005252
CREATED:20260113T144119Z
LAST-MODIFIED:20260113T145341Z
UID:21392-1774310400-1774396799@www.vegatraining.eu
SUMMARY:Fortinet SD-WAN - 24032026 - Intensive
DESCRIPTION:Inizio Corso – Durata 3 gg – Full Time.\nIl Corso contribuisce alla preparazione dell’esame di\nCertificazione Fortinet NSE 5 – FortiSASE and SD-WAN Core Administrator\,\nparte del percorso di Certificazione Fortinet NSE 4 – SASE
URL:https://www.vegatraining.eu/calendario/fortinet-sd-wan-10032026-intensive/
ORGANIZER;CN="Vega Training":MAILTO:contatti@vegatraining.eu
END:VEVENT
BEGIN:VEVENT
DTSTART;VALUE=DATE:20260324
DTEND;VALUE=DATE:20260325
DTSTAMP:20260422T005252
CREATED:20260224T171534Z
LAST-MODIFIED:20260224T171534Z
UID:21576-1774310400-1774396799@www.vegatraining.eu
SUMMARY:Cisco CCNA – 24032026 – Extensive – PM
DESCRIPTION:Inizio Corso – Durata 90 ore – Mar. Gio. 18:30/21:30\nCorso di preparazione al conseguimento della\nCertificazione Cisco CCNA Implementing and Administering Cisco Solutions (Esame 200-301)
URL:https://www.vegatraining.eu/calendario/cisco-ccna-24032026-extensive-pm/
ORGANIZER;CN="Vega Training":MAILTO:contatti@vegatraining.eu
END:VEVENT
BEGIN:VEVENT
DTSTART;VALUE=DATE:20260330
DTEND;VALUE=DATE:20260331
DTSTAMP:20260422T005252
CREATED:20260130T081225Z
LAST-MODIFIED:20260130T081225Z
UID:21486-1774828800-1774915199@www.vegatraining.eu
SUMMARY:Sistemista Informatico CompTIA A+ – 30032026 – Extensive
DESCRIPTION:Inizio Corso – Durata 69 ore – Lun. Mer. 18:30/21:30\nCorso di preparazione al conseguimento della: Certificazione CompTIA A+
URL:https://www.vegatraining.eu/calendario/sistemista-informatico-comptia-a-30032026-extensive/
ORGANIZER;CN="Vega Training":MAILTO:contatti@vegatraining.eu
END:VEVENT
BEGIN:VEVENT
DTSTART;VALUE=DATE:20260330
DTEND;VALUE=DATE:20260331
DTSTAMP:20260422T005252
CREATED:20260311T084837Z
LAST-MODIFIED:20260311T084837Z
UID:21602-1774828800-1774915199@www.vegatraining.eu
SUMMARY:ISO 27001 Foundation - 30032026 - Intensive
DESCRIPTION:Inizio Corso – Durata 2 gg – Full Time –\nIl Corso contribuisce alla preparazione dell’esame di Certificazione ISO/IEC 27001 Foundation
URL:https://www.vegatraining.eu/calendario/iso-27001-foundation-30032026-intensive/
ORGANIZER;CN="Vega Training":MAILTO:contatti@vegatraining.eu
END:VEVENT
BEGIN:VEVENT
DTSTART;VALUE=DATE:20260330
DTEND;VALUE=DATE:20260331
DTSTAMP:20260422T005252
CREATED:20260312T093530Z
LAST-MODIFIED:20260312T094036Z
UID:21623-1774828800-1774915199@www.vegatraining.eu
SUMMARY:Architecting on AWS – 30032026 – Fractional
DESCRIPTION:Inizio Corso – Durata 3 gg – Full Time – Versione Frazionata.\nCorso di preparazione al conseguimento della\nCertificazione AWS Certified Solutions Architect – Associate
URL:https://www.vegatraining.eu/calendario/architecting-on-aws-30032026-intensive/
ORGANIZER;CN="Vega Training":MAILTO:contatti@vegatraining.eu
END:VEVENT
BEGIN:VEVENT
DTSTART;VALUE=DATE:20260407
DTEND;VALUE=DATE:20260408
DTSTAMP:20260422T005252
CREATED:20251030T083437Z
LAST-MODIFIED:20251030T083437Z
UID:20777-1775520000-1775606399@www.vegatraining.eu
SUMMARY:Kubernetes Administrator CKA – 07042026 – Intensive
DESCRIPTION:Inizio Corso – Durata 4 gg – Full Time – Versione Intensiva.\nCorso propedeutico al conseguimento della: Certificazione Kubernetes Administrator CKA
URL:https://www.vegatraining.eu/calendario/kubernetes-administrator-cka-07042026-intensive/
ORGANIZER;CN="Vega Training":MAILTO:contatti@vegatraining.eu
END:VEVENT
BEGIN:VEVENT
DTSTART;VALUE=DATE:20260410
DTEND;VALUE=DATE:20260411
DTSTAMP:20260422T005252
CREATED:20260323T112023Z
LAST-MODIFIED:20260323T112023Z
UID:21669-1775779200-1775865599@www.vegatraining.eu
SUMMARY:Microsoft 365 fundamentals MS-900 - 10042026 - Intensive
DESCRIPTION:Inizio Corso – Durata 1 gg – Full Time – Versione Intensiva.\nIl corso contribuisce alla preparazione dell’esame di Certificazione Microsoft MS-900 Microsoft 365 Fundamentals
URL:https://www.vegatraining.eu/calendario/microsoft-365-fundamentals-ms-900-10042026-intensive/
ORGANIZER;CN="Vega Training":MAILTO:contatti@vegatraining.eu
END:VEVENT
BEGIN:VEVENT
DTSTART;VALUE=DATE:20260413
DTEND;VALUE=DATE:20260414
DTSTAMP:20260422T005252
CREATED:20251031T102531Z
LAST-MODIFIED:20251031T102531Z
UID:20798-1776038400-1776124799@www.vegatraining.eu
SUMMARY:CompTIA Security+ – 13042026 – Intensive
DESCRIPTION:Inizio Corso – Durata 5gg – Full Time – Versione Intensiva.\nCorso di preparazione al conseguimento della:\nCertificazione CompTIA Security+ (Esame SY0-701)
URL:https://www.vegatraining.eu/calendario/comptia-security-13042026-intensive/
ORGANIZER;CN="Vega Training":MAILTO:contatti@vegatraining.eu
END:VEVENT
BEGIN:VEVENT
DTSTART;VALUE=DATE:20260413
DTEND;VALUE=DATE:20260414
DTSTAMP:20260422T005252
CREATED:20251107T120145Z
LAST-MODIFIED:20251107T120145Z
UID:20854-1776038400-1776124799@www.vegatraining.eu
SUMMARY:CCNP DCCOR - 13042026 - Intensive
DESCRIPTION:Inizio Corso – Durata 5 gg – Full Time\nCorso di preparazione al conseguimento della\nCertificazione Cisco CCNP Data Center DCCOR\nEsame 350-601 Parte della Certificazione Cisco CCNP Data Center\nImplementing and Operating Cisco Data Center Core Technologies (DCCOR)
URL:https://www.vegatraining.eu/calendario/ccnp-dccor-13042026-intensive/
ORGANIZER;CN="Vega Training":MAILTO:contatti@vegatraining.eu
END:VEVENT
BEGIN:VEVENT
DTSTART;VALUE=DATE:20260413
DTEND;VALUE=DATE:20260414
DTSTAMP:20260422T005252
CREATED:20251216T145842Z
LAST-MODIFIED:20251216T145842Z
UID:21289-1776038400-1776124799@www.vegatraining.eu
SUMMARY:VMware vSphere Foundation: Build\, Manage and Operate [V9.0] – 13042026 – Intensive (TD SYNNEX)
DESCRIPTION:Inizio Corso – Durata 5 gg – Dal Lunedì al Venerdì – Formula Full Time.\nCorso di preparazione al conseguimento della:\nCertificazione VMware Certified Professional – VMware vSphere Foundation Administrator (VCP‑VVF Admin)
URL:https://www.vegatraining.eu/calendario/vmware-vsphere-foundation-build-manage-and-operate-v9-0-13042026-intensive-td-synnex/
ORGANIZER;CN="Vega Training":MAILTO:contatti@vegatraining.eu
END:VEVENT
BEGIN:VEVENT
DTSTART;VALUE=DATE:20260414
DTEND;VALUE=DATE:20260415
DTSTAMP:20260422T005252
CREATED:20260323T104240Z
LAST-MODIFIED:20260323T104240Z
UID:21661-1776124800-1776211199@www.vegatraining.eu
SUMMARY:Cloud Operations on AWS - 14042026 - Intensive
DESCRIPTION:Inizio Corso – Durata 3 gg – Full Time\nCorso di preparazione al conseguimento della\nCertificazione AWS Certified SysOps Administrator – Associate
URL:https://www.vegatraining.eu/calendario/cloud-operations-on-aws-14042026-intensive/
ORGANIZER;CN="Vega Training":MAILTO:contatti@vegatraining.eu
END:VEVENT
BEGIN:VEVENT
DTSTART;VALUE=DATE:20260420
DTEND;VALUE=DATE:20260421
DTSTAMP:20260422T005252
CREATED:20251110T111457Z
LAST-MODIFIED:20260330T070412Z
UID:20879-1776643200-1776729599@www.vegatraining.eu
SUMMARY:CCNP SPCOR – 20042026 – Intensive
DESCRIPTION:Inizio Corso – Durata 5 gg – Full Time – Versione Intensiva.\nCorso di preparazione al conseguimento della Certificazione Cisco CCNP Service Provider SPCOR (Esame 350-501)
URL:https://www.vegatraining.eu/calendario/ccnp-spcor-13042026-intensive/
ORGANIZER;CN="Vega Training":MAILTO:contatti@vegatraining.eu
END:VEVENT
BEGIN:VEVENT
DTSTART;VALUE=DATE:20260420
DTEND;VALUE=DATE:20260421
DTSTAMP:20260422T005252
CREATED:20260325T083323Z
LAST-MODIFIED:20260325T083323Z
UID:21688-1776643200-1776729599@www.vegatraining.eu
SUMMARY:Cisco CCNA – 20042026 – Extensive – PM
DESCRIPTION:Inizio Corso – Durata 90 ore – Lun. Mer. 18:30/21:30\nCorso di preparazione al conseguimento della\nCertificazione Cisco CCNA Implementing and Administering Cisco Solutions (Esame 200-301)
URL:https://www.vegatraining.eu/calendario/cisco-ccna-20042026-extensive-pm/
ORGANIZER;CN="Vega Training":MAILTO:contatti@vegatraining.eu
END:VEVENT
BEGIN:VEVENT
DTSTART;VALUE=DATE:20260421
DTEND;VALUE=DATE:20260422
DTSTAMP:20260422T005252
CREATED:20251010T094626Z
LAST-MODIFIED:20251126T181257Z
UID:20655-1776729600-1776815999@www.vegatraining.eu
SUMMARY:Penetration Test CompTIA Pentest+ - 21042026 - Extensive
DESCRIPTION:Inizio corso – Durata 36 ore – Mar. Gio. 18:30/21:30\nCorso di preparazione al conseguimento della:\nCertificazione CompTIA PenTest+
URL:https://www.vegatraining.eu/calendario/penetration-test-comptia-pentest-14042026-extensive/
ORGANIZER;CN="Vega Training":MAILTO:contatti@vegatraining.eu
END:VEVENT
BEGIN:VEVENT
DTSTART;VALUE=DATE:20260427
DTEND;VALUE=DATE:20260428
DTSTAMP:20260422T005252
CREATED:20251106T082858Z
LAST-MODIFIED:20251106T082858Z
UID:20825-1777248000-1777334399@www.vegatraining.eu
SUMMARY:Kubernetes Developer CKAD – 27042026 – Intensive
DESCRIPTION:Inizio Corso – Durata 3 gg – Full Time – Versione Intensiva.\nCorso di preparazione al conseguimento della Certificazione Kubernetes Application Developer CKAD
URL:https://www.vegatraining.eu/calendario/kubernetes-developer-ckad-27042026-intensive/
ORGANIZER;CN="Vega Training":MAILTO:contatti@vegatraining.eu
END:VEVENT
BEGIN:VEVENT
DTSTART;VALUE=DATE:20260427
DTEND;VALUE=DATE:20260428
DTSTAMP:20260422T005252
CREATED:20251216T143537Z
LAST-MODIFIED:20251216T143815Z
UID:21270-1777248000-1777334399@www.vegatraining.eu
SUMMARY:FortiGate Administrator (FortiOS Administrator) - 27042026 - Intensive
DESCRIPTION:Inizio Corso – Durata 4 gg – Full Time.\nIl corso contribuisce alla preparazione dell’esame di Certificazione FCP – FortiGate Administrator (FortiOS Administrator)\,\nparte delle Certificazioni:\n– Fortinet Certified Professional in Security Operations\n– Fortinet Certified Professional in Secure Networking
URL:https://www.vegatraining.eu/calendario/fortigate-administrator-fortios-administrator-27042026-intensive/
ORGANIZER;CN="Vega Training":MAILTO:contatti@vegatraining.eu
END:VEVENT
BEGIN:VEVENT
DTSTART;VALUE=DATE:20260428
DTEND;VALUE=DATE:20260429
DTSTAMP:20260422T005252
CREATED:20251030T090858Z
LAST-MODIFIED:20251030T090858Z
UID:20782-1777334400-1777420799@www.vegatraining.eu
SUMMARY:Administering Windows Server Hybrid Core Infrastructure – 28042026 – Extensive
DESCRIPTION:Inizio Corso – Durata 30 ore – Mar. Gio. 18:30/21:30\nCorso di preparazione al conseguimento della\nCertificazione Windows Server Hybrid Administrator Associate (Esame AZ-800)
URL:https://www.vegatraining.eu/calendario/administering-windows-server-hybrid-core-infrastructure-28042026-extensive/
ORGANIZER;CN="Vega Training":MAILTO:contatti@vegatraining.eu
END:VEVENT
BEGIN:VEVENT
DTSTART;VALUE=DATE:20260504
DTEND;VALUE=DATE:20260505
DTSTAMP:20260422T005252
CREATED:20251010T095024Z
LAST-MODIFIED:20251010T095024Z
UID:20658-1777852800-1777939199@www.vegatraining.eu
SUMMARY:Linux Administrator CompTIA Linux+ - 04052026 - Extensive
DESCRIPTION:Inizio Corso – Durata 60 ore – Lun. Gio. 18:30/21:30\nCorso di preparazione al conseguimento delle\nCertificazioni CompTIA Linux+
URL:https://www.vegatraining.eu/calendario/linux-administrator-comptia-linux-04052026-extensive/
ORGANIZER;CN="Vega Training":MAILTO:contatti@vegatraining.eu
END:VEVENT
BEGIN:VEVENT
DTSTART;VALUE=DATE:20260504
DTEND;VALUE=DATE:20260505
DTSTAMP:20260422T005252
CREATED:20251017T075305Z
LAST-MODIFIED:20251017T075305Z
UID:20725-1777852800-1777939199@www.vegatraining.eu
SUMMARY:Cisco CCNA – 04052026 – Intensive
DESCRIPTION:Inizio Corso – Durata 5 gg – Dal Lunedì al Venerdì – Formula Full Time – Versione CCNA Intensivo.\nCorso di preparazione al conseguimento della\nCertificazione Cisco CCNA Esame 200-301
URL:https://www.vegatraining.eu/calendario/cisco-ccna-04052026-intensive/
ORGANIZER;CN="Vega Training":MAILTO:contatti@vegatraining.eu
END:VEVENT
BEGIN:VEVENT
DTSTART;VALUE=DATE:20260504
DTEND;VALUE=DATE:20260505
DTSTAMP:20260422T005252
CREATED:20251031T104620Z
LAST-MODIFIED:20251031T104620Z
UID:20811-1777852800-1777939199@www.vegatraining.eu
SUMMARY:Cybersecurity Analyst CompTIA CySA+ – 04052026 – Intensive
DESCRIPTION:Inizio Corso – Durata 5 gg – Full Time – Versione intensiva\nCorso di preparazione al conseguimento della: Certificazione CompTIA CySA+ (CS0-003)
URL:https://www.vegatraining.eu/calendario/cybersecurity-analyst-comptia-cysa-04052026-intensive/
ORGANIZER;CN="Vega Training":MAILTO:contatti@vegatraining.eu
END:VEVENT
BEGIN:VEVENT
DTSTART;VALUE=DATE:20260504
DTEND;VALUE=DATE:20260505
DTSTAMP:20260422T005252
CREATED:20251107T095436Z
LAST-MODIFIED:20260123T104039Z
UID:20843-1777852800-1777939199@www.vegatraining.eu
SUMMARY:CCNP SISE – 04052026 – Intensive
DESCRIPTION:Inizio Corso – Durata 5 gg – Full Time\nCorso di preparazione all’Esame 300-715\nParte della Certificazione Cisco CCNP Security\nImplementing and Configuring Cisco Identity Services Engine (SISE)
URL:https://www.vegatraining.eu/calendario/ccnp-sise-09022026-intensive/
ORGANIZER;CN="Vega Training":MAILTO:contatti@vegatraining.eu
END:VEVENT
BEGIN:VEVENT
DTSTART;VALUE=DATE:20260504
DTEND;VALUE=DATE:20260505
DTSTAMP:20260422T005252
CREATED:20251211T105919Z
LAST-MODIFIED:20251211T105919Z
UID:21230-1777852800-1777939199@www.vegatraining.eu
SUMMARY:Architecting with Google Compute Engine – 04052026 – Intensive
DESCRIPTION:Inizio Corso – Durata 3gg – Full Time.\nCorso di preparazione al conseguimento delle Certificazioni: \n\nGoogle Cloud Certified Associate Cloud Engineer\nGoogle Cloud Certified Professional Cloud Architect
URL:https://www.vegatraining.eu/calendario/architecting-with-google-compute-engine-04052026-intensive/
ORGANIZER;CN="Vega Training":MAILTO:contatti@vegatraining.eu
END:VEVENT
BEGIN:VEVENT
DTSTART;VALUE=DATE:20260504
DTEND;VALUE=DATE:20260505
DTSTAMP:20260422T005252
CREATED:20260205T105936Z
LAST-MODIFIED:20260205T152207Z
UID:21494-1777852800-1777939199@www.vegatraining.eu
SUMMARY:Microsoft 365 Endpoint Administrator MD-102 - 04052026 - Fractional
DESCRIPTION:Inizio Corso – Durata 5 gg – Full Time – Versione Frazionata.\nIl corso contribuisce alla preparazione dell’esame di\nCertificazione Microsoft 365 Certified Endpoint Administrator Associate.
URL:https://www.vegatraining.eu/calendario/microsoft-365-endpoint-administrator-md-102-27042026-fractional/
ORGANIZER;CN="Vega Training":MAILTO:contatti@vegatraining.eu
END:VEVENT
BEGIN:VEVENT
DTSTART;VALUE=DATE:20260505
DTEND;VALUE=DATE:20260506
DTSTAMP:20260422T005252
CREATED:20251216T144329Z
LAST-MODIFIED:20251216T144329Z
UID:21280-1777939200-1778025599@www.vegatraining.eu
SUMMARY:FortiManager Administrator – 05052026 – Intensive
DESCRIPTION:Inizio Corso – Durata 2 gg – Full Time.\nIl Corso contribuisce alla preparazione dell’esame di Certificazione FCP – FortiManager Administrator\,\nparte del percorso di certificazione Fortinet Certified Professional – Network Security
URL:https://www.vegatraining.eu/calendario/fortimanager-administrator-05052026-intensive/
ORGANIZER;CN="Vega Training":MAILTO:contatti@vegatraining.eu
END:VEVENT
BEGIN:VEVENT
DTSTART;VALUE=DATE:20260507
DTEND;VALUE=DATE:20260508
DTSTAMP:20260422T005252
CREATED:20260126T081737Z
LAST-MODIFIED:20260126T081737Z
UID:21460-1778112000-1778198399@www.vegatraining.eu
SUMMARY:FortiAnalyzer Analyst - 07052026 - Intensive
DESCRIPTION:Inizio Corso – Durata 2 gg – Full Time – Versione Intensiva.\nIl Corso contribuisce alla preparazione dell’esame dell’esame di\nCertificazione Fortinet NSE 5 – FortiAnalyzer Analyst\,\nparte del percorso di Certificazione Fortinet NSE 4 – Security Operations.
URL:https://www.vegatraining.eu/calendario/fortianalyzer-analyst-07052026-intensive/
ORGANIZER;CN="Vega Training":MAILTO:contatti@vegatraining.eu
END:VEVENT
BEGIN:VEVENT
DTSTART;VALUE=DATE:20260511
DTEND;VALUE=DATE:20260512
DTSTAMP:20260422T005252
CREATED:20251030T084036Z
LAST-MODIFIED:20251030T084036Z
UID:20780-1778457600-1778543999@www.vegatraining.eu
SUMMARY:Python Developer – 11052026 – Extensive
DESCRIPTION:Inizio Corso – Durata 33 ore – Lun. Mer. 18:30/21:30\nCorso di preparazione al conseguimento della:\nCertificazione Python Programming PCAP Associate
URL:https://www.vegatraining.eu/calendario/python-developer-11052026-extensive/
ORGANIZER;CN="Vega Training":MAILTO:contatti@vegatraining.eu
END:VEVENT
BEGIN:VEVENT
DTSTART;VALUE=DATE:20260511
DTEND;VALUE=DATE:20260512
DTSTAMP:20260422T005252
CREATED:20251126T142432Z
LAST-MODIFIED:20260224T151058Z
UID:21073-1778457600-1778543999@www.vegatraining.eu
SUMMARY:Nutanix Enterprise Cloud Administration (ECA) – 11052026 – Intensive
DESCRIPTION:Inizio Corso – Durata 4 gg – Formula Full Time.\nCorso di preparazione al conseguimento della\nCertificazione Nutanix Certified Professional – Multicloud Infrastructure (NCP-MCI)
URL:https://www.vegatraining.eu/calendario/nutanix-enterprise-cloud-administration-eca-12052026-intensive/
ORGANIZER;CN="Vega Training":MAILTO:contatti@vegatraining.eu
END:VEVENT
END:VCALENDAR