BEGIN:VCALENDAR
VERSION:2.0
PRODID:-//Vega Training - ECPv6.15.20//NONSGML v1.0//EN
CALSCALE:GREGORIAN
METHOD:PUBLISH
X-WR-CALNAME:Vega Training
X-ORIGINAL-URL:https://www.vegatraining.eu
X-WR-CALDESC:Eventi per Vega Training
REFRESH-INTERVAL;VALUE=DURATION:PT1H
X-Robots-Tag:noindex
X-PUBLISHED-TTL:PT1H
BEGIN:VTIMEZONE
TZID:Europe/Rome
BEGIN:DAYLIGHT
TZOFFSETFROM:+0100
TZOFFSETTO:+0200
TZNAME:CEST
DTSTART:20230326T010000
END:DAYLIGHT
BEGIN:STANDARD
TZOFFSETFROM:+0200
TZOFFSETTO:+0100
TZNAME:CET
DTSTART:20231029T010000
END:STANDARD
BEGIN:DAYLIGHT
TZOFFSETFROM:+0100
TZOFFSETTO:+0200
TZNAME:CEST
DTSTART:20240331T010000
END:DAYLIGHT
BEGIN:STANDARD
TZOFFSETFROM:+0200
TZOFFSETTO:+0100
TZNAME:CET
DTSTART:20241027T010000
END:STANDARD
BEGIN:DAYLIGHT
TZOFFSETFROM:+0100
TZOFFSETTO:+0200
TZNAME:CEST
DTSTART:20250330T010000
END:DAYLIGHT
BEGIN:STANDARD
TZOFFSETFROM:+0200
TZOFFSETTO:+0100
TZNAME:CET
DTSTART:20251026T010000
END:STANDARD
END:VTIMEZONE
BEGIN:VTIMEZONE
TZID:UTC
BEGIN:STANDARD
TZOFFSETFROM:+0000
TZOFFSETTO:+0000
TZNAME:UTC
DTSTART:20230101T000000
END:STANDARD
END:VTIMEZONE
BEGIN:VEVENT
DTSTART;VALUE=DATE:20240311
DTEND;VALUE=DATE:20240312
DTSTAMP:20260422T221310
CREATED:20231228T143801Z
LAST-MODIFIED:20231228T154106Z
UID:15215-1710115200-1710201599@www.vegatraining.eu
SUMMARY:Check Point CCSE - 11032024 - Intensive
DESCRIPTION:Inizio Corso – Durata 3 gg – Full Time – Versione Intensiva.\nCorso di preparazione al conseguimento della Certificazione Check Point CCSE\nCheck Point Cyber Security Engineering (CCSE)
URL:https://www.vegatraining.eu/calendario/check-point-ccse-11032024-intensive/
ORGANIZER;CN="Vega Training":MAILTO:contatti@vegatraining.eu
END:VEVENT
BEGIN:VEVENT
DTSTART;VALUE=DATE:20240311
DTEND;VALUE=DATE:20240312
DTSTAMP:20260422T221310
CREATED:20231228T143759Z
LAST-MODIFIED:20231228T154710Z
UID:15182-1710115200-1710201599@www.vegatraining.eu
SUMMARY:AWS Cloud Practitioner Essentials – 11032024 – Intensive
DESCRIPTION:Inizio Corso – Durata 1 gg – Full Time – Versione Intensiva.\nCorso di preparazione al conseguimento della Certificazione AWS Certified Cloud Practitioner
URL:https://www.vegatraining.eu/calendario/aws-cloud-practitioner-essentials-11032024-intensive/
ORGANIZER;CN="Vega Training":MAILTO:contatti@vegatraining.eu
END:VEVENT
BEGIN:VEVENT
DTSTART;VALUE=DATE:20240311
DTEND;VALUE=DATE:20240312
DTSTAMP:20260422T221310
CREATED:20231228T143754Z
LAST-MODIFIED:20231228T154705Z
UID:15150-1710115200-1710201599@www.vegatraining.eu
SUMMARY:Kubernetes Administrator CKA – 11032024 – Intensive
DESCRIPTION:Inizio Corso – Durata 5 gg – Full Time – Versione Intensiva.\nCorso propedeutico al conseguimento della: Certificazione Kubernetes Administrator CKA
URL:https://www.vegatraining.eu/calendario/kubernetes-administrator-cka-11032024-intensive/
ORGANIZER;CN="Vega Training":MAILTO:contatti@vegatraining.eu
END:VEVENT
BEGIN:VEVENT
DTSTART;VALUE=DATE:20240305
DTEND;VALUE=DATE:20240306
DTSTAMP:20260422T221310
CREATED:20240131T174448Z
LAST-MODIFIED:20240219T095210Z
UID:16364-1709596800-1709683199@www.vegatraining.eu
SUMMARY:Cisco CCNA – 05032024 – Extensive - PM
DESCRIPTION:Inizio Corso – Durata 120 ore – Mar. Gio. 18:30/21:30\nCorso di preparazione al conseguimento della Certificazione Cisco CCNA Implementing and Administering Cisco Networking Technologies
URL:https://www.vegatraining.eu/calendario/cisco-ccna-27022024-extensive/
LOCATION:Vega Training Italia\, Vega Training\, Online\, Italia
ORGANIZER;CN="Vega Training":MAILTO:contatti@vegatraining.eu
END:VEVENT
BEGIN:VEVENT
DTSTART;VALUE=DATE:20240304
DTEND;VALUE=DATE:20240305
DTSTAMP:20260422T221310
CREATED:20240220T073035Z
LAST-MODIFIED:20240220T073035Z
UID:16462-1709510400-1709596799@www.vegatraining.eu
SUMMARY:Developing on AWS – 04032024 – Intensive
DESCRIPTION:Inizio Corso – Durata 3 gg – Full Time\nCorso di preparazione al conseguimento della\nCertificazione AWS Certified Developer – Associate
URL:https://www.vegatraining.eu/calendario/developing-on-aws-04032024-intensive/
LOCATION:Vega Training Italia\, Vega Training\, Online\, Italia
ORGANIZER;CN="Vega Training":MAILTO:contatti@vegatraining.eu
END:VEVENT
BEGIN:VEVENT
DTSTART;VALUE=DATE:20240304
DTEND;VALUE=DATE:20240305
DTSTAMP:20260422T221310
CREATED:20240123T125107Z
LAST-MODIFIED:20240123T125107Z
UID:16294-1709510400-1709596799@www.vegatraining.eu
SUMMARY:Architecting with Google Kubernetes Engine - 04032024 - Intensive
DESCRIPTION:Inizio Corso – Durata 3 gg – Full Time\nCorso di preparazione alla certificazione Google Cloud Certified Professional Cloud Architect
URL:https://www.vegatraining.eu/calendario/architecting-with-google-kubernetes-engine-04032024-intensive/
LOCATION:Vega Training Italia\, Vega Training\, Online\, Italia
ORGANIZER;CN="Vega Training":MAILTO:contatti@vegatraining.eu
END:VEVENT
BEGIN:VEVENT
DTSTART;VALUE=DATE:20240304
DTEND;VALUE=DATE:20240305
DTSTAMP:20260422T221310
CREATED:20231228T143801Z
LAST-MODIFIED:20231228T154643Z
UID:15217-1709510400-1709596799@www.vegatraining.eu
SUMMARY:Cisco CCNA – 04032024 – Intensive
DESCRIPTION:Inizio Corso – Durata 5 gg – Dal Lunedì al Venerdì – Formula Full Time – Versione CCNA Intensivo.\nCorso di preparazione al conseguimento della\nCertificazione Cisco CCNA Esame 200-301
URL:https://www.vegatraining.eu/calendario/cisco-ccna-04032024-intensive/
ORGANIZER;CN="Vega Training":MAILTO:contatti@vegatraining.eu
END:VEVENT
BEGIN:VEVENT
DTSTART;VALUE=DATE:20240304
DTEND;VALUE=DATE:20240305
DTSTAMP:20260422T221310
CREATED:20231228T143741Z
LAST-MODIFIED:20240213T112021Z
UID:15019-1709510400-1709596799@www.vegatraining.eu
SUMMARY:Linux Administrator CompTIA Linux+ - 04032024 - Extensive
DESCRIPTION:Inizio Corso – Durata 60 ore – Lun. Gio. 18:30/21:30\nCorso di preparazione al conseguimento delle\nCertificazioni CompTIA Linux+
URL:https://www.vegatraining.eu/calendario/linux-administrator-comptia-linux-19022024-extensive/
ORGANIZER;CN="Vega Training":MAILTO:contatti@vegatraining.eu
END:VEVENT
BEGIN:VEVENT
DTSTART;VALUE=DATE:20240226
DTEND;VALUE=DATE:20240227
DTSTAMP:20260422T221310
CREATED:20240125T154525Z
LAST-MODIFIED:20240125T154525Z
UID:16331-1708905600-1708991999@www.vegatraining.eu
SUMMARY:VMware vSphere with Tanzu: Deploy\, Configure\, Manage [V8] - 26022024 - Intensive
DESCRIPTION:Inizio Corso – Durata 3 gg – Full Time. Corso di preparazione al conseguimento della Certificazione VMware Certified Specialist vSphere with Tanzu 2024
URL:https://www.vegatraining.eu/calendario/vmware-vsphere-with-tanzu-deploy-configure-manage-v8-26022024-intensive/
LOCATION:Vega Training Italia\, Vega Training\, Online\, Italia
ORGANIZER;CN="Vega Training":MAILTO:contatti@vegatraining.eu
END:VEVENT
BEGIN:VEVENT
DTSTART;VALUE=DATE:20240226
DTEND;VALUE=DATE:20240227
DTSTAMP:20260422T221310
CREATED:20240123T124250Z
LAST-MODIFIED:20240123T124250Z
UID:16292-1708905600-1708991999@www.vegatraining.eu
SUMMARY:Logging\, Monitoring and Observability in Google Cloud - 26022024 - Intensive
DESCRIPTION:Inizio Corso – Durata 3 gg – Full Time\nCorso di preparazione alla certificazione Google Cloud Certified Associate Cloud Engineer
URL:https://www.vegatraining.eu/calendario/logging-monitoring-and-observability-in-google-cloud-26022024-intensive/
LOCATION:Vega Training Italia\, Vega Training\, Online\, Italia
ORGANIZER;CN="Vega Training":MAILTO:contatti@vegatraining.eu
END:VEVENT
BEGIN:VEVENT
DTSTART;VALUE=DATE:20240226
DTEND;VALUE=DATE:20240227
DTSTAMP:20260422T221310
CREATED:20240122T152105Z
LAST-MODIFIED:20240122T152105Z
UID:16273-1708905600-1708991999@www.vegatraining.eu
SUMMARY:VMware vSphere OSS - 26022024 - Intensive (TD SYNNEX)
DESCRIPTION:Inizio Corso – Durata 5 gg – Dal Lunedì al Venerdì – Formula Full Time.\nCorso di preparazione al conseguimento della VMware Certified Professional Data Center Virtualization (VCP-DCV 2024)
URL:https://www.vegatraining.eu/calendario/vmware-vsphere-oss-26022024-intensive-td-synnex/
LOCATION:Vega Training Italia\, Vega Training\, Online\, Italia
ORGANIZER;CN="Vega Training":MAILTO:contatti@vegatraining.eu
END:VEVENT
BEGIN:VEVENT
DTSTART;VALUE=DATE:20240226
DTEND;VALUE=DATE:20240227
DTSTAMP:20260422T221310
CREATED:20231228T143803Z
LAST-MODIFIED:20240129T151125Z
UID:15234-1708905600-1708991999@www.vegatraining.eu
SUMMARY:CompTIA Security+ – 26022024 – Intensive - English Edition
DESCRIPTION:Inizio Corso – Durata 5gg – Full Time – Versione Intensiva.\nCorso di preparazione al conseguimento della:\nCertificazione CompTIA Security+
URL:https://www.vegatraining.eu/calendario/comptia-security-26022024-intensive-english-edition/
ORGANIZER;CN="Vega Training":MAILTO:contatti@vegatraining.eu
END:VEVENT
BEGIN:VEVENT
DTSTART;VALUE=DATE:20240226
DTEND;VALUE=DATE:20240227
DTSTAMP:20260422T221310
CREATED:20231228T143803Z
LAST-MODIFIED:20231228T154638Z
UID:15219-1708905600-1708991999@www.vegatraining.eu
SUMMARY:Cybersecurity CBROPS – 26022024 – Intensive
DESCRIPTION:Inizio Corso – Durata 5 gg – Dal Lunedì al Venerdì – Formula Full Time – Versione CyberOps Intensivo.\nCorso di preparazione al conseguimento della\nCertificazione Cisco CyberOps Associate\nUnderstanding Cisco Cybersecurity Operations Fundamentals (CBROPS) \n\n\n\n\n Salva nel tuo calendario
URL:https://www.vegatraining.eu/calendario/cybersecurity-cbrops-26022024-intensive/
ORGANIZER;CN="Vega Training":MAILTO:contatti@vegatraining.eu
END:VEVENT
BEGIN:VEVENT
DTSTART;VALUE=DATE:20240219
DTEND;VALUE=DATE:20240220
DTSTAMP:20260422T221310
CREATED:20231228T143803Z
LAST-MODIFIED:20231228T154624Z
UID:15229-1708300800-1708387199@www.vegatraining.eu
SUMMARY:Fortinet NSE4 – 19022024 – Intensive
DESCRIPTION:Inizio Corso – Durata 5 gg – Full Time – Versione Intensiva.\nCorso di preparazione al conseguimento della:\nCertificazione Fortinet NSE 4 Network Security Expert Professional
URL:https://www.vegatraining.eu/calendario/fortinet-nse4-19022024-intensive/
ORGANIZER;CN="Vega Training":MAILTO:contatti@vegatraining.eu
END:VEVENT
BEGIN:VEVENT
DTSTART;VALUE=DATE:20240219
DTEND;VALUE=DATE:20240220
DTSTAMP:20260422T221310
CREATED:20231228T143801Z
LAST-MODIFIED:20231228T154620Z
UID:15207-1708300800-1708387199@www.vegatraining.eu
SUMMARY:Python Developer – 19022024 – Extensive
DESCRIPTION:Inizio Corso – Durata 33 ore – Lun. Mer. 18:30/21:30\nCorso di preparazione al conseguimento della:\nCertificazione Python Programming PCAP Associate
URL:https://www.vegatraining.eu/calendario/python-developer-19022024-extensive/
ORGANIZER;CN="Vega Training":MAILTO:contatti@vegatraining.eu
END:VEVENT
BEGIN:VEVENT
DTSTART;VALUE=DATE:20240219
DTEND;VALUE=DATE:20240220
DTSTAMP:20260422T221310
CREATED:20231228T143759Z
LAST-MODIFIED:20240102T102403Z
UID:15193-1708300800-1708387199@www.vegatraining.eu
SUMMARY:Architecting on AWS – 190202024 – Intensive
DESCRIPTION:Inizio Corso – Durata 3 gg – Full Time\nCorso di preparazione al conseguimento della\nCertificazione AWS Certified Solutions Architect – Associate
URL:https://www.vegatraining.eu/calendario/architecting-on-aws-190202024-intensive/
ORGANIZER;CN="Vega Training":MAILTO:contatti@vegatraining.eu
END:VEVENT
BEGIN:VEVENT
DTSTART;VALUE=DATE:20240215
DTEND;VALUE=DATE:20240216
DTSTAMP:20260422T221310
CREATED:20231228T143801Z
LAST-MODIFIED:20231228T154607Z
UID:15211-1707955200-1708041599@www.vegatraining.eu
SUMMARY:Check Point CCTA – 15022024 – Intensive
DESCRIPTION:Inizio Corso – Durata 2 gg – Full Time – Versione Intensiva.\nCorso di preparazione al conseguimento della\nCertificazione Check Point CCTA\nCheck Point Troubleshooting Administrator (CCTA)
URL:https://www.vegatraining.eu/calendario/check-point-ccta-15022024-intensive/
ORGANIZER;CN="Vega Training":MAILTO:contatti@vegatraining.eu
END:VEVENT
BEGIN:VEVENT
DTSTART;VALUE=DATE:20240214
DTEND;VALUE=DATE:20240215
DTSTAMP:20260422T221310
CREATED:20240108T103927Z
LAST-MODIFIED:20240108T104116Z
UID:16085-1707868800-1707955199@www.vegatraining.eu
SUMMARY:Microsoft 365 Endpoint Administrator MD-102 - 14022024 - Fractional
DESCRIPTION:Inizio Corso – Durata 5 gg – Full Time – Versione Frazionata.Il corso contribuisce alla preparazione dell’esame di Certificazione Microsoft 365 Certified Endpoint Administrator Associate.
URL:https://www.vegatraining.eu/calendario/microsoft-365-endpoint-administrator-md-102-14022024-internal-fractional/
LOCATION:Vega Training Italia\, Vega Training\, Online\, Italia
ORGANIZER;CN="Vega Training":MAILTO:contatti@vegatraining.eu
END:VEVENT
BEGIN:VEVENT
DTSTART;VALUE=DATE:20240214
DTEND;VALUE=DATE:20240215
DTSTAMP:20260422T221310
CREATED:20231228T143803Z
LAST-MODIFIED:20231228T154603Z
UID:15224-1707868800-1707955199@www.vegatraining.eu
SUMMARY:Architecting with Google Compute Engine – 14022024 – Intensive
DESCRIPTION:Inizio Corso – Durata 3gg – Full Time – Versione Intensiva. Corso di preparazione al conseguimento delle Certificazioni: \n\nGoogle Cloud Certified Associate Cloud Engineer\nGoogle Cloud Certified Professional Cloud Architect
URL:https://www.vegatraining.eu/calendario/architecting-with-google-compute-engine-14022024-intensive/
ORGANIZER;CN="Vega Training":MAILTO:contatti@vegatraining.eu
END:VEVENT
BEGIN:VEVENT
DTSTART;VALUE=DATE:20240213
DTEND;VALUE=DATE:20240214
DTSTAMP:20260422T221310
CREATED:20231228T143759Z
LAST-MODIFIED:20231228T154558Z
UID:15187-1707782400-1707868799@www.vegatraining.eu
SUMMARY:AWS Technical Essential – 13022024 – Intensive
DESCRIPTION:Inizio Corso – Durata 1 gg – Full Time\nCorso di preparazione al conseguimento della\n1 – Certificazione AWS Certified Solutions Architect – Associate;\n2 – Certificazione AWS Certified SysOps Administrator – Associate.
URL:https://www.vegatraining.eu/calendario/aws-technical-essential-13022024-intensive/
ORGANIZER;CN="Vega Training":MAILTO:contatti@vegatraining.eu
END:VEVENT
BEGIN:VEVENT
DTSTART;VALUE=DATE:20240213
DTEND;VALUE=DATE:20240214
DTSTAMP:20260422T221310
CREATED:20231228T143756Z
LAST-MODIFIED:20231228T154555Z
UID:15166-1707782400-1707868799@www.vegatraining.eu
SUMMARY:Windows Server – 13022024 – Extensive
DESCRIPTION:Inizio Corso – Durata 75 ore – Mar. Gio. 18:30/21:30\nCorso di preparazione al conseguimento della\nCertificazione Windows Server Hybrid Administrator Associate.\nIl percorso si articola in 2 moduli:\nAZ-800 – Administering Windows Server Hybrid Core Infrastructure;\nAZ-801 – Configuring Windows Server Hybrid Advanced Services.
URL:https://www.vegatraining.eu/calendario/windows-server-13022024-extensive/
ORGANIZER;CN="Vega Training":MAILTO:contatti@vegatraining.eu
END:VEVENT
BEGIN:VEVENT
DTSTART;VALUE=DATE:20240212
DTEND;VALUE=DATE:20240213
DTSTAMP:20260422T221310
CREATED:20231228T143803Z
LAST-MODIFIED:20231228T154550Z
UID:15233-1707696000-1707782399@www.vegatraining.eu
SUMMARY:VMware vSphere ICM – 12022024 – Intensive (TD SYNNEX) - English Edition
DESCRIPTION:Inizio Corso – Durata 5 gg – Dal Lunedì al Venerdì – Formula Full Time.\nCorso di preparazione al conseguimento della\nCertificazione VMware Certified Professional vSphere Data Center Virtualization VCP-DCV 2023
URL:https://www.vegatraining.eu/calendario/vmware-vsphere-icm-12022024-intensive-td-synnex-english-edition/
ORGANIZER;CN="Vega Training":MAILTO:contatti@vegatraining.eu
END:VEVENT
BEGIN:VEVENT
DTSTART;VALUE=DATE:20240212
DTEND;VALUE=DATE:20240213
DTSTAMP:20260422T221310
CREATED:20231228T143803Z
LAST-MODIFIED:20231228T154546Z
UID:15238-1707696000-1707782399@www.vegatraining.eu
SUMMARY:CCNP SISE – 12022024 – Intensive
DESCRIPTION:Inizio Corso – Durata 5 gg – Full Time\nCorso di preparazione all’Esame 300-715\nParte della Certificazione Cisco CCNP Security\nImplementing and Configuring Cisco Identity Services Engine (SISE)
URL:https://www.vegatraining.eu/calendario/ccnp-sise-12022024-intensive/
ORGANIZER;CN="Vega Training":MAILTO:contatti@vegatraining.eu
END:VEVENT
BEGIN:VEVENT
DTSTART;VALUE=DATE:20240212
DTEND;VALUE=DATE:20240213
DTSTAMP:20260422T221310
CREATED:20231228T143801Z
LAST-MODIFIED:20231228T154543Z
UID:15208-1707696000-1707782399@www.vegatraining.eu
SUMMARY:Check Point CCSA – 12022024 – Intensive
DESCRIPTION:Inizio Corso – Durata 3 gg – Full Time – Versione Intensiva.\nCorso di preparazione al conseguimento della\nCertificazione Check Point CCSA
URL:https://www.vegatraining.eu/calendario/check-point-ccsa-12022024-intensive/
ORGANIZER;CN="Vega Training":MAILTO:contatti@vegatraining.eu
END:VEVENT
BEGIN:VEVENT
DTSTART;VALUE=DATE:20240212
DTEND;VALUE=DATE:20240213
DTSTAMP:20260422T221310
CREATED:20231228T143759Z
LAST-MODIFIED:20231228T154538Z
UID:15181-1707696000-1707782399@www.vegatraining.eu
SUMMARY:AWS Cloud Practitioner Essentials – 12022024 – Intensive
DESCRIPTION:Inizio Corso – Durata 1 gg – Full Time – Versione Intensiva.\nCorso di preparazione al conseguimento della Certificazione AWS Certified Cloud Practitioner
URL:https://www.vegatraining.eu/calendario/aws-cloud-practitioner-essentials-12022024-intensive/
ORGANIZER;CN="Vega Training":MAILTO:contatti@vegatraining.eu
END:VEVENT
BEGIN:VEVENT
DTSTART;VALUE=DATE:20240209
DTEND;VALUE=DATE:20240210
DTSTAMP:20260422T221310
CREATED:20240123T123829Z
LAST-MODIFIED:20240123T123829Z
UID:16288-1707436800-1707523199@www.vegatraining.eu
SUMMARY:Getting Started with Terraform for Google Cloud - 09022024 - Intensive
DESCRIPTION:Inizio Corso – Durata 1 gg – Full Time\nCorso di preparazione alla certificazione Google Cloud Certified Associate Cloud Engineer
URL:https://www.vegatraining.eu/calendario/getting-started-with-terraform-for-google-cloud-09022024-intensive/
LOCATION:Vega Training Italia\, Vega Training\, Online\, Italia
ORGANIZER;CN="Vega Training":MAILTO:contatti@vegatraining.eu
END:VEVENT
BEGIN:VEVENT
DTSTART;VALUE=DATE:20240208
DTEND;VALUE=DATE:20240209
DTSTAMP:20260422T221310
CREATED:20240123T123300Z
LAST-MODIFIED:20240123T123612Z
UID:16285-1707350400-1707436799@www.vegatraining.eu
SUMMARY:Google Cloud Big Data and Machine Learning Fundamentals - 08022024 - Intensive
DESCRIPTION:Inizio Corso – Durata 1 gg – Full Time\nCorso di preparazione alla certificazione Google Cloud Certified Professional Data Engineer
URL:https://www.vegatraining.eu/calendario/google-cloud-big-data-and-machine-learning-fundamentals/
LOCATION:Vega Training Italia\, Vega Training\, Online\, Italia
ORGANIZER;CN="Vega Training":MAILTO:contatti@vegatraining.eu
END:VEVENT
BEGIN:VEVENT
DTSTART;VALUE=DATE:20240208
DTEND;VALUE=DATE:20240209
DTSTAMP:20260422T221310
CREATED:20231228T143803Z
LAST-MODIFIED:20231228T155723Z
UID:15222-1707350400-1707436799@www.vegatraining.eu
SUMMARY:Cloud Digital Leader training with Google Cloud – 08022024 – Intensive
DESCRIPTION:Inizio Corso – Durata 2gg – Full Time – Versione Intensiva.Corso di preparazione al conseguimento delle Certificazione: \n\nGoogle Cloud Certified Cloud Digital leader
URL:https://www.vegatraining.eu/calendario/cloud-digital-leader-training-with-google-cloud-08022024-intensive/
ORGANIZER;CN="Vega Training":MAILTO:contatti@vegatraining.eu
END:VEVENT
BEGIN:VEVENT
DTSTART;VALUE=DATE:20240207
DTEND;VALUE=DATE:20240208
DTSTAMP:20260422T221310
CREATED:20240123T122620Z
LAST-MODIFIED:20240123T123036Z
UID:16283-1707264000-1707350399@www.vegatraining.eu
SUMMARY:Getting Started with Google Kubernetes Engine - 07022024 - Intensive
DESCRIPTION:Inizio Corso – Durata 1 gg – Full Time\nCorso di preparazione alla certificazione Google Cloud Certified Associate Cloud Engineer
URL:https://www.vegatraining.eu/calendario/corso-getting-started-with-google-kubernetes-engine-07022024-intensive/
LOCATION:Vega Training Italia\, Vega Training\, Online\, Italia
ORGANIZER;CN="Vega Training":MAILTO:contatti@vegatraining.eu
END:VEVENT
BEGIN:VEVENT
DTSTART;VALUE=DATE:20240206
DTEND;VALUE=DATE:20240207
DTSTAMP:20260422T221310
CREATED:20231228T143803Z
LAST-MODIFIED:20231228T155719Z
UID:15226-1707177600-1707263999@www.vegatraining.eu
SUMMARY:Google Cloud Fundamentals: Core Infrastructure – 06022024 – Intensive
DESCRIPTION:Inizio Corso – Durata 1gg – Full Time – Versione Intensiva. Corso di preparazione al conseguimento delle Certificazioni: \nGoogle Cloud Certified Associate Cloud Engineer\nGoogle Cloud Certified Professional Cloud Architect
URL:https://www.vegatraining.eu/calendario/google-cloud-fundamentals-core-infrastructure-06022024-intensive/
ORGANIZER;CN="Vega Training":MAILTO:contatti@vegatraining.eu
END:VEVENT
END:VCALENDAR