BEGIN:VCALENDAR
VERSION:2.0
PRODID:-//Vega Training - ECPv6.15.20//NONSGML v1.0//EN
CALSCALE:GREGORIAN
METHOD:PUBLISH
X-WR-CALNAME:Vega Training
X-ORIGINAL-URL:https://www.vegatraining.eu
X-WR-CALDESC:Eventi per Vega Training
REFRESH-INTERVAL;VALUE=DURATION:PT1H
X-Robots-Tag:noindex
X-PUBLISHED-TTL:PT1H
BEGIN:VTIMEZONE
TZID:Europe/Rome
BEGIN:DAYLIGHT
TZOFFSETFROM:+0100
TZOFFSETTO:+0200
TZNAME:CEST
DTSTART:20230326T010000
END:DAYLIGHT
BEGIN:STANDARD
TZOFFSETFROM:+0200
TZOFFSETTO:+0100
TZNAME:CET
DTSTART:20231029T010000
END:STANDARD
BEGIN:DAYLIGHT
TZOFFSETFROM:+0100
TZOFFSETTO:+0200
TZNAME:CEST
DTSTART:20240331T010000
END:DAYLIGHT
BEGIN:STANDARD
TZOFFSETFROM:+0200
TZOFFSETTO:+0100
TZNAME:CET
DTSTART:20241027T010000
END:STANDARD
BEGIN:DAYLIGHT
TZOFFSETFROM:+0100
TZOFFSETTO:+0200
TZNAME:CEST
DTSTART:20250330T010000
END:DAYLIGHT
BEGIN:STANDARD
TZOFFSETFROM:+0200
TZOFFSETTO:+0100
TZNAME:CET
DTSTART:20251026T010000
END:STANDARD
END:VTIMEZONE
BEGIN:VTIMEZONE
TZID:UTC
BEGIN:STANDARD
TZOFFSETFROM:+0000
TZOFFSETTO:+0000
TZNAME:UTC
DTSTART:20230101T000000
END:STANDARD
END:VTIMEZONE
BEGIN:VEVENT
DTSTART;VALUE=DATE:20240408
DTEND;VALUE=DATE:20240409
DTSTAMP:20260422T223955
CREATED:20231228T143754Z
LAST-MODIFIED:20231228T154207Z
UID:15145-1712534400-1712620799@www.vegatraining.eu
SUMMARY:VMware vSphere ICM – 08042024 – Intensive (TD SYNNEX)
DESCRIPTION:Inizio Corso – Durata 5 gg – Dal Lunedì al Venerdì – Formula Full Time.\nCorso di preparazione al conseguimento della\nCertificazione VMware Certified Professional vSphere Data Center Virtualization VCP-DCV 2023
URL:https://www.vegatraining.eu/calendario/vmware-vsphere-icm-08042024-intensive-td-synnex/
ORGANIZER;CN="Vega Training":MAILTO:contatti@vegatraining.eu
END:VEVENT
BEGIN:VEVENT
DTSTART;VALUE=DATE:20240325
DTEND;VALUE=DATE:20240326
DTSTAMP:20260422T223955
CREATED:20240202T164539Z
LAST-MODIFIED:20240202T164539Z
UID:16388-1711324800-1711411199@www.vegatraining.eu
SUMMARY:Cisco Meraki - 25032024 - Intensive
DESCRIPTION:Inizio Corso – Durata 4gg – Full Time – Versione Intensiva. Il corso contribuisce alla preparazione dell’esame di Certificazione Cisco Meraki Solutions Specialist (Esame 500-220).
URL:https://www.vegatraining.eu/calendario/cisco-meraki-25032024-intensive/
LOCATION:Vega Training Italia\, Vega Training\, Online\, Italia
ORGANIZER;CN="Vega Training":MAILTO:contatti@vegatraining.eu
END:VEVENT
BEGIN:VEVENT
DTSTART;VALUE=DATE:20240325
DTEND;VALUE=DATE:20240326
DTSTAMP:20260422T223955
CREATED:20240123T130639Z
LAST-MODIFIED:20240123T130639Z
UID:16309-1711324800-1711411199@www.vegatraining.eu
SUMMARY:Developing Applications with Google Cloud - 25032024 - Intensive
DESCRIPTION:Inizio Corso – Durata 3 gg – Full Time\nCorso di preparazione alla certificazione Google Cloud Certified Professional Cloud Developer
URL:https://www.vegatraining.eu/calendario/developing-applications-with-google-cloud-25032024-intensive/
LOCATION:Vega Training Italia\, Vega Training\, Online\, Italia
ORGANIZER;CN="Vega Training":MAILTO:contatti@vegatraining.eu
END:VEVENT
BEGIN:VEVENT
DTSTART;VALUE=DATE:20240325
DTEND;VALUE=DATE:20240326
DTSTAMP:20260422T223955
CREATED:20240123T130348Z
LAST-MODIFIED:20240123T130348Z
UID:16306-1711324800-1711411199@www.vegatraining.eu
SUMMARY:Data Engineering on Google Cloud - 25032024 - Intensive
DESCRIPTION:Inizio Corso – Durata 4 gg – Full Time\nCorso di preparazione alla certificazione Google Cloud Certified Professional Data Engineer
URL:https://www.vegatraining.eu/calendario/data-engineering-on-google-cloud-25032024-intensive/
LOCATION:Vega Training Italia\, Vega Training\, Online\, Italia
ORGANIZER;CN="Vega Training":MAILTO:contatti@vegatraining.eu
END:VEVENT
BEGIN:VEVENT
DTSTART;VALUE=DATE:20240325
DTEND;VALUE=DATE:20240326
DTSTAMP:20260422T223955
CREATED:20240108T110012Z
LAST-MODIFIED:20240108T110012Z
UID:16089-1711324800-1711411199@www.vegatraining.eu
SUMMARY:Linux Administrator CompTIA Linux+ - 25032024 - Fractional
DESCRIPTION:Inizio Corso – Durata 5 gg – Full Time – Versione Frazionata. Il corso contribuisce alla preparazione dell’esame di Certificazione CompTIA Linux+.
URL:https://www.vegatraining.eu/calendario/linux-administrator-comptia-linux-25032024-fractional/
LOCATION:Vega Training Italia\, Vega Training\, Online\, Italia
ORGANIZER;CN="Vega Training":MAILTO:contatti@vegatraining.eu
END:VEVENT
BEGIN:VEVENT
DTSTART;VALUE=DATE:20240325
DTEND;VALUE=DATE:20240326
DTSTAMP:20260422T223955
CREATED:20231228T143805Z
LAST-MODIFIED:20231228T154203Z
UID:15240-1711324800-1711411199@www.vegatraining.eu
SUMMARY:Cybersecurity Analyst CompTIA CySA+ - 25032024 - Intensive
DESCRIPTION:Inizio Corso – Durata 5 gg – Full Time – Versione intensiva\nCorso di preparazione al conseguimento della: Certificazione CompTIA CySA+ (CS0-003)
URL:https://www.vegatraining.eu/calendario/cybersecurity-analyst-comptia-cysa-25032024-intensive/
ORGANIZER;CN="Vega Training":MAILTO:contatti@vegatraining.eu
END:VEVENT
BEGIN:VEVENT
DTSTART;VALUE=DATE:20240325
DTEND;VALUE=DATE:20240326
DTSTAMP:20260422T223955
CREATED:20231228T143803Z
LAST-MODIFIED:20231228T154157Z
UID:15228-1711324800-1711411199@www.vegatraining.eu
SUMMARY:CCNP ENARSI – 25032024 – Intensive
DESCRIPTION:Inizio Corso – Durata 5 gg – Full Time – Versione Intensiva.\nCorso di preparazione al conseguimento della\nCertificazione Cisco CCNP Enterprise ENARSI
URL:https://www.vegatraining.eu/calendario/ccnp-enarsi-25032024-intensive/
ORGANIZER;CN="Vega Training":MAILTO:contatti@vegatraining.eu
END:VEVENT
BEGIN:VEVENT
DTSTART;VALUE=DATE:20240325
DTEND;VALUE=DATE:20240326
DTSTAMP:20260422T223955
CREATED:20231228T143752Z
LAST-MODIFIED:20240123T092030Z
UID:15138-1711324800-1711411199@www.vegatraining.eu
SUMMARY:CCNP SCOR - 25032024 - Intensive
DESCRIPTION:Inizio Corso – Durata 5 gg – Full Time – Versione Intensiva.\nCorso di preparazione al conseguimento della Certificazione Cisco CCNP Security SCOR
URL:https://www.vegatraining.eu/calendario/ccnp-scor-22012024-intensive/
LOCATION:Vega Training Italia\, Vega Training\, Online\, Italia
ORGANIZER;CN="Vega Training":MAILTO:contatti@vegatraining.eu
END:VEVENT
BEGIN:VEVENT
DTSTART;VALUE=DATE:20240321
DTEND;VALUE=DATE:20240322
DTSTAMP:20260422T223955
CREATED:20231228T143754Z
LAST-MODIFIED:20231228T154152Z
UID:15154-1710979200-1711065599@www.vegatraining.eu
SUMMARY:Azure Fundamentals AZ-900 – 21032024 – Intensive
DESCRIPTION:Inizio Corso – Durata 1 gg – Full Time – Versione Intensiva. Corso di preparazione al conseguimento della Certificazione Azure Fundamentals Esame AZ-900
URL:https://www.vegatraining.eu/calendario/azure-fundamentals-az-900-21032024-intensive/
ORGANIZER;CN="Vega Training":MAILTO:contatti@vegatraining.eu
END:VEVENT
BEGIN:VEVENT
DTSTART;VALUE=DATE:20240318
DTEND;VALUE=DATE:20240319
DTSTAMP:20260422T223955
CREATED:20240123T130038Z
LAST-MODIFIED:20240123T130038Z
UID:16303-1710720000-1710806399@www.vegatraining.eu
SUMMARY:Security in Google Cloud
DESCRIPTION:Inizio Corso – Durata 3 gg – Full Time\nCorso di preparazione alla certificazione Google Cloud Certified Professional Cloud Security Engineer
URL:https://www.vegatraining.eu/calendario/security-in-google-cloud/
LOCATION:Vega Training Italia\, Vega Training\, Online\, Italia
ORGANIZER;CN="Vega Training":MAILTO:contatti@vegatraining.eu
END:VEVENT
BEGIN:VEVENT
DTSTART;VALUE=DATE:20240318
DTEND;VALUE=DATE:20240319
DTSTAMP:20260422T223955
CREATED:20231228T143805Z
LAST-MODIFIED:20231228T154148Z
UID:15239-1710720000-1710806399@www.vegatraining.eu
SUMMARY:CCNP SISE – 18032024 – Intensive
DESCRIPTION:Inizio Corso – Durata 5 gg – Full Time\nCorso di preparazione all’Esame 300-715\nParte della Certificazione Cisco CCNP Security\nImplementing and Configuring Cisco Identity Services Engine (SISE)
URL:https://www.vegatraining.eu/calendario/ccnp-sise-18032024-intensive/
ORGANIZER;CN="Vega Training":MAILTO:contatti@vegatraining.eu
END:VEVENT
BEGIN:VEVENT
DTSTART;VALUE=DATE:20240318
DTEND;VALUE=DATE:20240319
DTSTAMP:20260422T223955
CREATED:20231228T143759Z
LAST-MODIFIED:20240102T102443Z
UID:15194-1710720000-1710806399@www.vegatraining.eu
SUMMARY:Architecting on AWS – 180302024 – Intensive
DESCRIPTION:Inizio Corso – Durata 3 gg – Full Time\nCorso di preparazione al conseguimento della\nCertificazione AWS Certified Solutions Architect – Associate
URL:https://www.vegatraining.eu/calendario/architecting-on-aws-180302024-intensive/
ORGANIZER;CN="Vega Training":MAILTO:contatti@vegatraining.eu
END:VEVENT
BEGIN:VEVENT
DTSTART;VALUE=DATE:20240314
DTEND;VALUE=DATE:20240315
DTSTAMP:20260422T223955
CREATED:20240123T125801Z
LAST-MODIFIED:20240123T125801Z
UID:16300-1710374400-1710460799@www.vegatraining.eu
SUMMARY:Networking in Google Cloud - 14032024
DESCRIPTION:Inizio Corso – Durata 2 gg – Full Time\nCorso di preparazione alla certificazione Google Cloud Certified Professional Cloud Network Engineer
URL:https://www.vegatraining.eu/calendario/networking-in-google-cloud-14032024/
LOCATION:Vega Training Italia\, Vega Training\, Online\, Italia
ORGANIZER;CN="Vega Training":MAILTO:contatti@vegatraining.eu
END:VEVENT
BEGIN:VEVENT
DTSTART;VALUE=DATE:20240314
DTEND;VALUE=DATE:20240315
DTSTAMP:20260422T223955
CREATED:20231228T143801Z
LAST-MODIFIED:20231228T154140Z
UID:15213-1710374400-1710460799@www.vegatraining.eu
SUMMARY:Check Point CCTE – 14032024 – Intensive
DESCRIPTION:Inizio Corso – Durata 2 gg – Full Time – Versione Intensiva. Corso di preparazione al conseguimento della\nCertificazione Check Point CCTE  Check Point Troubleshooting Expert (CCTE)
URL:https://www.vegatraining.eu/calendario/check-point-ccte-14032024-intensive/
ORGANIZER;CN="Vega Training":MAILTO:contatti@vegatraining.eu
END:VEVENT
BEGIN:VEVENT
DTSTART;VALUE=DATE:20240312
DTEND;VALUE=DATE:20240313
DTSTAMP:20260422T223955
CREATED:20231228T143759Z
LAST-MODIFIED:20231228T154137Z
UID:15188-1710201600-1710287999@www.vegatraining.eu
SUMMARY:AWS Technical Essential – 12032024 – Intensive
DESCRIPTION:Inizio Corso – Durata 1 gg – Full Time\nCorso di preparazione al conseguimento della\n1 – Certificazione AWS Certified Solutions Architect – Associate;\n2 – Certificazione AWS Certified SysOps Administrator – Associate.
URL:https://www.vegatraining.eu/calendario/aws-technical-essential-12032024-intensive/
ORGANIZER;CN="Vega Training":MAILTO:contatti@vegatraining.eu
END:VEVENT
BEGIN:VEVENT
DTSTART;VALUE=DATE:20240311
DTEND;VALUE=DATE:20240312
DTSTAMP:20260422T223955
CREATED:20240213T083735Z
LAST-MODIFIED:20240213T083735Z
UID:16432-1710115200-1710201599@www.vegatraining.eu
SUMMARY:Check Point CCSA – 12022024 – Intensive
DESCRIPTION:Inizio Corso – Durata 3 gg – Full Time – Versione Intensiva.\nCorso di preparazione al conseguimento della\nCertificazione Check Point CCSA
URL:https://www.vegatraining.eu/calendario/check-point-ccsa-12022024-intensive-2/
LOCATION:Vega Training Italia\, Vega Training\, Online\, Italia
ORGANIZER;CN="Vega Training":MAILTO:contatti@vegatraining.eu
END:VEVENT
BEGIN:VEVENT
DTSTART;VALUE=DATE:20240311
DTEND;VALUE=DATE:20240312
DTSTAMP:20260422T223955
CREATED:20240129T150842Z
LAST-MODIFIED:20240226T121137Z
UID:16349-1710115200-1710201599@www.vegatraining.eu
SUMMARY:CompTIA Security+ – 11032024 – Intensive
DESCRIPTION:Inizio Corso – Durata 5gg – Full Time – Versione Intensiva.\nCorso di preparazione al conseguimento della:\nCertificazione CompTIA Security+
URL:https://www.vegatraining.eu/calendario/febbraio-26-comptia-security-18032024-intensive/
LOCATION:Vega Training Italia\, Vega Training\, Online\, Italia
ORGANIZER;CN="Vega Training":MAILTO:contatti@vegatraining.eu
END:VEVENT
BEGIN:VEVENT
DTSTART;VALUE=DATE:20240311
DTEND;VALUE=DATE:20240312
DTSTAMP:20260422T223955
CREATED:20240125T150823Z
LAST-MODIFIED:20240125T150823Z
UID:16323-1710115200-1710201599@www.vegatraining.eu
SUMMARY:Corso VMware Horizon: Deploy and Manage - 11032024 - Intensive
DESCRIPTION:Inizio Corso – Durata 5gg – Full Time – Versione Intensiva. Corso di preparazione al conseguimento della: VMware Certified Professional Desktop Management 2024 (VCP-DTM 2024)
URL:https://www.vegatraining.eu/calendario/corso-vmware-horizon-deploy-and-manage-11032024-intensive/
LOCATION:Vega Training Italia\, Vega Training\, Online\, Italia
ORGANIZER;CN="Vega Training":MAILTO:contatti@vegatraining.eu
END:VEVENT
BEGIN:VEVENT
DTSTART;VALUE=DATE:20240311
DTEND;VALUE=DATE:20240312
DTSTAMP:20260422T223955
CREATED:20240123T150800Z
LAST-MODIFIED:20240123T150800Z
UID:16312-1710115200-1710201599@www.vegatraining.eu
SUMMARY:Google Cloud Fundamentals: Core Infrastructure – 11032024 – Intensive
DESCRIPTION:Inizio Corso – Durata 1gg – Full Time – Versione Intensiva. Corso di preparazione al conseguimento delle Certificazioni: \nGoogle Cloud Certified Associate Cloud Engineer\nGoogle Cloud Certified Professional Cloud Architect
URL:https://www.vegatraining.eu/calendario/google-cloud-fundamentals-core-infrastructure-11032024-intensive/
LOCATION:Vega Training Italia\, Vega Training\, Online\, Italia
END:VEVENT
BEGIN:VEVENT
DTSTART;VALUE=DATE:20240311
DTEND;VALUE=DATE:20240312
DTSTAMP:20260422T223955
CREATED:20240123T125432Z
LAST-MODIFIED:20240123T125432Z
UID:16298-1710115200-1710201599@www.vegatraining.eu
SUMMARY:Architecting with Google Cloud: Design and Process - 11032024 - Intensive
DESCRIPTION:Inizio Corso – Durata 3 gg – Full Time\nCorso di preparazione alla certificazione Google Cloud Certified Professional Cloud Architect
URL:https://www.vegatraining.eu/calendario/architecting-with-google-cloud-design-and-process-11032024-intensive/
LOCATION:Vega Training Italia\, Vega Training\, Online\, Italia
ORGANIZER;CN="Vega Training":MAILTO:contatti@vegatraining.eu
END:VEVENT
BEGIN:VEVENT
DTSTART;VALUE=DATE:20240311
DTEND;VALUE=DATE:20240312
DTSTAMP:20260422T223955
CREATED:20240122T153959Z
LAST-MODIFIED:20240122T153959Z
UID:16277-1710115200-1710201599@www.vegatraining.eu
SUMMARY:VMware vSphere - Advanced Administration - 11032024 - Intensive
DESCRIPTION:Inizio Corso – Durata 5 gg – Dal Lunedì al Venerdì – Formula Full Time.\nCorso di preparazione alla certificazione VMware Certified Advanced Professional Data Center Virtualization Deploy 2024 (VCAP-DCV Deploy 2024)
URL:https://www.vegatraining.eu/calendario/vmware-vsphere-advanced-administration-11032024-intensive/
LOCATION:Vega Training Italia\, Vega Training\, Online\, Italia
ORGANIZER;CN="Vega Training":MAILTO:contatti@vegatraining.eu
END:VEVENT
BEGIN:VEVENT
DTSTART;VALUE=DATE:20240311
DTEND;VALUE=DATE:20240312
DTSTAMP:20260422T223955
CREATED:20231228T143803Z
LAST-MODIFIED:20231228T154121Z
UID:15221-1710115200-1710201599@www.vegatraining.eu
SUMMARY:CCNP ENCOR – 11032024 – Intensive
DESCRIPTION:Inizio Corso – Durata 5 gg – Full Time – Versione Intensiva.\nCorso di preparazione al conseguimento della Certificazione Cisco CCNP Enterprise ENCOR Esame 350-401\nParte della Certificazione Cisco CCNP Enterprise Implementing Cisco Enterprise Network Core Technologies (ENCOR)
URL:https://www.vegatraining.eu/calendario/ccnp-encor-11032024-intensive/
ORGANIZER;CN="Vega Training":MAILTO:contatti@vegatraining.eu
END:VEVENT
BEGIN:VEVENT
DTSTART;VALUE=DATE:20240311
DTEND;VALUE=DATE:20240312
DTSTAMP:20260422T223955
CREATED:20231228T143803Z
LAST-MODIFIED:20231228T154125Z
UID:15220-1710115200-1710201599@www.vegatraining.eu
SUMMARY:CCNP ENWLSI – 11032024 – Intensive
DESCRIPTION:Inizio Corso – Durata 5 gg – Full Time – Versione Intensiva.\nCorso di preparazione al conseguimento dell’esame 300-430 Parte della Certificazione Cisco CCNP Enterprise\nImplementing Cisco Enterprise Wireless Networks (ENWLSI)
URL:https://www.vegatraining.eu/calendario/ccnp-enwlsi-11032024-intensive/
ORGANIZER;CN="Vega Training":MAILTO:contatti@vegatraining.eu
END:VEVENT
BEGIN:VEVENT
DTSTART;VALUE=DATE:20240311
DTEND;VALUE=DATE:20240312
DTSTAMP:20260422T223955
CREATED:20231228T143803Z
LAST-MODIFIED:20231228T154117Z
UID:15236-1710115200-1710201599@www.vegatraining.eu
SUMMARY:Azure Administrator AZ-104 - 11032024 - Fractional
DESCRIPTION:Inizio Corso – Durata 4 gg – Full Time – Versione Frazionata.\nCorso di preparazione al conseguimento della Certificazione Microsoft Azure Administrator Associate
URL:https://www.vegatraining.eu/calendario/azure-administrator-az-104-11032024-fractional/
ORGANIZER;CN="Vega Training":MAILTO:contatti@vegatraining.eu
END:VEVENT
BEGIN:VEVENT
DTSTART;VALUE=DATE:20240311
DTEND;VALUE=DATE:20240312
DTSTAMP:20260422T223955
CREATED:20231228T143801Z
LAST-MODIFIED:20231228T154106Z
UID:15215-1710115200-1710201599@www.vegatraining.eu
SUMMARY:Check Point CCSE - 11032024 - Intensive
DESCRIPTION:Inizio Corso – Durata 3 gg – Full Time – Versione Intensiva.\nCorso di preparazione al conseguimento della Certificazione Check Point CCSE\nCheck Point Cyber Security Engineering (CCSE)
URL:https://www.vegatraining.eu/calendario/check-point-ccse-11032024-intensive/
ORGANIZER;CN="Vega Training":MAILTO:contatti@vegatraining.eu
END:VEVENT
BEGIN:VEVENT
DTSTART;VALUE=DATE:20240311
DTEND;VALUE=DATE:20240312
DTSTAMP:20260422T223955
CREATED:20231228T143759Z
LAST-MODIFIED:20231228T154710Z
UID:15182-1710115200-1710201599@www.vegatraining.eu
SUMMARY:AWS Cloud Practitioner Essentials – 11032024 – Intensive
DESCRIPTION:Inizio Corso – Durata 1 gg – Full Time – Versione Intensiva.\nCorso di preparazione al conseguimento della Certificazione AWS Certified Cloud Practitioner
URL:https://www.vegatraining.eu/calendario/aws-cloud-practitioner-essentials-11032024-intensive/
ORGANIZER;CN="Vega Training":MAILTO:contatti@vegatraining.eu
END:VEVENT
BEGIN:VEVENT
DTSTART;VALUE=DATE:20240311
DTEND;VALUE=DATE:20240312
DTSTAMP:20260422T223955
CREATED:20231228T143754Z
LAST-MODIFIED:20231228T154705Z
UID:15150-1710115200-1710201599@www.vegatraining.eu
SUMMARY:Kubernetes Administrator CKA – 11032024 – Intensive
DESCRIPTION:Inizio Corso – Durata 5 gg – Full Time – Versione Intensiva.\nCorso propedeutico al conseguimento della: Certificazione Kubernetes Administrator CKA
URL:https://www.vegatraining.eu/calendario/kubernetes-administrator-cka-11032024-intensive/
ORGANIZER;CN="Vega Training":MAILTO:contatti@vegatraining.eu
END:VEVENT
BEGIN:VEVENT
DTSTART;VALUE=DATE:20240305
DTEND;VALUE=DATE:20240306
DTSTAMP:20260422T223955
CREATED:20240131T174448Z
LAST-MODIFIED:20240219T095210Z
UID:16364-1709596800-1709683199@www.vegatraining.eu
SUMMARY:Cisco CCNA – 05032024 – Extensive - PM
DESCRIPTION:Inizio Corso – Durata 120 ore – Mar. Gio. 18:30/21:30\nCorso di preparazione al conseguimento della Certificazione Cisco CCNA Implementing and Administering Cisco Networking Technologies
URL:https://www.vegatraining.eu/calendario/cisco-ccna-27022024-extensive/
LOCATION:Vega Training Italia\, Vega Training\, Online\, Italia
ORGANIZER;CN="Vega Training":MAILTO:contatti@vegatraining.eu
END:VEVENT
BEGIN:VEVENT
DTSTART;VALUE=DATE:20240304
DTEND;VALUE=DATE:20240305
DTSTAMP:20260422T223955
CREATED:20240220T073035Z
LAST-MODIFIED:20240220T073035Z
UID:16462-1709510400-1709596799@www.vegatraining.eu
SUMMARY:Developing on AWS – 04032024 – Intensive
DESCRIPTION:Inizio Corso – Durata 3 gg – Full Time\nCorso di preparazione al conseguimento della\nCertificazione AWS Certified Developer – Associate
URL:https://www.vegatraining.eu/calendario/developing-on-aws-04032024-intensive/
LOCATION:Vega Training Italia\, Vega Training\, Online\, Italia
ORGANIZER;CN="Vega Training":MAILTO:contatti@vegatraining.eu
END:VEVENT
BEGIN:VEVENT
DTSTART;VALUE=DATE:20240304
DTEND;VALUE=DATE:20240305
DTSTAMP:20260422T223955
CREATED:20240123T125107Z
LAST-MODIFIED:20240123T125107Z
UID:16294-1709510400-1709596799@www.vegatraining.eu
SUMMARY:Architecting with Google Kubernetes Engine - 04032024 - Intensive
DESCRIPTION:Inizio Corso – Durata 3 gg – Full Time\nCorso di preparazione alla certificazione Google Cloud Certified Professional Cloud Architect
URL:https://www.vegatraining.eu/calendario/architecting-with-google-kubernetes-engine-04032024-intensive/
LOCATION:Vega Training Italia\, Vega Training\, Online\, Italia
ORGANIZER;CN="Vega Training":MAILTO:contatti@vegatraining.eu
END:VEVENT
END:VCALENDAR