BEGIN:VCALENDAR
VERSION:2.0
PRODID:-//Vega Training - ECPv6.15.20//NONSGML v1.0//EN
CALSCALE:GREGORIAN
METHOD:PUBLISH
X-WR-CALNAME:Vega Training
X-ORIGINAL-URL:https://www.vegatraining.eu
X-WR-CALDESC:Eventi per Vega Training
REFRESH-INTERVAL;VALUE=DURATION:PT1H
X-Robots-Tag:noindex
X-PUBLISHED-TTL:PT1H
BEGIN:VTIMEZONE
TZID:UTC
BEGIN:STANDARD
TZOFFSETFROM:+0000
TZOFFSETTO:+0000
TZNAME:UTC
DTSTART:20240101T000000
END:STANDARD
END:VTIMEZONE
BEGIN:VEVENT
DTSTART;VALUE=DATE:20251021
DTEND;VALUE=DATE:20251022
DTSTAMP:20260421T185823
CREATED:20250513T152116Z
LAST-MODIFIED:20250716T090622Z
UID:19721-1761004800-1761091199@www.vegatraining.eu
SUMMARY:VMware vSphere: Install\, Configure\, Manage – 21102025 – Extensive
DESCRIPTION:Inizio Corso – Durata 36 ore – Mar. Gio. 18:30/21:30.\nCorso di preparazione al conseguimento della:\nCertificazione VMware Certified Professional vSphere Data Center Virtualization VCP-DCV 2025
URL:https://www.vegatraining.eu/calendario/vmware-vsphere-install-configure-manage-20102025-extensive/
ORGANIZER;CN="Vega Training":MAILTO:contatti@vegatraining.eu
END:VEVENT
BEGIN:VEVENT
DTSTART;VALUE=DATE:20251021
DTEND;VALUE=DATE:20251022
DTSTAMP:20260421T185823
CREATED:20250915T075031Z
LAST-MODIFIED:20250915T075031Z
UID:20570-1761004800-1761091199@www.vegatraining.eu
SUMMARY:Cisco CCNA – 21102025 – Extensive – PM
DESCRIPTION:Inizio Corso – Durata 90 ore – Mar. Gio. 18:30/21:30\nCorso di preparazione al conseguimento della\nCertificazione Cisco CCNA Implementing and Administering Cisco Networking Technologies
URL:https://www.vegatraining.eu/calendario/cisco-ccna-21102025-extensive-pm/
ORGANIZER;CN="Vega Training":MAILTO:contatti@vegatraining.eu
END:VEVENT
BEGIN:VEVENT
DTSTART;VALUE=DATE:20251027
DTEND;VALUE=DATE:20251028
DTSTAMP:20260421T185823
CREATED:20250520T151225Z
LAST-MODIFIED:20251031T103323Z
UID:19774-1761523200-1761609599@www.vegatraining.eu
SUMMARY:Penetration Test CompTIA Pentest+ - 27102025 - Intensive
DESCRIPTION:Inizio Corso – Durata 5 gg – Full Time\nCorso di preparazione al conseguimento della Certificazione CompTIA PenTest+
URL:https://www.vegatraining.eu/calendario/penetration-test-comptia-pentest-27102025-intensive/
ORGANIZER;CN="Vega Training":MAILTO:contatti@vegatraining.eu
END:VEVENT
BEGIN:VEVENT
DTSTART;VALUE=DATE:20251027
DTEND;VALUE=DATE:20251028
DTSTAMP:20260421T185823
CREATED:20250916T130620Z
LAST-MODIFIED:20250916T130620Z
UID:20591-1761523200-1761609599@www.vegatraining.eu
SUMMARY:Fortinet SD-WAN - 27102025 - Intensive
DESCRIPTION:Inizio Corso – Durata 4 gg – Full Time – Versione Intensiva.\nIl Corso contribuisce alla preparazione dell’esame di Certificazione FCSS – SD-WAN.
URL:https://www.vegatraining.eu/calendario/fortinet-sd-wan-27102025-intensive/
ORGANIZER;CN="Vega Training":MAILTO:contatti@vegatraining.eu
END:VEVENT
BEGIN:VEVENT
DTSTART;VALUE=DATE:20251103
DTEND;VALUE=DATE:20251104
DTSTAMP:20260421T185823
CREATED:20250411T093632Z
LAST-MODIFIED:20250411T093632Z
UID:19538-1762128000-1762214399@www.vegatraining.eu
SUMMARY:CCNP SCOR – 03112025 – Extensive
DESCRIPTION:Inizio Corso – Durata 60 ore – Lun. Mer. 18:30/21:30\nCorso di preparazione al conseguimento della Certificazione Cisco CCNP Security SCOR
URL:https://www.vegatraining.eu/calendario/ccnp-scor-03112025-extensive/
ORGANIZER;CN="Vega Training":MAILTO:contatti@vegatraining.eu
END:VEVENT
BEGIN:VEVENT
DTSTART;VALUE=DATE:20251103
DTEND;VALUE=DATE:20251104
DTSTAMP:20260421T185823
CREATED:20250512T104411Z
LAST-MODIFIED:20250512T104411Z
UID:19704-1762128000-1762214399@www.vegatraining.eu
SUMMARY:CCNP SPCOR – 03112025 – Intensive
DESCRIPTION:Inizio Corso – Durata 5 gg – Full Time – Versione Intensiva.\nCorso di preparazione al conseguimento della Certificazione Cisco CCNP Service Provider SPCOR (Esame 350-501)
URL:https://www.vegatraining.eu/calendario/ccnp-spcor-03112025-intensive/
ORGANIZER;CN="Vega Training":MAILTO:contatti@vegatraining.eu
END:VEVENT
BEGIN:VEVENT
DTSTART;VALUE=DATE:20251106
DTEND;VALUE=DATE:20251107
DTSTAMP:20260421T185823
CREATED:20250610T141834Z
LAST-MODIFIED:20250610T141834Z
UID:20084-1762387200-1762473599@www.vegatraining.eu
SUMMARY:Getting Started with Terraform for Google Cloud - 06112025 - Intensive
DESCRIPTION:Inizio Corso – Durata 1 gg – Full Time\nCorso contribuisce alla preparazione dell’esame di Certificazione Google Cloud Certified Associate Cloud Engineer
URL:https://www.vegatraining.eu/calendario/getting-started-with-terraform-for-google-cloud-06112025-intensive/
ORGANIZER;CN="Vega Training":MAILTO:contatti@vegatraining.eu
END:VEVENT
BEGIN:VEVENT
DTSTART;VALUE=DATE:20251107
DTEND;VALUE=DATE:20251108
DTSTAMP:20260421T185823
CREATED:20250610T142646Z
LAST-MODIFIED:20250610T142646Z
UID:20096-1762473600-1762559999@www.vegatraining.eu
SUMMARY:Getting Started with Google Kubernetes Engine - 07112025 - Intensive
DESCRIPTION:Inizio Corso – Durata 1 gg – Full Time\nCorso di preparazione alla certificazione Google Cloud Certified Associate Cloud Engineer
URL:https://www.vegatraining.eu/calendario/getting-started-with-google-kubernetes-engine-07112025-intensive/
ORGANIZER;CN="Vega Training":MAILTO:contatti@vegatraining.eu
END:VEVENT
BEGIN:VEVENT
DTSTART;VALUE=DATE:20251110
DTEND;VALUE=DATE:20251111
DTSTAMP:20260421T185823
CREATED:20250523T081227Z
LAST-MODIFIED:20250926T081609Z
UID:19810-1762732800-1762819199@www.vegatraining.eu
SUMMARY:VMware vSphere: Install\, Configure\, Manage [V8] – 10112025 – Intensive
DESCRIPTION:Inizio Corso – Durata 5 gg – Dal Lunedì al Venerdì – Formula Full Time.\nCorso di preparazione al conseguimento della\nCertificazione VMware Certified Professional vSphere Data Center Virtualization (VCP-DCV 2025)
URL:https://www.vegatraining.eu/calendario/vmware-vsphere-install-configure-manage-v8-01122025-intensive/
ORGANIZER;CN="Vega Training":MAILTO:contatti@vegatraining.eu
END:VEVENT
BEGIN:VEVENT
DTSTART;VALUE=DATE:20251110
DTEND;VALUE=DATE:20251111
DTSTAMP:20260421T185823
CREATED:20250919T101805Z
LAST-MODIFIED:20250919T101805Z
UID:20603-1762732800-1762819199@www.vegatraining.eu
SUMMARY:Sistemista Informatico CompTIA A+ – 10112025 – Extensive
DESCRIPTION:Inizio Corso – Durata 69 ore – Lun. Mer. 18:30/21:30\nCorso di preparazione al conseguimento della: Certificazione CompTIA A+
URL:https://www.vegatraining.eu/calendario/sistemista-informatico-comptia-a-10112025-extensive/
ORGANIZER;CN="Vega Training":MAILTO:contatti@vegatraining.eu
END:VEVENT
BEGIN:VEVENT
DTSTART;VALUE=DATE:20251114
DTEND;VALUE=DATE:20251115
DTSTAMP:20260421T185823
CREATED:20250904T164828Z
LAST-MODIFIED:20250904T164828Z
UID:20533-1763078400-1763164799@www.vegatraining.eu
SUMMARY:CompTIA AI Essentials - 14112025 - Intensive
DESCRIPTION:Inizio Corso – Durata 1 gg – Full Time\nQuesto corso tratta contenuti trasversali a diverse Tecnologie IT
URL:https://www.vegatraining.eu/calendario/comptia-ai-essentials-14112025-intensive/
LOCATION:Vega Training Italia\, Vega Training\, Online\, Italia
ORGANIZER;CN="Vega Training":MAILTO:contatti@vegatraining.eu
END:VEVENT
BEGIN:VEVENT
DTSTART;VALUE=DATE:20251117
DTEND;VALUE=DATE:20251118
DTSTAMP:20260421T185823
CREATED:20250512T101846Z
LAST-MODIFIED:20250512T101846Z
UID:19691-1763337600-1763423999@www.vegatraining.eu
SUMMARY:CCNP ENCOR – 17112025 – Intensive
DESCRIPTION:Inizio Corso – Durata 5 gg – Full Time – Versione Intensiva.\nCorso di preparazione al conseguimento della Certificazione Cisco CCNP Enterprise ENCOR Esame 350-401\nParte della Certificazione Cisco CCNP Enterprise Implementing Cisco Enterprise Network Core Technologies (ENCOR)
URL:https://www.vegatraining.eu/calendario/ccnp-encor-17112025-intensive/
ORGANIZER;CN="Vega Training":MAILTO:contatti@vegatraining.eu
END:VEVENT
BEGIN:VEVENT
DTSTART;VALUE=DATE:20251117
DTEND;VALUE=DATE:20251118
DTSTAMP:20260421T185823
CREATED:20251010T095342Z
LAST-MODIFIED:20251010T095342Z
UID:20660-1763337600-1763423999@www.vegatraining.eu
SUMMARY:Kubernetes Administrator CKA – 17112025 – Intensive
DESCRIPTION:Inizio Corso – Durata 4 gg – Full Time – Versione Intensiva.\nCorso propedeutico al conseguimento della: Certificazione Kubernetes Administrator CKA
URL:https://www.vegatraining.eu/calendario/kubernetes-administrator-cka-17112025-intensive/
ORGANIZER;CN="Vega Training":MAILTO:contatti@vegatraining.eu
END:VEVENT
BEGIN:VEVENT
DTSTART;VALUE=DATE:20251124
DTEND;VALUE=DATE:20251125
DTSTAMP:20260421T185823
CREATED:20250512T101408Z
LAST-MODIFIED:20250512T101408Z
UID:19688-1763942400-1764028799@www.vegatraining.eu
SUMMARY:Cisco CCNA – 24112025 – Intensive
DESCRIPTION:Inizio Corso – Durata 5 gg – Dal Lunedì al Venerdì – Formula Full Time – Versione CCNA Intensivo.\nCorso di preparazione al conseguimento della\nCertificazione Cisco CCNA Esame 200-301
URL:https://www.vegatraining.eu/calendario/cisco-ccna-24112025-intensive/
ORGANIZER;CN="Vega Training":MAILTO:contatti@vegatraining.eu
END:VEVENT
BEGIN:VEVENT
DTSTART;VALUE=DATE:20251124
DTEND;VALUE=DATE:20251125
DTSTAMP:20260421T185823
CREATED:20250808T100618Z
LAST-MODIFIED:20250808T100618Z
UID:20468-1763942400-1764028799@www.vegatraining.eu
SUMMARY:FortiManager Administrator – 24112025 – Intensive
DESCRIPTION:Inizio Corso – Durata 2 gg – Full Time – Versione Intensiva.\nIl Corso contribuisce alla preparazione dell’esame di Certificazione FCP – FortiManager Administrator\,\nparte del percorso di certificazione Fortinet Certified Professional – Network Security
URL:https://www.vegatraining.eu/calendario/fortimanager-administrator-24112025-intensive/
LOCATION:Vega Training Italia\, Vega Training\, Online\, Italia
ORGANIZER;CN="Vega Training":MAILTO:contatti@vegatraining.eu
END:VEVENT
BEGIN:VEVENT
DTSTART;VALUE=DATE:20251124
DTEND;VALUE=DATE:20251125
DTSTAMP:20260421T185823
CREATED:20250923T133155Z
LAST-MODIFIED:20250923T133155Z
UID:20614-1763942400-1764028799@www.vegatraining.eu
SUMMARY:DevOps Engineering on AWS - 24112025 - Intensive
DESCRIPTION:Inizio Corso – Durata 3 gg – Full Time\nCorso di preparazione al conseguimento della\nCertificazione AWS Certified DevOps Engineer – Professional.
URL:https://www.vegatraining.eu/calendario/devops-engineering-on-aws-24112025-intensive/
ORGANIZER;CN="Vega Training":MAILTO:contatti@vegatraining.eu
END:VEVENT
BEGIN:VEVENT
DTSTART;VALUE=DATE:20251126
DTEND;VALUE=DATE:20251127
DTSTAMP:20260421T185823
CREATED:20251015T090350Z
LAST-MODIFIED:20251015T090350Z
UID:20708-1764115200-1764201599@www.vegatraining.eu
SUMMARY:VMware vSphere with Tanzu: Deploy\, Configure\, Manage [V8] – 26112025 – Intensive (TD SYNNEX)
DESCRIPTION:Inizio Corso – Durata 3 gg – Formula Full Time.\nCorso di preparazione al conseguimento della:\nCertificazione VMware Certified Specialist vSphere with Tanzu.
URL:https://www.vegatraining.eu/calendario/vmware-vsphere-with-tanzu-deploy-configure-manage-v8-26112025-intensive-td-synnex/
ORGANIZER;CN="Vega Training":MAILTO:contatti@vegatraining.eu
END:VEVENT
BEGIN:VEVENT
DTSTART;VALUE=DATE:20251201
DTEND;VALUE=DATE:20251202
DTSTAMP:20260421T185823
CREATED:20250512T100419Z
LAST-MODIFIED:20251028T151903Z
UID:19682-1764547200-1764633599@www.vegatraining.eu
SUMMARY:Cybersecurity CBROPS - 01122025 - Intensive
DESCRIPTION:Inizio Corso – Durata 5 gg – Full Time – Versione Intensiva.\nCorso di preparazione al conseguimento della Certificazione Cisco CyberOps Associate\nUnderstanding Cisco Cybersecurity Operations Fundamentals (CBROPS)
URL:https://www.vegatraining.eu/calendario/ccnp-dccor-01122025-intensive/
ORGANIZER;CN="Vega Training":MAILTO:contatti@vegatraining.eu
END:VEVENT
BEGIN:VEVENT
DTSTART;VALUE=DATE:20251201
DTEND;VALUE=DATE:20251202
DTSTAMP:20260421T185823
CREATED:20250523T075757Z
LAST-MODIFIED:20250926T081651Z
UID:19806-1764547200-1764633599@www.vegatraining.eu
SUMMARY:Corso VMware vSphere: Operate\, Scale and Secure - 01122025 - Intensive
DESCRIPTION:Inizio Corso – Durata 5 gg – Dal Lunedì al Venerdì – Formula Full Time.\nCorso di preparazione all’esame di Certificazione VMware Certified Professional Data Center Virtualization (VCP-DCV 2024)\ne all’esame di Certificazione VMware Certified Advanced Professional Data Center Virtualization Deploy 2024 (VCAP-DCV Deploy 2024).
URL:https://www.vegatraining.eu/calendario/corso-vmware-vsphere-operate-scale-and-secure-10112025-intensive/
ORGANIZER;CN="Vega Training":MAILTO:contatti@vegatraining.eu
END:VEVENT
BEGIN:VEVENT
DTSTART;VALUE=DATE:20251201
DTEND;VALUE=DATE:20251202
DTSTAMP:20260421T185823
CREATED:20250530T102154Z
LAST-MODIFIED:20250530T102154Z
UID:19897-1764547200-1764633599@www.vegatraining.eu
SUMMARY:AWS Technical Essentials – 01122025 – Intensive
DESCRIPTION:Inizio Corso – Durata 1 gg – Full Time\nCorso di preparazione al conseguimento della\n1 – Certificazione AWS Certified Solutions Architect – Associate;\n2 – Certificazione AWS Certified SysOps Administrator – Associate.
URL:https://www.vegatraining.eu/calendario/aws-technical-essentials-01122025-intensive/
ORGANIZER;CN="Vega Training":MAILTO:contatti@vegatraining.eu
END:VEVENT
BEGIN:VEVENT
DTSTART;VALUE=DATE:20251201
DTEND;VALUE=DATE:20251202
DTSTAMP:20260421T185823
CREATED:20251021T170222Z
LAST-MODIFIED:20251124T084655Z
UID:20752-1764547200-1764633599@www.vegatraining.eu
SUMMARY:Cisco CCNA – 01122025 – Extensive – PM
DESCRIPTION:Inizio Corso – Durata 90 ore – Lun. Mer. 18:30/21:30\nCorso di preparazione al conseguimento della\nCertificazione Cisco CCNA Implementing and Administering Cisco Networking Technologies
URL:https://www.vegatraining.eu/calendario/cisco-ccna-24112025-extensive-pm/
ORGANIZER;CN="Vega Training":MAILTO:contatti@vegatraining.eu
END:VEVENT
BEGIN:VEVENT
DTSTART;VALUE=DATE:20251201
DTEND;VALUE=DATE:20251202
DTSTAMP:20260421T185823
CREATED:20251117T162550Z
LAST-MODIFIED:20251117T162550Z
UID:20910-1764547200-1764633599@www.vegatraining.eu
SUMMARY:Azure Fundamentals AZ-900 – 01122025 – Intensive
DESCRIPTION:Inizio Corso – Durata 1 gg – Full Time – Versione Intensiva.\nCorso di preparazione al conseguimento della Certificazione Azure Fundamentals Esame AZ-900
URL:https://www.vegatraining.eu/calendario/azure-fundamentals-az-900-01122025-intensive/
ORGANIZER;CN="Vega Training":MAILTO:contatti@vegatraining.eu
END:VEVENT
BEGIN:VEVENT
DTSTART;VALUE=DATE:20251202
DTEND;VALUE=DATE:20251203
DTSTAMP:20260421T185823
CREATED:20250530T103647Z
LAST-MODIFIED:20251111T145119Z
UID:19912-1764633600-1764719999@www.vegatraining.eu
SUMMARY:Architecting on AWS – 02122025 – Intensive
DESCRIPTION:Inizio Corso – Durata 3 gg – Full Time\nCorso di preparazione al conseguimento della\nCertificazione AWS Certified Solutions Architect – Associate
URL:https://www.vegatraining.eu/calendario/architecting-on-aws-26112025-intensive/
ORGANIZER;CN="Vega Training":MAILTO:contatti@vegatraining.eu
END:VEVENT
BEGIN:VEVENT
DTSTART;VALUE=DATE:20251209
DTEND;VALUE=DATE:20251210
DTSTAMP:20260421T185823
CREATED:20251015T090912Z
LAST-MODIFIED:20251128T092637Z
UID:20711-1765238400-1765324799@www.vegatraining.eu
SUMMARY:VMware vSAN: Install\, Configure\, Manage [V8] – 09122025 – Intensive (TD SYNNEX)
DESCRIPTION:Inizio Corso – Durata 4 gg – Formula Full Time.\nCorso di preparazione al conseguimento della:\nCertificazione VMware Certified Specialist vSAN. \n 
URL:https://www.vegatraining.eu/calendario/vmware-vsan-install-configure-manage-v8-01122025-intensive-td-synnex/
ORGANIZER;CN="Vega Training":MAILTO:contatti@vegatraining.eu
END:VEVENT
BEGIN:VEVENT
DTSTART;VALUE=DATE:20251212
DTEND;VALUE=DATE:20251213
DTSTAMP:20260421T185823
CREATED:20250610T143415Z
LAST-MODIFIED:20251211T100156Z
UID:20108-1765497600-1765583999@www.vegatraining.eu
SUMMARY:Google Cloud Fundamentals: Core Infrastructure – 12122025 – Intensive
DESCRIPTION:Inizio Corso – Durata 1gg – Full Time\nCorso di preparazione al conseguimento della Certificazione Google Cloud Engineer Associate
URL:https://www.vegatraining.eu/calendario/google-cloud-fundamentals-core-infrastructure-12122025-intensive/
ORGANIZER;CN="Vega Training":MAILTO:contatti@vegatraining.eu
END:VEVENT
BEGIN:VEVENT
DTSTART;VALUE=DATE:20251215
DTEND;VALUE=DATE:20251216
DTSTAMP:20260421T185823
CREATED:20250520T143854Z
LAST-MODIFIED:20250520T143854Z
UID:19765-1765756800-1765843199@www.vegatraining.eu
SUMMARY:CompTIA Network+ - 15122025 - Intensive
DESCRIPTION:Inizio Corso – Durata 5gg – Full Time –\nCorso di preparazione al conseguimento della: Certificazione CompTIA Network+ (N10-009)
URL:https://www.vegatraining.eu/calendario/comptia-network-15122025-intensive/
END:VEVENT
BEGIN:VEVENT
DTSTART;VALUE=DATE:20251215
DTEND;VALUE=DATE:20251216
DTSTAMP:20260421T185823
CREATED:20250523T090658Z
LAST-MODIFIED:20250523T090658Z
UID:19830-1765756800-1765843199@www.vegatraining.eu
SUMMARY:FortiGate Administrator - 15122025 - Intensive
DESCRIPTION:Inizio Corso – Durata 4 gg – Full Time – Versione Intensiva.\nIl Corso contribuisce alla preparazione dell’esame di Certificazione FCP – FortiGate Administrator\, parte delle Certificazioni:\n– Fortinet Certified Professional in Security Operations\n– Fortinet Certified Professional in Network Security\n– Fortinet Certified Professional in Public Cloud Security
URL:https://www.vegatraining.eu/calendario/fortigate-administrator-15122025-intensive/
ORGANIZER;CN="Vega Training":MAILTO:contatti@vegatraining.eu
END:VEVENT
BEGIN:VEVENT
DTSTART;VALUE=DATE:20251215
DTEND;VALUE=DATE:20251216
DTSTAMP:20260421T185823
CREATED:20250626T100158Z
LAST-MODIFIED:20250626T100158Z
UID:20207-1765756800-1765843199@www.vegatraining.eu
SUMMARY:Cybersecurity Analyst CompTIA CySA+ – 15122025 – Intensive
DESCRIPTION:Inizio Corso – Durata 5 gg – Full Time – Versione intensiva\nCorso di preparazione al conseguimento della: Certificazione CompTIA CySA+ (CS0-003)
URL:https://www.vegatraining.eu/calendario/cybersecurity-analyst-comptia-cysa-15122025-intensive/
ORGANIZER;CN="Vega Training":MAILTO:contatti@vegatraining.eu
END:VEVENT
BEGIN:VEVENT
DTSTART;VALUE=DATE:20251215
DTEND;VALUE=DATE:20251216
DTSTAMP:20260421T185823
CREATED:20250718T092745Z
LAST-MODIFIED:20250718T092745Z
UID:20313-1765756800-1765843199@www.vegatraining.eu
SUMMARY:CompTIA Security+ – 15122025 – Intensive
DESCRIPTION:Inizio Corso – Durata 5gg – Full Time – Versione Intensiva.\nCorso di preparazione al conseguimento della:\nCertificazione CompTIA Security+ (Esame SY0-701)
URL:https://www.vegatraining.eu/calendario/comptia-security-15122025-intensive/
ORGANIZER;CN="Vega Training":MAILTO:contatti@vegatraining.eu
END:VEVENT
BEGIN:VEVENT
DTSTART;VALUE=DATE:20251215
DTEND;VALUE=DATE:20251216
DTSTAMP:20260421T185823
CREATED:20251117T163126Z
LAST-MODIFIED:20251117T163126Z
UID:20912-1765756800-1765843199@www.vegatraining.eu
SUMMARY:Azure Administrator AZ-104 – 15122025 – Intensive
DESCRIPTION:Inizio Corso – Durata 4 gg – Full Time – Versione Intensiva.\nCorso di preparazione al conseguimento della Certificazione Microsoft Azure Administrator Associate
URL:https://www.vegatraining.eu/calendario/azure-administrator-az-104-15122025-intensive/
ORGANIZER;CN="Vega Training":MAILTO:contatti@vegatraining.eu
END:VEVENT
END:VCALENDAR