BEGIN:VCALENDAR
VERSION:2.0
PRODID:-//Vega Training - ECPv6.15.20//NONSGML v1.0//EN
CALSCALE:GREGORIAN
METHOD:PUBLISH
X-ORIGINAL-URL:https://www.vegatraining.eu
X-WR-CALDESC:Eventi per Vega Training
REFRESH-INTERVAL;VALUE=DURATION:PT1H
X-Robots-Tag:noindex
X-PUBLISHED-TTL:PT1H
BEGIN:VTIMEZONE
TZID:UTC
BEGIN:STANDARD
TZOFFSETFROM:+0000
TZOFFSETTO:+0000
TZNAME:UTC
DTSTART:20250101T000000
END:STANDARD
END:VTIMEZONE
BEGIN:VEVENT
DTSTART;VALUE=DATE:20260722
DTEND;VALUE=DATE:20260723
DTSTAMP:20260419T184753
CREATED:20251211T104806Z
LAST-MODIFIED:20251211T104806Z
UID:21217-1784678400-1784764799@www.vegatraining.eu
SUMMARY:Getting Started with Terraform for Google Cloud - 22072026 - Intensive
DESCRIPTION:Inizio Corso – Durata 1 gg – Full Time\nCorso contribuisce alla preparazione dell’esame di Certificazione Google Cloud Certified Associate Cloud Engineer
URL:https://www.vegatraining.eu/calendario/getting-started-with-terraform-for-google-cloud-22072026-intensive/
ORGANIZER;CN="Vega Training":MAILTO:contatti@vegatraining.eu
END:VEVENT
BEGIN:VEVENT
DTSTART;VALUE=DATE:20260723
DTEND;VALUE=DATE:20260724
DTSTAMP:20260419T184753
CREATED:20251211T111451Z
LAST-MODIFIED:20251211T111451Z
UID:21240-1784764800-1784851199@www.vegatraining.eu
SUMMARY:Architecting with Google Cloud: Design and Process - 23072026 - Intensive
DESCRIPTION:Inizio Corso – Durata 2 gg – Full Time –\nIl Corso contribuisce alla preparazione dell’esame di Certificazione Google Cloud Certified Professional Cloud Architect e Google Cloud Certified Professional Cloud DevOps Engineer.
URL:https://www.vegatraining.eu/calendario/architecting-with-google-cloud-design-and-process-23072026-intensive/
ORGANIZER;CN="Vega Training":MAILTO:contatti@vegatraining.eu
END:VEVENT
BEGIN:VEVENT
DTSTART;VALUE=DATE:20260727
DTEND;VALUE=DATE:20260728
DTSTAMP:20260419T184753
CREATED:20251121T111806Z
LAST-MODIFIED:20251121T111806Z
UID:21037-1785110400-1785196799@www.vegatraining.eu
SUMMARY:Advanced Architecting on AWS – 27072026 – Intensive
DESCRIPTION:Inizio Corso – Durata 3 gg – Full Time\nCorso di preparazione al conseguimento della\nCertificazione AWS Certified Solutions Architect – Professional
URL:https://www.vegatraining.eu/calendario/advanced-architecting-on-aws-27072026-intensive/
ORGANIZER;CN="Vega Training":MAILTO:contatti@vegatraining.eu
END:VEVENT
BEGIN:VEVENT
DTSTART;VALUE=DATE:20260907
DTEND;VALUE=DATE:20260908
DTSTAMP:20260419T184753
CREATED:20260417T085722Z
LAST-MODIFIED:20260417T085722Z
UID:21810-1788739200-1788825599@www.vegatraining.eu
SUMMARY:Administering Windows Server Hybrid Core Infrastructure – 07092026 – Fractional
DESCRIPTION:Inizio Corso – Durata 4 gg – Full Time – Versione Frazionata.\nCorso di preparazione al conseguimento della\nCertificazione Windows Server Hybrid Administrator Associate (Esame AZ-800)
URL:https://www.vegatraining.eu/calendario/administering-windows-server-hybrid-core-infrastructure-07092026-fractional/
ORGANIZER;CN="Vega Training":MAILTO:contatti@vegatraining.eu
END:VEVENT
BEGIN:VEVENT
DTSTART;VALUE=DATE:20260921
DTEND;VALUE=DATE:20260922
DTSTAMP:20260419T184753
CREATED:20251002T104012Z
LAST-MODIFIED:20260311T083646Z
UID:20634-1789948800-1790035199@www.vegatraining.eu
SUMMARY:CCNP ENCOR – 21092026 – Extensive
DESCRIPTION:Inizio Corso – Durata 60 ore – Lun. Mer. Ven. 18:30/21:30\nCorso di preparazione al conseguimento della Certificazione Cisco CCNP Enterprise ENCOR Esame 350-401\nParte della Certificazione Cisco CCNP Enterprise Implementing Cisco Enterprise Network Core Technologies (ENCOR)
URL:https://www.vegatraining.eu/calendario/ccnp-encor-02022026-extensive/
ORGANIZER;CN="Vega Training":MAILTO:contatti@vegatraining.eu
END:VEVENT
BEGIN:VEVENT
DTSTART;VALUE=DATE:20261020
DTEND;VALUE=DATE:20261021
DTSTAMP:20260419T184753
CREATED:20260320T104710Z
LAST-MODIFIED:20260320T104710Z
UID:21655-1792454400-1792540799@www.vegatraining.eu
SUMMARY:Azure Administrator AZ-104 – 20102026 – Extensive
DESCRIPTION:Inizio Corso – Durata 42 ore – Mar. Gio. 18:30/21:30\nCorso di preparazione al conseguimento della\nCertificazione Microsoft Azure Administrator Associate
URL:https://www.vegatraining.eu/calendario/azure-administrator-az-104-20102026-extensive/
ORGANIZER;CN="Vega Training":MAILTO:contatti@vegatraining.eu
END:VEVENT
BEGIN:VEVENT
DTSTART;VALUE=DATE:20261116
DTEND;VALUE=DATE:20261117
DTSTAMP:20260419T184753
CREATED:20260217T143726Z
LAST-MODIFIED:20260311T084150Z
UID:21526-1794787200-1794873599@www.vegatraining.eu
SUMMARY:CCNP ENARSI – 16112026 – Extensive
DESCRIPTION:Inizio Corso – Durata 60 ore – Lun. Mer. Ven. 18:30/21:30\nCorso di preparazione al conseguimento della\nCertificazione Cisco CCNP Enterprise ENARSI\nEsame 300-410 Parte della Certificazione Cisco CCNP Enterprise\nImplementing Cisco Enterprise Advanced Routing and Services (ENARSI)
URL:https://www.vegatraining.eu/calendario/ccnp-enarsi-21092026-extensive/
ORGANIZER;CN="Vega Training":MAILTO:contatti@vegatraining.eu
END:VEVENT
BEGIN:VEVENT
DTSTART;VALUE=DATE:20261116
DTEND;VALUE=DATE:20261117
DTSTAMP:20260419T184753
CREATED:20260330T101035Z
LAST-MODIFIED:20260330T101035Z
UID:21711-1794787200-1794873599@www.vegatraining.eu
SUMMARY:CCNP SCOR - 16112026 - Intensive
DESCRIPTION:Inizio Corso – Durata 5 gg – Full Time – Versione Intensiva.\nCorso di preparazione al conseguimento della Certificazione Cisco CCNP Security SCOR
URL:https://www.vegatraining.eu/calendario/ccnp-scor-16112026-intensive/
ORGANIZER;CN="Vega Training":MAILTO:contatti@vegatraining.eu
END:VEVENT
END:VCALENDAR