BEGIN:VCALENDAR
VERSION:2.0
PRODID:-//Vega Training - ECPv6.15.20//NONSGML v1.0//EN
CALSCALE:GREGORIAN
METHOD:PUBLISH
X-ORIGINAL-URL:https://www.vegatraining.eu
X-WR-CALDESC:Eventi per Vega Training
REFRESH-INTERVAL;VALUE=DURATION:PT1H
X-Robots-Tag:noindex
X-PUBLISHED-TTL:PT1H
BEGIN:VTIMEZONE
TZID:UTC
BEGIN:STANDARD
TZOFFSETFROM:+0000
TZOFFSETTO:+0000
TZNAME:UTC
DTSTART:20250101T000000
END:STANDARD
END:VTIMEZONE
BEGIN:VEVENT
DTSTART;VALUE=DATE:20260507
DTEND;VALUE=DATE:20260508
DTSTAMP:20260421T214930
CREATED:20260126T081737Z
LAST-MODIFIED:20260126T081737Z
UID:21460-1778112000-1778198399@www.vegatraining.eu
SUMMARY:FortiAnalyzer Analyst - 07052026 - Intensive
DESCRIPTION:Inizio Corso – Durata 2 gg – Full Time – Versione Intensiva.\nIl Corso contribuisce alla preparazione dell’esame dell’esame di\nCertificazione Fortinet NSE 5 – FortiAnalyzer Analyst\,\nparte del percorso di Certificazione Fortinet NSE 4 – Security Operations.
URL:https://www.vegatraining.eu/calendario/fortianalyzer-analyst-07052026-intensive/
ORGANIZER;CN="Vega Training":MAILTO:contatti@vegatraining.eu
END:VEVENT
BEGIN:VEVENT
DTSTART;VALUE=DATE:20260511
DTEND;VALUE=DATE:20260512
DTSTAMP:20260421T214930
CREATED:20251030T084036Z
LAST-MODIFIED:20251030T084036Z
UID:20780-1778457600-1778543999@www.vegatraining.eu
SUMMARY:Python Developer – 11052026 – Extensive
DESCRIPTION:Inizio Corso – Durata 33 ore – Lun. Mer. 18:30/21:30\nCorso di preparazione al conseguimento della:\nCertificazione Python Programming PCAP Associate
URL:https://www.vegatraining.eu/calendario/python-developer-11052026-extensive/
ORGANIZER;CN="Vega Training":MAILTO:contatti@vegatraining.eu
END:VEVENT
BEGIN:VEVENT
DTSTART;VALUE=DATE:20260511
DTEND;VALUE=DATE:20260512
DTSTAMP:20260421T214930
CREATED:20251126T142432Z
LAST-MODIFIED:20260224T151058Z
UID:21073-1778457600-1778543999@www.vegatraining.eu
SUMMARY:Nutanix Enterprise Cloud Administration (ECA) – 11052026 – Intensive
DESCRIPTION:Inizio Corso – Durata 4 gg – Formula Full Time.\nCorso di preparazione al conseguimento della\nCertificazione Nutanix Certified Professional – Multicloud Infrastructure (NCP-MCI)
URL:https://www.vegatraining.eu/calendario/nutanix-enterprise-cloud-administration-eca-12052026-intensive/
ORGANIZER;CN="Vega Training":MAILTO:contatti@vegatraining.eu
END:VEVENT
BEGIN:VEVENT
DTSTART;VALUE=DATE:20260511
DTEND;VALUE=DATE:20260512
DTSTAMP:20260421T214930
CREATED:20251211T100903Z
LAST-MODIFIED:20251211T100903Z
UID:21169-1778457600-1778543999@www.vegatraining.eu
SUMMARY:Google Cloud Fundamentals: Core Infrastructure – 11052026 – Intensive
DESCRIPTION:Inizio Corso – Durata 1gg – Full Time\nCorso di preparazione al conseguimento della Certificazione Google Cloud Engineer Associate
URL:https://www.vegatraining.eu/calendario/google-cloud-fundamentals-core-infrastructure-11052026-intensive/
ORGANIZER;CN="Vega Training":MAILTO:contatti@vegatraining.eu
END:VEVENT
BEGIN:VEVENT
DTSTART;VALUE=DATE:20260511
DTEND;VALUE=DATE:20260512
DTSTAMP:20260421T214930
CREATED:20251219T102856Z
LAST-MODIFIED:20251219T102856Z
UID:21301-1778457600-1778543999@www.vegatraining.eu
SUMMARY:Check Point CCSA – 11052025 – Intensive
DESCRIPTION:Inizio Corso – Durata 3 gg – Full Time – Versione Intensiva.\nCorso di preparazione al conseguimento della\nCertificazione Check Point Security Administrator (CCSA)
URL:https://www.vegatraining.eu/calendario/check-point-ccsa-11052025-intensive/
ORGANIZER;CN="Vega Training":MAILTO:contatti@vegatraining.eu
END:VEVENT
BEGIN:VEVENT
DTSTART;VALUE=DATE:20260512
DTEND;VALUE=DATE:20260513
DTSTAMP:20260421T214930
CREATED:20251211T103402Z
LAST-MODIFIED:20251211T103402Z
UID:21195-1778544000-1778630399@www.vegatraining.eu
SUMMARY:Getting Started with Google Kubernetes Engine - 12052026 - Intensive
DESCRIPTION:Inizio Corso – Durata 1 gg – Full Time\nCorso di preparazione alla Certificazione Google Cloud Engineer Associate
URL:https://www.vegatraining.eu/calendario/getting-started-with-google-kubernetes-engine-12052026-intensive/
ORGANIZER;CN="Vega Training":MAILTO:contatti@vegatraining.eu
END:VEVENT
BEGIN:VEVENT
DTSTART;VALUE=DATE:20260513
DTEND;VALUE=DATE:20260514
DTSTAMP:20260421T214930
CREATED:20251211T104711Z
LAST-MODIFIED:20251211T104711Z
UID:21215-1778630400-1778716799@www.vegatraining.eu
SUMMARY:Getting Started with Terraform for Google Cloud - 13052026 - Intensive
DESCRIPTION:Inizio Corso – Durata 1 gg – Full Time\nCorso contribuisce alla preparazione dell’esame di Certificazione Google Cloud Certified Associate Cloud Engineer
URL:https://www.vegatraining.eu/calendario/getting-started-with-terraform-for-google-cloud-13052026-intensive/
ORGANIZER;CN="Vega Training":MAILTO:contatti@vegatraining.eu
END:VEVENT
BEGIN:VEVENT
DTSTART;VALUE=DATE:20260514
DTEND;VALUE=DATE:20260515
DTSTAMP:20260421T214930
CREATED:20251211T112328Z
LAST-MODIFIED:20251211T112328Z
UID:21248-1778716800-1778803199@www.vegatraining.eu
SUMMARY:Logging\, Monitoring and Observability in Google Cloud - 14052026 - Intensive
DESCRIPTION:Inizio Corso – Durata 2 gg – Full Time\nIl Corso contribuisce alla preparazione degli esami di Certificazione:\nGoogle Cloud Engineer Associate e Google Cloud Architect Professional.
URL:https://www.vegatraining.eu/calendario/logging-monitoring-and-observability-in-google-cloud-14052026-intensive/
ORGANIZER;CN="Vega Training":MAILTO:contatti@vegatraining.eu
END:VEVENT
BEGIN:VEVENT
DTSTART;VALUE=DATE:20260514
DTEND;VALUE=DATE:20260515
DTSTAMP:20260421T214930
CREATED:20251219T103244Z
LAST-MODIFIED:20251219T103244Z
UID:21306-1778716800-1778803199@www.vegatraining.eu
SUMMARY:Check Point CCTA – 14052026 – Intensive
DESCRIPTION:Inizio Corso – Durata 2 gg – Full Time – Versione Intensiva.\nCorso di preparazione al conseguimento della\nCertificazione Check Point Troubleshooting Administrator (CCTA)
URL:https://www.vegatraining.eu/calendario/check-point-ccta-14052026-intensive/
ORGANIZER;CN="Vega Training":MAILTO:contatti@vegatraining.eu
END:VEVENT
BEGIN:VEVENT
DTSTART;VALUE=DATE:20260518
DTEND;VALUE=DATE:20260519
DTSTAMP:20260421T214930
CREATED:20251106T113738Z
LAST-MODIFIED:20251106T113738Z
UID:20835-1779062400-1779148799@www.vegatraining.eu
SUMMARY:CCNP ENCOR – 18052026 – Intensive
DESCRIPTION:Inizio Corso – Durata 5 gg – Full Time – Versione Intensiva.\nCorso di preparazione al conseguimento della Certificazione Cisco CCNP Enterprise ENCOR Esame 350-401\nParte della Certificazione Cisco CCNP Enterprise Implementing Cisco Enterprise Network Core Technologies (ENCOR)
URL:https://www.vegatraining.eu/calendario/ccnp-encor-18052026-intensive/
ORGANIZER;CN="Vega Training":MAILTO:contatti@vegatraining.eu
END:VEVENT
BEGIN:VEVENT
DTSTART;VALUE=DATE:20260518
DTEND;VALUE=DATE:20260519
DTSTAMP:20260421T214930
CREATED:20251110T110430Z
LAST-MODIFIED:20251110T110430Z
UID:20874-1779062400-1779148799@www.vegatraining.eu
SUMMARY:CCNP Data Center DCACIA - 18052026 - Intensive
DESCRIPTION:Inizio Corso – Durata 5 gg – Full Time\nCorso di preparazione al conseguimento della\nCertificazione CCNP Data Center DCACIA\nParte del percorso Cisco CCNP Data Center\nImplementing Cisco Application Centric Infrastructure – Advanced (DCACIA)
URL:https://www.vegatraining.eu/calendario/ccnp-data-center-dcacia-18052026-intensive/
ORGANIZER;CN="Vega Training":MAILTO:contatti@vegatraining.eu
END:VEVENT
BEGIN:VEVENT
DTSTART;VALUE=DATE:20260518
DTEND;VALUE=DATE:20260519
DTSTAMP:20260421T214930
CREATED:20251121T093027Z
LAST-MODIFIED:20251121T093027Z
UID:20983-1779062400-1779148799@www.vegatraining.eu
SUMMARY:AWS Migration Essentials - 18052026 - Intensive
DESCRIPTION:Inizio Corso – Durata 1 gg – Full Time\nCorso di preparazione al conseguimento della\nCertificazione AWS Certified Solutions Architect – Associate\ne a altre certificazioni AWS
URL:https://www.vegatraining.eu/calendario/aws-migration-essentials-18052026-intensive/
ORGANIZER;CN="Vega Training":MAILTO:contatti@vegatraining.eu
END:VEVENT
BEGIN:VEVENT
DTSTART;VALUE=DATE:20260518
DTEND;VALUE=DATE:20260519
DTSTAMP:20260421T214930
CREATED:20251211T111433Z
LAST-MODIFIED:20251211T111433Z
UID:21239-1779062400-1779148799@www.vegatraining.eu
SUMMARY:Architecting with Google Cloud: Design and Process - 18052026 - Intensive
DESCRIPTION:Inizio Corso – Durata 2 gg – Full Time –\nIl Corso contribuisce alla preparazione dell’esame di Certificazione Google Cloud Certified Professional Cloud Architect e Google Cloud Certified Professional Cloud DevOps Engineer.
URL:https://www.vegatraining.eu/calendario/architecting-with-google-cloud-design-and-process-18052026-intensive/
ORGANIZER;CN="Vega Training":MAILTO:contatti@vegatraining.eu
END:VEVENT
BEGIN:VEVENT
DTSTART;VALUE=DATE:20260519
DTEND;VALUE=DATE:20260520
DTSTAMP:20260421T214930
CREATED:20251121T095232Z
LAST-MODIFIED:20251121T095232Z
UID:20998-1779148800-1779235199@www.vegatraining.eu
SUMMARY:AWS Security Essentials - 19052026 - Intensive
DESCRIPTION:Inizio Corso – Durata 1 gg – Full Time\nCorso di preparazione al conseguimento della\nCertificazione AWS Certified Database – Specialty
URL:https://www.vegatraining.eu/calendario/aws-security-essentials-19052026-intensive/
ORGANIZER;CN="Vega Training":MAILTO:contatti@vegatraining.eu
END:VEVENT
BEGIN:VEVENT
DTSTART;VALUE=DATE:20260519
DTEND;VALUE=DATE:20260520
DTSTAMP:20260421T214930
CREATED:20260421T150750Z
LAST-MODIFIED:20260421T150750Z
UID:21813-1779148800-1779235199@www.vegatraining.eu
SUMMARY:Cisco CCNA – 19052026 – Extensive – PM
DESCRIPTION:Inizio Corso – Durata 90 ore – Mar. Gio. 18:30/21:30\nCorso di preparazione al conseguimento della\nCertificazione Cisco CCNA Implementing and Administering Cisco Solutions (Esame 200-301)
URL:https://www.vegatraining.eu/calendario/cisco-ccna-19052026-extensive-pm/
ORGANIZER;CN="Vega Training":MAILTO:contatti@vegatraining.eu
END:VEVENT
BEGIN:VEVENT
DTSTART;VALUE=DATE:20260520
DTEND;VALUE=DATE:20260521
DTSTAMP:20260421T214930
CREATED:20251121T090011Z
LAST-MODIFIED:20251121T090011Z
UID:20953-1779235200-1779321599@www.vegatraining.eu
SUMMARY:Architecting on AWS – 20052026 – Intensive
DESCRIPTION:Inizio Corso – Durata 3 gg – Full Time\nCorso di preparazione al conseguimento della\nCertificazione AWS Certified Solutions Architect – Associate
URL:https://www.vegatraining.eu/calendario/architecting-on-aws-20052026-intensive/
ORGANIZER;CN="Vega Training":MAILTO:contatti@vegatraining.eu
END:VEVENT
BEGIN:VEVENT
DTSTART;VALUE=DATE:20260521
DTEND;VALUE=DATE:20260522
DTSTAMP:20260421T214930
CREATED:20250228T085142Z
LAST-MODIFIED:20260323T114851Z
UID:19423-1779321600-1779407999@www.vegatraining.eu
SUMMARY:Configuring Windows Server Hybrid Advanced Services – 21052026 – Fractional
DESCRIPTION:Inizio Corso – Durata 4 gg – Full Time – Versione Frazionata\nCorso di preparazione al conseguimento della\nCertificazione Windows Server Hybrid Administrator Associate (Esame AZ-801)
URL:https://www.vegatraining.eu/calendario/configuring-windows-server-hybrid-advanced-services-09062025-intensive/
ORGANIZER;CN="Vega Training":MAILTO:contatti@vegatraining.eu
END:VEVENT
BEGIN:VEVENT
DTSTART;VALUE=DATE:20260525
DTEND;VALUE=DATE:20260526
DTSTAMP:20260421T214930
CREATED:20251121T101502Z
LAST-MODIFIED:20251121T101502Z
UID:21027-1779667200-1779753599@www.vegatraining.eu
SUMMARY:Migrating to AWS - 25052026 - Intensive
DESCRIPTION:Inizio Corso – Durata 3 gg – Full Time\nCorso di preparazione al conseguimento della\nCertificazioni AWS Certified Solutions Architect – Associate e Professional.
URL:https://www.vegatraining.eu/calendario/migrating-to-aws-25052026-intensive/
ORGANIZER;CN="Vega Training":MAILTO:contatti@vegatraining.eu
END:VEVENT
BEGIN:VEVENT
DTSTART;VALUE=DATE:20260525
DTEND;VALUE=DATE:20260526
DTSTAMP:20260421T214930
CREATED:20260113T144225Z
LAST-MODIFIED:20260127T140230Z
UID:21394-1779667200-1779753599@www.vegatraining.eu
SUMMARY:Fortinet SD-WAN - 25052026 - Intensive
DESCRIPTION:Inizio Corso – Durata 3 gg – Full Time.\nIl Corso contribuisce alla preparazione dell’esame di\nCertificazione Fortinet NSE 5 – FortiSASE and SD-WAN Core Administrator\,\nparte del percorso di Certificazione Fortinet NSE 4 – SASE
URL:https://www.vegatraining.eu/calendario/fortinet-sd-wan-27052026-intensive/
ORGANIZER;CN="Vega Training":MAILTO:contatti@vegatraining.eu
END:VEVENT
BEGIN:VEVENT
DTSTART;VALUE=DATE:20260525
DTEND;VALUE=DATE:20260526
DTSTAMP:20260421T214930
CREATED:20260129T082319Z
LAST-MODIFIED:20260129T082319Z
UID:21475-1779667200-1779753599@www.vegatraining.eu
SUMMARY:Huawei HCIA Datacom – 25052026 – Intensive
DESCRIPTION:Inizio Corso – Durata 5 gg – Full Time\nCorso di preparazione al conseguimento della\nCertificazione Huawei HCIA Datacom
URL:https://www.vegatraining.eu/calendario/huawei-hcia-datacom-25052026-intensive/
ORGANIZER;CN="Vega Training":MAILTO:contatti@vegatraining.eu
END:VEVENT
BEGIN:VEVENT
DTSTART;VALUE=DATE:20260525
DTEND;VALUE=DATE:20260526
DTSTAMP:20260421T214930
CREATED:20260319T091409Z
LAST-MODIFIED:20260319T091409Z
UID:21647-1779667200-1779753599@www.vegatraining.eu
SUMMARY:VMware vSphere: Install\, Configure\, Manage [V8] – 25052026 – Intensive
DESCRIPTION:Inizio Corso – Durata 5 gg – Dal Lunedì al Venerdì – Formula Full Time.\nCorso di preparazione al conseguimento della\nCertificazione VMware Certified Professional vSphere Data Center Virtualization (VCP-DCV).
URL:https://www.vegatraining.eu/calendario/vmware-vsphere-install-configure-manage-v8-25052026-intensive/
ORGANIZER;CN="Vega Training":MAILTO:contatti@vegatraining.eu
END:VEVENT
BEGIN:VEVENT
DTSTART;VALUE=DATE:20260527
DTEND;VALUE=DATE:20260528
DTSTAMP:20260421T214930
CREATED:20251121T111430Z
LAST-MODIFIED:20251121T111430Z
UID:21036-1779840000-1779926399@www.vegatraining.eu
SUMMARY:Advanced Architecting on AWS – 27052026 – Intensive
DESCRIPTION:Inizio Corso – Durata 3 gg – Full Time\nCorso di preparazione al conseguimento della\nCertificazione AWS Certified Solutions Architect – Professional
URL:https://www.vegatraining.eu/calendario/advanced-architecting-on-aws-27052026-intensive/
ORGANIZER;CN="Vega Training":MAILTO:contatti@vegatraining.eu
END:VEVENT
BEGIN:VEVENT
DTSTART;VALUE=DATE:20260601
DTEND;VALUE=DATE:20260602
DTSTAMP:20260421T214930
CREATED:20251121T091333Z
LAST-MODIFIED:20251121T091333Z
UID:20968-1780272000-1780358399@www.vegatraining.eu
SUMMARY:AWS Cloud Practitioner Essentials – 01062026 – Intensive
DESCRIPTION:Inizio Corso – Durata 1 gg – Full Time – Versione Intensiva.\nCorso di preparazione al conseguimento della Certificazione AWS Certified Cloud Practitioner
URL:https://www.vegatraining.eu/calendario/aws-cloud-practitioner-essentials-01062026-intensive/
ORGANIZER;CN="Vega Training":MAILTO:contatti@vegatraining.eu
END:VEVENT
BEGIN:VEVENT
DTSTART;VALUE=DATE:20260601
DTEND;VALUE=DATE:20260602
DTSTAMP:20260421T214930
CREATED:20260331T160230Z
LAST-MODIFIED:20260331T160230Z
UID:21725-1780272000-1780358399@www.vegatraining.eu
SUMMARY:Sistemista Informatico CompTIA A+ – 01062026 – Extensive
DESCRIPTION:Inizio Corso – Durata 69 ore – Lun. Mer. 18:30/21:30\nCorso di preparazione al conseguimento della: Certificazione CompTIA A+
URL:https://www.vegatraining.eu/calendario/sistemista-informatico-comptia-a-01062026-extensive/
ORGANIZER;CN="Vega Training":MAILTO:contatti@vegatraining.eu
END:VEVENT
BEGIN:VEVENT
DTSTART;VALUE=DATE:20260603
DTEND;VALUE=DATE:20260604
DTSTAMP:20260421T214930
CREATED:20251121T082652Z
LAST-MODIFIED:20251121T082652Z
UID:20922-1780444800-1780531199@www.vegatraining.eu
SUMMARY:DevOps Engineering on AWS - 03062026 - Intensive
DESCRIPTION:Inizio Corso – Durata 3 gg – Full Time\nCorso di preparazione al conseguimento della\nCertificazione AWS Certified DevOps Engineer – Professional.
URL:https://www.vegatraining.eu/calendario/devops-engineering-on-aws-03062026-intensive/
ORGANIZER;CN="Vega Training":MAILTO:contatti@vegatraining.eu
END:VEVENT
BEGIN:VEVENT
DTSTART;VALUE=DATE:20260603
DTEND;VALUE=DATE:20260604
DTSTAMP:20260421T214930
CREATED:20251121T084040Z
LAST-MODIFIED:20251121T084040Z
UID:20933-1780444800-1780531199@www.vegatraining.eu
SUMMARY:AWS Technical Essentials – 03062026 – Intensive
DESCRIPTION:Inizio Corso – Durata 1 gg – Full Time\nCorso di preparazione al conseguimento della\n1 – Certificazione AWS Certified Solutions Architect – Associate;\n2 – Certificazione AWS Certified SysOps Administrator – Associate.
URL:https://www.vegatraining.eu/calendario/aws-technical-essentials-03062026-intensive/
ORGANIZER;CN="Vega Training":MAILTO:contatti@vegatraining.eu
END:VEVENT
BEGIN:VEVENT
DTSTART;VALUE=DATE:20260603
DTEND;VALUE=DATE:20260604
DTSTAMP:20260421T214930
CREATED:20251211T113308Z
LAST-MODIFIED:20251211T113308Z
UID:21257-1780444800-1780531199@www.vegatraining.eu
SUMMARY:Networking in Google Cloud - 03062026 - Intensive
DESCRIPTION:Inizio Corso – Durata 2 gg – Full Time –\nIl Corso contribuisce alla preparazione degli esami di Certificazione:\nGoogle Cloud Certified Professional Cloud Network Engineer e Google Cloud Certified Professional Cloud Security Engineer
URL:https://www.vegatraining.eu/calendario/networking-in-google-cloud-03062026-intensive/
ORGANIZER;CN="Vega Training":MAILTO:contatti@vegatraining.eu
END:VEVENT
BEGIN:VEVENT
DTSTART;VALUE=DATE:20260603
DTEND;VALUE=DATE:20260604
DTSTAMP:20260421T214930
CREATED:20260409T073633Z
LAST-MODIFIED:20260409T073633Z
UID:21795-1780444800-1780531199@www.vegatraining.eu
SUMMARY:Fortinet Enterprise Firewall Administrator - 03062026 - Intensive
DESCRIPTION:Inizio Corso – Durata 3 gg – Full Time.\nIl corso contribuisce alla preparazione dell’esame di Certificazione\nFortinet NSE 7 – Enterprise Firewall Administrator
URL:https://www.vegatraining.eu/calendario/fortinet-enterprise-firewall-administrator-03062026-intensive/
ORGANIZER;CN="Vega Training":MAILTO:contatti@vegatraining.eu
END:VEVENT
BEGIN:VEVENT
DTSTART;VALUE=DATE:20260608
DTEND;VALUE=DATE:20260609
DTSTAMP:20260421T214930
CREATED:20251031T103633Z
LAST-MODIFIED:20251031T103633Z
UID:20805-1780876800-1780963199@www.vegatraining.eu
SUMMARY:Penetration Test CompTIA Pentest+ - 08062026 - Intensive
DESCRIPTION:Inizio Corso – Durata 5 gg – Full Time\nCorso di preparazione al conseguimento della Certificazione CompTIA PenTest+
URL:https://www.vegatraining.eu/calendario/penetration-test-comptia-pentest-08062026-intensive/
ORGANIZER;CN="Vega Training":MAILTO:contatti@vegatraining.eu
END:VEVENT
BEGIN:VEVENT
DTSTART;VALUE=DATE:20260608
DTEND;VALUE=DATE:20260609
DTSTAMP:20260421T214930
CREATED:20251104T143653Z
LAST-MODIFIED:20251104T143653Z
UID:20816-1780876800-1780963199@www.vegatraining.eu
SUMMARY:CompTIA Network+ - 08062026 - Intensive
DESCRIPTION:Inizio Corso – Durata 5gg – Full Time –\nCorso di preparazione al conseguimento della: Certificazione CompTIA Network+ (N10-009)
URL:https://www.vegatraining.eu/calendario/comptia-network-08062026-intensive/
ORGANIZER;CN="Vega Training":MAILTO:contatti@vegatraining.eu
END:VEVENT
END:VCALENDAR