BEGIN:VCALENDAR
VERSION:2.0
PRODID:-//Vega Training - ECPv6.15.20//NONSGML v1.0//EN
CALSCALE:GREGORIAN
METHOD:PUBLISH
X-WR-CALNAME:Vega Training
X-ORIGINAL-URL:https://www.vegatraining.eu
X-WR-CALDESC:Eventi per Vega Training
REFRESH-INTERVAL;VALUE=DURATION:PT1H
X-Robots-Tag:noindex
X-PUBLISHED-TTL:PT1H
BEGIN:VTIMEZONE
TZID:UTC
BEGIN:STANDARD
TZOFFSETFROM:+0000
TZOFFSETTO:+0000
TZNAME:UTC
DTSTART:20250101T000000
END:STANDARD
END:VTIMEZONE
BEGIN:VEVENT
DTSTART;VALUE=DATE:20260421
DTEND;VALUE=DATE:20260422
DTSTAMP:20260421T092404
CREATED:20251010T094626Z
LAST-MODIFIED:20251126T181257Z
UID:20655-1776729600-1776815999@www.vegatraining.eu
SUMMARY:Penetration Test CompTIA Pentest+ - 21042026 - Extensive
DESCRIPTION:Inizio corso – Durata 36 ore – Mar. Gio. 18:30/21:30\nCorso di preparazione al conseguimento della:\nCertificazione CompTIA PenTest+
URL:https://www.vegatraining.eu/calendario/penetration-test-comptia-pentest-14042026-extensive/
ORGANIZER;CN="Vega Training":MAILTO:contatti@vegatraining.eu
END:VEVENT
END:VCALENDAR