BEGIN:VCALENDAR
VERSION:2.0
PRODID:-//Vega Training - ECPv6.15.20//NONSGML v1.0//EN
CALSCALE:GREGORIAN
METHOD:PUBLISH
X-ORIGINAL-URL:https://www.vegatraining.eu
X-WR-CALDESC:Eventi per Vega Training
REFRESH-INTERVAL;VALUE=DURATION:PT1H
X-Robots-Tag:noindex
X-PUBLISHED-TTL:PT1H
BEGIN:VTIMEZONE
TZID:UTC
BEGIN:STANDARD
TZOFFSETFROM:+0000
TZOFFSETTO:+0000
TZNAME:UTC
DTSTART:20240101T000000
END:STANDARD
END:VTIMEZONE
BEGIN:VEVENT
DTSTART;VALUE=DATE:20250718
DTEND;VALUE=DATE:20250719
DTSTAMP:20260421T104208
CREATED:20250214T102115Z
LAST-MODIFIED:20250214T102115Z
UID:19357-1752796800-1752883199@www.vegatraining.eu
SUMMARY:FortiAnalyzer Administrator - 18072025 - Intensive
DESCRIPTION:Inizio Corso – Durata 1 gg – Full Time – Versione Intensiva.\nIl Corso contribuisce alla preparazione dell’esame di Certificazione FCP – FortiAnalyzer Administrator\, parte del percorso di certificazione Fortinet Certified Professional – Network Security.
URL:https://www.vegatraining.eu/calendario/fortianalyzer-administrator-18072025-intensive/
ORGANIZER;CN="Vega Training":MAILTO:contatti@vegatraining.eu
END:VEVENT
END:VCALENDAR