BEGIN:VCALENDAR
VERSION:2.0
PRODID:-//Vega Training - ECPv6.15.20//NONSGML v1.0//EN
CALSCALE:GREGORIAN
METHOD:PUBLISH
X-WR-CALNAME:Vega Training
X-ORIGINAL-URL:https://www.vegatraining.eu
X-WR-CALDESC:Eventi per Vega Training
REFRESH-INTERVAL;VALUE=DURATION:PT1H
X-Robots-Tag:noindex
X-PUBLISHED-TTL:PT1H
BEGIN:VTIMEZONE
TZID:UTC
BEGIN:STANDARD
TZOFFSETFROM:+0000
TZOFFSETTO:+0000
TZNAME:UTC
DTSTART:20240101T000000
END:STANDARD
END:VTIMEZONE
BEGIN:VEVENT
DTSTART;VALUE=DATE:20250714
DTEND;VALUE=DATE:20250715
DTSTAMP:20260421T124015
CREATED:20250214T101730Z
LAST-MODIFIED:20250214T101730Z
UID:19353-1752451200-1752537599@www.vegatraining.eu
SUMMARY:FortiGate Administrator - 14072025 - Intensive
DESCRIPTION:Inizio Corso – Durata 4 gg – Full Time – Versione Intensiva.\nIl Corso contribuisce alla preparazione dell’esame di Certificazione FCP – FortiGate Administrator\, parte delle Certificazioni:\n– Fortinet Certified Professional in Security Operations\n– Fortinet Certified Professional in Network Security\n– Fortinet Certified Professional in Public Cloud Security
URL:https://www.vegatraining.eu/calendario/fortigate-administrator-14072025-intensive/
END:VEVENT
END:VCALENDAR