BEGIN:VCALENDAR
VERSION:2.0
PRODID:-//Vega Training - ECPv6.15.20//NONSGML v1.0//EN
CALSCALE:GREGORIAN
METHOD:PUBLISH
X-WR-CALNAME:Vega Training
X-ORIGINAL-URL:https://www.vegatraining.eu
X-WR-CALDESC:Eventi per Vega Training
REFRESH-INTERVAL;VALUE=DURATION:PT1H
X-Robots-Tag:noindex
X-PUBLISHED-TTL:PT1H
BEGIN:VTIMEZONE
TZID:UTC
BEGIN:STANDARD
TZOFFSETFROM:+0000
TZOFFSETTO:+0000
TZNAME:UTC
DTSTART:20240101T000000
END:STANDARD
END:VTIMEZONE
BEGIN:VEVENT
DTSTART;VALUE=DATE:20250204
DTEND;VALUE=DATE:20250205
DTSTAMP:20260421T114034
CREATED:20240514T084037Z
LAST-MODIFIED:20241029T142243Z
UID:17160-1738627200-1738713599@www.vegatraining.eu
SUMMARY:VMware vSphere VCP-DCV – 04022025 – Extensive
DESCRIPTION:Inizio Corso – Durata 69 ore – Mar. Gio. 18:30/21:30.\nCorso di preparazione al conseguimento della:\nCertificazione VMware Certified Professional vSphere Data Center Virtualization VCP-DCV 2023
URL:https://www.vegatraining.eu/calendario/vmware-vsphere-vcp-dcv-23092024-extensive/
LOCATION:Vega Training Italia\, Vega Training\, Online\, Italia
ORGANIZER;CN="Vega Training":MAILTO:contatti@vegatraining.eu
END:VEVENT
BEGIN:VEVENT
DTSTART;VALUE=DATE:20250204
DTEND;VALUE=DATE:20250205
DTSTAMP:20260421T114034
CREATED:20240919T080248Z
LAST-MODIFIED:20240919T080248Z
UID:17477-1738627200-1738713599@www.vegatraining.eu
SUMMARY:Azure Administrator AZ-104 – 04022025 – Extensive
DESCRIPTION:Inizio Corso – Durata 42 ore – Mar. Gio. 18:30/21:30\nCorso di preparazione al conseguimento della\nCertificazione Microsoft Azure Administrator Associate\nIl percorso si articola nel seguente modulo:\nCorso MOC AZ-104.
URL:https://www.vegatraining.eu/calendario/azure-administrator-az-104-04022025-extensive/
ORGANIZER;CN="Vega Training":MAILTO:contatti@vegatraining.eu
END:VEVENT
END:VCALENDAR