BEGIN:VCALENDAR
VERSION:2.0
PRODID:-//Vega Training - ECPv6.15.20//NONSGML v1.0//EN
CALSCALE:GREGORIAN
METHOD:PUBLISH
X-ORIGINAL-URL:https://www.vegatraining.eu
X-WR-CALDESC:Eventi per Vega Training
REFRESH-INTERVAL;VALUE=DURATION:PT1H
X-Robots-Tag:noindex
X-PUBLISHED-TTL:PT1H
BEGIN:VTIMEZONE
TZID:UTC
BEGIN:STANDARD
TZOFFSETFROM:+0000
TZOFFSETTO:+0000
TZNAME:UTC
DTSTART:20230101T000000
END:STANDARD
END:VTIMEZONE
BEGIN:VEVENT
DTSTART;VALUE=DATE:20241213
DTEND;VALUE=DATE:20241214
DTSTAMP:20260421T144007
CREATED:20241105T142117Z
LAST-MODIFIED:20241105T142117Z
UID:17732-1734048000-1734134399@www.vegatraining.eu
SUMMARY:Google Cloud Fundamentals: Core Infrastructure – 13122024 – Intensive
DESCRIPTION:Inizio Corso – Durata 1gg – Full Time – Versione Intensiva.\nCorso di preparazione al conseguimento delle Certificazioni:\nGoogle Cloud Certified Associate Cloud Engineer\nGoogle Cloud Certified Professional Cloud Architect
URL:https://www.vegatraining.eu/calendario/google-cloud-fundamentals-core-infrastructure-13122024-intensive/
ORGANIZER;CN="Vega Training":MAILTO:contatti@vegatraining.eu
END:VEVENT
BEGIN:VEVENT
DTSTART;VALUE=DATE:20241213
DTEND;VALUE=DATE:20241214
DTSTAMP:20260421T144007
CREATED:20241129T102851Z
LAST-MODIFIED:20241129T102851Z
UID:18845-1734048000-1734134399@www.vegatraining.eu
SUMMARY:Introduction to AI and Machine Learning on Google Cloud - 13122024 - Intensive - English
DESCRIPTION:Inizio Corso – Durata 1 gg – Full Time –\nIl corso contribuisce alla preparazione per l’esame di Certificazione Google Professional Machine Learning Engineer
URL:https://www.vegatraining.eu/calendario/introduction-to-ai-and-machine-learning-on-google-cloud-13122024-intensive-english/
ORGANIZER;CN="Vega Training":MAILTO:contatti@vegatraining.eu
END:VEVENT
END:VCALENDAR