BEGIN:VCALENDAR
VERSION:2.0
PRODID:-//Vega Training - ECPv6.15.20//NONSGML v1.0//EN
CALSCALE:GREGORIAN
METHOD:PUBLISH
X-WR-CALNAME:Vega Training
X-ORIGINAL-URL:https://www.vegatraining.eu
X-WR-CALDESC:Eventi per Vega Training
REFRESH-INTERVAL;VALUE=DURATION:PT1H
X-Robots-Tag:noindex
X-PUBLISHED-TTL:PT1H
BEGIN:VTIMEZONE
TZID:Europe/Rome
BEGIN:DAYLIGHT
TZOFFSETFROM:+0100
TZOFFSETTO:+0200
TZNAME:CEST
DTSTART:20230326T010000
END:DAYLIGHT
BEGIN:STANDARD
TZOFFSETFROM:+0200
TZOFFSETTO:+0100
TZNAME:CET
DTSTART:20231029T010000
END:STANDARD
BEGIN:DAYLIGHT
TZOFFSETFROM:+0100
TZOFFSETTO:+0200
TZNAME:CEST
DTSTART:20240331T010000
END:DAYLIGHT
BEGIN:STANDARD
TZOFFSETFROM:+0200
TZOFFSETTO:+0100
TZNAME:CET
DTSTART:20241027T010000
END:STANDARD
BEGIN:DAYLIGHT
TZOFFSETFROM:+0100
TZOFFSETTO:+0200
TZNAME:CEST
DTSTART:20250330T010000
END:DAYLIGHT
BEGIN:STANDARD
TZOFFSETFROM:+0200
TZOFFSETTO:+0100
TZNAME:CET
DTSTART:20251026T010000
END:STANDARD
END:VTIMEZONE
BEGIN:VTIMEZONE
TZID:UTC
BEGIN:STANDARD
TZOFFSETFROM:+0000
TZOFFSETTO:+0000
TZNAME:UTC
DTSTART:20230101T000000
END:STANDARD
END:VTIMEZONE
BEGIN:VEVENT
DTSTART;VALUE=DATE:20241202
DTEND;VALUE=DATE:20241203
DTSTAMP:20260421T143756
CREATED:20240326T164056Z
LAST-MODIFIED:20240326T164056Z
UID:16664-1733097600-1733183999@www.vegatraining.eu
SUMMARY:Developing on AWS – 02122024 – Intensive
DESCRIPTION:Inizio Corso – Durata 3 gg – Full Time\nCorso di preparazione al conseguimento della\nCertificazione AWS Certified Developer – Associate
URL:https://www.vegatraining.eu/calendario/developing-on-aws-02122024-intensive/
LOCATION:Vega Training Italia\, Vega Training\, Online\, Italia
ORGANIZER;CN="Vega Training":MAILTO:contatti@vegatraining.eu
END:VEVENT
BEGIN:VEVENT
DTSTART;VALUE=DATE:20241202
DTEND;VALUE=DATE:20241203
DTSTAMP:20260421T143756
CREATED:20240830T090434Z
LAST-MODIFIED:20240830T090434Z
UID:17427-1733097600-1733183999@www.vegatraining.eu
SUMMARY:CompTIA Security+ – 02122024 – Intensive
DESCRIPTION:Inizio Corso – Durata 5gg – Full Time – Versione Intensiva.\nCorso di preparazione al conseguimento della:\nCertificazione CompTIA Security+
URL:https://www.vegatraining.eu/calendario/comptia-security-02122024-intensive/
ORGANIZER;CN="Vega Training":MAILTO:contatti@vegatraining.eu
END:VEVENT
BEGIN:VEVENT
DTSTART;VALUE=DATE:20241202
DTEND;VALUE=DATE:20241203
DTSTAMP:20260421T143756
CREATED:20241023T091516Z
LAST-MODIFIED:20241023T091516Z
UID:17636-1733097600-1733183999@www.vegatraining.eu
SUMMARY:Cisco CCNA – 02122024 – Intensive
DESCRIPTION:Inizio Corso – Durata 5 gg – Dal Lunedì al Venerdì – Formula Full Time – Versione CCNA Intensivo.\nCorso di preparazione al conseguimento della\nCertificazione Cisco CCNA Esame 200-301
URL:https://www.vegatraining.eu/calendario/cisco-ccna-02122024-intensive-2/
ORGANIZER;CN="Vega Training":MAILTO:contatti@vegatraining.eu
END:VEVENT
BEGIN:VEVENT
DTSTART;VALUE=DATE:20241202
DTEND;VALUE=DATE:20241203
DTSTAMP:20260421T143756
CREATED:20241029T152934Z
LAST-MODIFIED:20241118T130051Z
UID:17704-1733097600-1733183999@www.vegatraining.eu
SUMMARY:Cisco CCNA – 02122024 – Extensive – PM
DESCRIPTION:Inizio Corso – Durata 120 ore – Lun. Mer. 18:30/21:30\nCorso di preparazione al conseguimento della Certificazione Cisco CCNA Implementing and Administering Cisco Networking Technologies
URL:https://www.vegatraining.eu/calendario/cisco-ccna-25112024-extensive-pm/
ORGANIZER;CN="Vega Training":MAILTO:contatti@vegatraining.eu
END:VEVENT
END:VCALENDAR