BEGIN:VCALENDAR
VERSION:2.0
PRODID:-//Vega Training - ECPv6.15.20//NONSGML v1.0//EN
CALSCALE:GREGORIAN
METHOD:PUBLISH
X-ORIGINAL-URL:https://www.vegatraining.eu
X-WR-CALDESC:Eventi per Vega Training
REFRESH-INTERVAL;VALUE=DURATION:PT1H
X-Robots-Tag:noindex
X-PUBLISHED-TTL:PT1H
BEGIN:VTIMEZONE
TZID:UTC
BEGIN:STANDARD
TZOFFSETFROM:+0000
TZOFFSETTO:+0000
TZNAME:UTC
DTSTART:20230101T000000
END:STANDARD
END:VTIMEZONE
BEGIN:VTIMEZONE
TZID:Europe/Rome
BEGIN:DAYLIGHT
TZOFFSETFROM:+0100
TZOFFSETTO:+0200
TZNAME:CEST
DTSTART:20230326T010000
END:DAYLIGHT
BEGIN:STANDARD
TZOFFSETFROM:+0200
TZOFFSETTO:+0100
TZNAME:CET
DTSTART:20231029T010000
END:STANDARD
BEGIN:DAYLIGHT
TZOFFSETFROM:+0100
TZOFFSETTO:+0200
TZNAME:CEST
DTSTART:20240331T010000
END:DAYLIGHT
BEGIN:STANDARD
TZOFFSETFROM:+0200
TZOFFSETTO:+0100
TZNAME:CET
DTSTART:20241027T010000
END:STANDARD
BEGIN:DAYLIGHT
TZOFFSETFROM:+0100
TZOFFSETTO:+0200
TZNAME:CEST
DTSTART:20250330T010000
END:DAYLIGHT
BEGIN:STANDARD
TZOFFSETFROM:+0200
TZOFFSETTO:+0100
TZNAME:CET
DTSTART:20251026T010000
END:STANDARD
END:VTIMEZONE
BEGIN:VEVENT
DTSTART;VALUE=DATE:20241118
DTEND;VALUE=DATE:20241119
DTSTAMP:20260421T161526
CREATED:20240305T114614Z
LAST-MODIFIED:20240311T172111Z
UID:16504-1731888000-1731974399@www.vegatraining.eu
SUMMARY:Cisco CCNA – 18112024 – Intensive
DESCRIPTION:Inizio Corso – Durata 5 gg – Dal Lunedì al Venerdì – Formula Full Time – Versione CCNA Intensivo.\nCorso di preparazione al conseguimento della\nCertificazione Cisco CCNA Esame 200-301
URL:https://www.vegatraining.eu/calendario/cisco-ccna-02122024-intensive/
LOCATION:Vega Training Italia\, Vega Training\, Online\, Italia
ORGANIZER;CN="Vega Training":MAILTO:contatti@vegatraining.eu
END:VEVENT
BEGIN:VEVENT
DTSTART;VALUE=DATE:20241118
DTEND;VALUE=DATE:20241119
DTSTAMP:20260421T161526
CREATED:20240326T151119Z
LAST-MODIFIED:20240326T151119Z
UID:16615-1731888000-1731974399@www.vegatraining.eu
SUMMARY:Architecting on AWS – 18112024 – Intensive
DESCRIPTION:Inizio Corso – Durata 3 gg – Full Time\nCorso di preparazione al conseguimento della\nCertificazione AWS Certified Solutions Architect – Associate
URL:https://www.vegatraining.eu/calendario/architecting-on-aws-18112024-intensive/
LOCATION:Vega Training Italia\, Vega Training\, Online\, Italia
ORGANIZER;CN="Vega Training":MAILTO:contatti@vegatraining.eu
END:VEVENT
BEGIN:VEVENT
DTSTART;VALUE=DATE:20241118
DTEND;VALUE=DATE:20241119
DTSTAMP:20260421T161526
CREATED:20240524T074720Z
LAST-MODIFIED:20240524T074926Z
UID:17188-1731888000-1731974399@www.vegatraining.eu
SUMMARY:VMware vSphere ICM – 18112024 – Intensive (TD SYNNEX)
DESCRIPTION:Inizio Corso – Durata 5 gg – Dal Lunedì al Venerdì – Formula Full Time.\nCorso di preparazione al conseguimento della\nCertificazione VMware Certified Professional vSphere Data Center Virtualization VCP-DCV 2023
URL:https://www.vegatraining.eu/calendario/vmware-vsphere-icm-18112024-intensive-td-synnex/
ORGANIZER;CN="Vega Training":MAILTO:contatti@vegatraining.eu
END:VEVENT
BEGIN:VEVENT
DTSTART;VALUE=DATE:20241118
DTEND;VALUE=DATE:20241119
DTSTAMP:20260421T161526
CREATED:20240830T072947Z
LAST-MODIFIED:20240830T072947Z
UID:17421-1731888000-1731974399@www.vegatraining.eu
SUMMARY:Check Point CCSA – 18112024 – Intensive
DESCRIPTION:Inizio Corso – Durata 3 gg – Full Time – Versione Intensiva.\nCorso di preparazione al conseguimento della\nCertificazione Check Point CCSA
URL:https://www.vegatraining.eu/calendario/check-point-ccsa-18112024-intensive/
ORGANIZER;CN="Vega Training":MAILTO:contatti@vegatraining.eu
END:VEVENT
END:VCALENDAR