BEGIN:VCALENDAR
VERSION:2.0
PRODID:-//Vega Training - ECPv6.15.20//NONSGML v1.0//EN
CALSCALE:GREGORIAN
METHOD:PUBLISH
X-ORIGINAL-URL:https://www.vegatraining.eu
X-WR-CALDESC:Eventi per Vega Training
REFRESH-INTERVAL;VALUE=DURATION:PT1H
X-Robots-Tag:noindex
X-PUBLISHED-TTL:PT1H
BEGIN:VTIMEZONE
TZID:UTC
BEGIN:STANDARD
TZOFFSETFROM:+0000
TZOFFSETTO:+0000
TZNAME:UTC
DTSTART:20230101T000000
END:STANDARD
END:VTIMEZONE
BEGIN:VEVENT
DTSTART;VALUE=DATE:20241104
DTEND;VALUE=DATE:20241105
DTSTAMP:20260421T161429
CREATED:20240617T104653Z
LAST-MODIFIED:20240617T104653Z
UID:17256-1730678400-1730764799@www.vegatraining.eu
SUMMARY:FortiGate Administrator - 04112024 - Intensive
DESCRIPTION:Inizio Corso – Durata 4 gg – Full Time – Versione Intensiva.\nIl Corso contribuisce alla preparazione dell’esame di Certificazione FCP – FortiGate Administrator\, parte delle Certificazioni:\n– Fortinet Certified Professional in Security Operations\n– Fortinet Certified Professional in Network Security\n– Fortinet Certified Professional in Public Cloud Security
URL:https://www.vegatraining.eu/calendario/fortigate-administrator-04112024-intensive/
ORGANIZER;CN="Vega Training":MAILTO:contatti@vegatraining.eu
END:VEVENT
END:VCALENDAR