BEGIN:VCALENDAR
VERSION:2.0
PRODID:-//Vega Training - ECPv6.15.20//NONSGML v1.0//EN
CALSCALE:GREGORIAN
METHOD:PUBLISH
X-WR-CALNAME:Vega Training
X-ORIGINAL-URL:https://www.vegatraining.eu
X-WR-CALDESC:Eventi per Vega Training
REFRESH-INTERVAL;VALUE=DURATION:PT1H
X-Robots-Tag:noindex
X-PUBLISHED-TTL:PT1H
BEGIN:VTIMEZONE
TZID:UTC
BEGIN:STANDARD
TZOFFSETFROM:+0000
TZOFFSETTO:+0000
TZNAME:UTC
DTSTART:20230101T000000
END:STANDARD
END:VTIMEZONE
BEGIN:VEVENT
DTSTART;VALUE=DATE:20241028
DTEND;VALUE=DATE:20241029
DTSTAMP:20260421T160710
CREATED:20240314T115701Z
LAST-MODIFIED:20240906T074620Z
UID:16588-1730073600-1730159999@www.vegatraining.eu
SUMMARY:Linux Administrator CompTIA Linux+ - 28102024 - Extensive
DESCRIPTION:Inizio Corso – Durata 60 ore – Lun. Gio. 18:30/21:30\nCorso di preparazione al conseguimento delle\nCertificazioni CompTIA Linux+
URL:https://www.vegatraining.eu/calendario/linux-administrator-comptia-linux-30092024-extensive/
ORGANIZER;CN="Vega Training":MAILTO:contatti@vegatraining.eu
END:VEVENT
BEGIN:VEVENT
DTSTART;VALUE=DATE:20241028
DTEND;VALUE=DATE:20241029
DTSTAMP:20260421T160710
CREATED:20240926T071548Z
LAST-MODIFIED:20240926T071548Z
UID:17485-1730073600-1730159999@www.vegatraining.eu
SUMMARY:VMware Site Recovery Manager: Install Configure Manage [V8.6] – 28102024 – Intensive (TD SYNNEX)
DESCRIPTION:Inizio Corso – Durata 2 gg – Full Time. Corso di preparazione al conseguimento della Certificazione\nVMware Certified Professional Data Center Virtualization (VCP-DCV 2024)
URL:https://www.vegatraining.eu/calendario/vmware-site-recovery-manager-install-configure-manage-v8-6-28102024-intensive-td-synnex/
ORGANIZER;CN="Vega Training":MAILTO:contatti@vegatraining.eu
END:VEVENT
END:VCALENDAR