BEGIN:VCALENDAR
VERSION:2.0
PRODID:-//Vega Training - ECPv6.15.20//NONSGML v1.0//EN
CALSCALE:GREGORIAN
METHOD:PUBLISH
X-ORIGINAL-URL:https://www.vegatraining.eu
X-WR-CALDESC:Eventi per Vega Training
REFRESH-INTERVAL;VALUE=DURATION:PT1H
X-Robots-Tag:noindex
X-PUBLISHED-TTL:PT1H
BEGIN:VTIMEZONE
TZID:UTC
BEGIN:STANDARD
TZOFFSETFROM:+0000
TZOFFSETTO:+0000
TZNAME:UTC
DTSTART:20230101T000000
END:STANDARD
END:VTIMEZONE
BEGIN:VEVENT
DTSTART;VALUE=DATE:20241024
DTEND;VALUE=DATE:20241025
DTSTAMP:20260421T174259
CREATED:20240830T073334Z
LAST-MODIFIED:20250605T093754Z
UID:17423-1729728000-1729814399@www.vegatraining.eu
SUMMARY:Check Point CCTE – 24102024 – Intensive
DESCRIPTION:Inizio Corso – Durata 2 gg – Full Time – Versione Intensiva.\nCorso di preparazione al conseguimento della\nCertificazione Check Point CCTE Check Point Troubleshooting Expert (CCTE)
URL:https://www.vegatraining.eu/calendario/check-point-ccte-24102024-intensive/
ORGANIZER;CN="Vega Training":MAILTO:contatti@vegatraining.eu
END:VEVENT
END:VCALENDAR