BEGIN:VCALENDAR
VERSION:2.0
PRODID:-//Vega Training - ECPv6.15.20//NONSGML v1.0//EN
CALSCALE:GREGORIAN
METHOD:PUBLISH
X-WR-CALNAME:Vega Training
X-ORIGINAL-URL:https://www.vegatraining.eu
X-WR-CALDESC:Eventi per Vega Training
REFRESH-INTERVAL;VALUE=DURATION:PT1H
X-Robots-Tag:noindex
X-PUBLISHED-TTL:PT1H
BEGIN:VTIMEZONE
TZID:UTC
BEGIN:STANDARD
TZOFFSETFROM:+0000
TZOFFSETTO:+0000
TZNAME:UTC
DTSTART:20230101T000000
END:STANDARD
END:VTIMEZONE
BEGIN:VTIMEZONE
TZID:Europe/Rome
BEGIN:DAYLIGHT
TZOFFSETFROM:+0100
TZOFFSETTO:+0200
TZNAME:CEST
DTSTART:20230326T010000
END:DAYLIGHT
BEGIN:STANDARD
TZOFFSETFROM:+0200
TZOFFSETTO:+0100
TZNAME:CET
DTSTART:20231029T010000
END:STANDARD
BEGIN:DAYLIGHT
TZOFFSETFROM:+0100
TZOFFSETTO:+0200
TZNAME:CEST
DTSTART:20240331T010000
END:DAYLIGHT
BEGIN:STANDARD
TZOFFSETFROM:+0200
TZOFFSETTO:+0100
TZNAME:CET
DTSTART:20241027T010000
END:STANDARD
BEGIN:DAYLIGHT
TZOFFSETFROM:+0100
TZOFFSETTO:+0200
TZNAME:CEST
DTSTART:20250330T010000
END:DAYLIGHT
BEGIN:STANDARD
TZOFFSETFROM:+0200
TZOFFSETTO:+0100
TZNAME:CET
DTSTART:20251026T010000
END:STANDARD
END:VTIMEZONE
BEGIN:VEVENT
DTSTART;VALUE=DATE:20241021
DTEND;VALUE=DATE:20241022
DTSTAMP:20260421T174106
CREATED:20240222T090738Z
LAST-MODIFIED:20240222T090738Z
UID:16467-1729468800-1729555199@www.vegatraining.eu
SUMMARY:Python Developer – 21102024 – Extensive
DESCRIPTION:Inizio Corso – Durata 33 ore – Lun. Mer. 18:30/21:30\nCorso di preparazione al conseguimento della:\nCertificazione Python Programming PCAP Associate
URL:https://www.vegatraining.eu/calendario/python-developer-21102024-extensive/
LOCATION:Vega Training Italia\, Vega Training\, Online\, Italia
ORGANIZER;CN="Vega Training":MAILTO:contatti@vegatraining.eu
END:VEVENT
BEGIN:VEVENT
DTSTART;VALUE=DATE:20241021
DTEND;VALUE=DATE:20241022
DTSTAMP:20260421T174106
CREATED:20240326T165644Z
LAST-MODIFIED:20240326T165644Z
UID:16669-1729468800-1729555199@www.vegatraining.eu
SUMMARY:Cloud Operations on AWS - 21102024 - Intensive
DESCRIPTION:Inizio Corso – Durata 3 gg – Full Time\nCorso di preparazione al conseguimento della\nCertificazione AWS Certified SysOps Administrator – Associate
URL:https://www.vegatraining.eu/calendario/cloud-operations-on-aws-21102024-intensive/
LOCATION:Vega Training Italia\, Vega Training\, Online\, Italia
ORGANIZER;CN="Vega Training":MAILTO:contatti@vegatraining.eu
END:VEVENT
BEGIN:VEVENT
DTSTART;VALUE=DATE:20241021
DTEND;VALUE=DATE:20241022
DTSTAMP:20260421T174106
CREATED:20240723T140112Z
LAST-MODIFIED:20240723T140112Z
UID:17360-1729468800-1729555199@www.vegatraining.eu
SUMMARY:VMware vSphere OSS - 21102024 - Intensive (TD SYNNEX)
DESCRIPTION:Inizio Corso – Durata 5 gg – Dal Lunedì al Venerdì – Formula Full Time. Corso di preparazione al conseguimento della VMware Certified Professional Data Center Virtualization (VCP-DCV 2024)
URL:https://www.vegatraining.eu/calendario/vmware-vsphere-oss-21102024-intensive-td-synnex/
ORGANIZER;CN="Vega Training":MAILTO:contatti@vegatraining.eu
END:VEVENT
BEGIN:VEVENT
DTSTART;VALUE=DATE:20241021
DTEND;VALUE=DATE:20241022
DTSTAMP:20260421T174106
CREATED:20240830T073641Z
LAST-MODIFIED:20240830T073641Z
UID:17425-1729468800-1729555199@www.vegatraining.eu
SUMMARY:Check Point CCSE - 21102024 - Intensive
DESCRIPTION:Inizio Corso – Durata 3 gg – Full Time – Versione Intensiva.\nCorso di preparazione al conseguimento della Certificazione Check Point CCSE\nCheck Point Cyber Security Engineering (CCSE)
URL:https://www.vegatraining.eu/calendario/check-point-ccse-21102024-intensive/
ORGANIZER;CN="Vega Training":MAILTO:contatti@vegatraining.eu
END:VEVENT
BEGIN:VEVENT
DTSTART;VALUE=DATE:20241021
DTEND;VALUE=DATE:20241022
DTSTAMP:20260421T174106
CREATED:20241003T075729Z
LAST-MODIFIED:20241003T075729Z
UID:17513-1729468800-1729555199@www.vegatraining.eu
SUMMARY:CCNP Data Center DCACIA - 21102024 - Intensive
DESCRIPTION:Inizio Corso – Durata 5 gg – Dal Lunedì al Venerdì – Formula Full Time – Versione Intensiva.\nCorso di preparazione al conseguimento della\nCertificazione CCNP Data Center DCACIA\nParte del percorso Cisco CCNP Data Center\nImplementing Cisco Application Centric Infrastructure – Advanced (DCACIA)
URL:https://www.vegatraining.eu/calendario/ccnp-data-center-dcacia-21102024-intensive/
ORGANIZER;CN="Vega Training":MAILTO:contatti@vegatraining.eu
END:VEVENT
END:VCALENDAR