BEGIN:VCALENDAR
VERSION:2.0
PRODID:-//Vega Training - ECPv6.15.20//NONSGML v1.0//EN
CALSCALE:GREGORIAN
METHOD:PUBLISH
X-ORIGINAL-URL:https://www.vegatraining.eu
X-WR-CALDESC:Eventi per Vega Training
REFRESH-INTERVAL;VALUE=DURATION:PT1H
X-Robots-Tag:noindex
X-PUBLISHED-TTL:PT1H
BEGIN:VTIMEZONE
TZID:UTC
BEGIN:STANDARD
TZOFFSETFROM:+0000
TZOFFSETTO:+0000
TZNAME:UTC
DTSTART:20230101T000000
END:STANDARD
END:VTIMEZONE
BEGIN:VEVENT
DTSTART;VALUE=DATE:20241008
DTEND;VALUE=DATE:20241009
DTSTAMP:20260421T173524
CREATED:20240219T144427Z
LAST-MODIFIED:20240219T144427Z
UID:16458-1728345600-1728431999@www.vegatraining.eu
SUMMARY:Windows Server – 08102024 – Extensive
DESCRIPTION:Inizio Corso – Durata 75 ore – Mar. Gio. 18:30/21:30\nCorso di preparazione al conseguimento della\nCertificazione Windows Server Hybrid Administrator Associate.\nIl percorso si articola in 2 moduli:\nAZ-800 – Administering Windows Server Hybrid Core Infrastructure;\nAZ-801 – Configuring Windows Server Hybrid Advanced Services.
URL:https://www.vegatraining.eu/calendario/windows-server-08102024-extensive/
LOCATION:Vega Training Italia\, Vega Training\, Online\, Italia
ORGANIZER;CN="Vega Training":MAILTO:contatti@vegatraining.eu
END:VEVENT
END:VCALENDAR