BEGIN:VCALENDAR
VERSION:2.0
PRODID:-//Vega Training - ECPv6.15.20//NONSGML v1.0//EN
CALSCALE:GREGORIAN
METHOD:PUBLISH
X-WR-CALNAME:Vega Training
X-ORIGINAL-URL:https://www.vegatraining.eu
X-WR-CALDESC:Eventi per Vega Training
REFRESH-INTERVAL;VALUE=DURATION:PT1H
X-Robots-Tag:noindex
X-PUBLISHED-TTL:PT1H
BEGIN:VTIMEZONE
TZID:Europe/Rome
BEGIN:DAYLIGHT
TZOFFSETFROM:+0100
TZOFFSETTO:+0200
TZNAME:CEST
DTSTART:20230326T010000
END:DAYLIGHT
BEGIN:STANDARD
TZOFFSETFROM:+0200
TZOFFSETTO:+0100
TZNAME:CET
DTSTART:20231029T010000
END:STANDARD
BEGIN:DAYLIGHT
TZOFFSETFROM:+0100
TZOFFSETTO:+0200
TZNAME:CEST
DTSTART:20240331T010000
END:DAYLIGHT
BEGIN:STANDARD
TZOFFSETFROM:+0200
TZOFFSETTO:+0100
TZNAME:CET
DTSTART:20241027T010000
END:STANDARD
BEGIN:DAYLIGHT
TZOFFSETFROM:+0100
TZOFFSETTO:+0200
TZNAME:CEST
DTSTART:20250330T010000
END:DAYLIGHT
BEGIN:STANDARD
TZOFFSETFROM:+0200
TZOFFSETTO:+0100
TZNAME:CET
DTSTART:20251026T010000
END:STANDARD
END:VTIMEZONE
BEGIN:VTIMEZONE
TZID:UTC
BEGIN:STANDARD
TZOFFSETFROM:+0000
TZOFFSETTO:+0000
TZNAME:UTC
DTSTART:20230101T000000
END:STANDARD
END:VTIMEZONE
BEGIN:VEVENT
DTSTART;VALUE=DATE:20240930
DTEND;VALUE=DATE:20241001
DTSTAMP:20260421T174237
CREATED:20231228T143805Z
LAST-MODIFIED:20241107T085152Z
UID:15243-1727654400-1727740799@www.vegatraining.eu
SUMMARY:VMware NSX ICM – 30092024 – Intensive (TD SYNNEX)
DESCRIPTION:Inizio Corso – Durata 5 gg – Dal Lunedì al Venerdì – Formula Full Time.\nCorso di preparazione al conseguimento della:\nCertificazione VMware Certified Professional Network Virtualization 2023 (VCP-NV 2023)
URL:https://www.vegatraining.eu/calendario/vmware-nsx-icm-04032024-intensive-td-synnex/
ORGANIZER;CN="Vega Training":MAILTO:contatti@vegatraining.eu
END:VEVENT
BEGIN:VEVENT
DTSTART;VALUE=DATE:20240930
DTEND;VALUE=DATE:20241001
DTSTAMP:20260421T174237
CREATED:20240503T073407Z
LAST-MODIFIED:20240531T082448Z
UID:17112-1727654400-1727740799@www.vegatraining.eu
SUMMARY:Penetration Test CompTIA Pentest+ - 30092024 - Extensive
DESCRIPTION:Inizio corso – Durata 36 ore – Lun. Mer. 18:30/21:30\nCorso di preparazione al conseguimento della:\nCertificazione CompTIA PenTest+
URL:https://www.vegatraining.eu/calendario/penetration-test-comptia-pentest-14102024-extensive/
ORGANIZER;CN="Vega Training":MAILTO:contatti@vegatraining.eu
END:VEVENT
BEGIN:VEVENT
DTSTART;VALUE=DATE:20240930
DTEND;VALUE=DATE:20241001
DTSTAMP:20260421T174238
CREATED:20240711T074827Z
LAST-MODIFIED:20240711T074827Z
UID:17310-1727654400-1727740799@www.vegatraining.eu
SUMMARY:Azure Administrator AZ-104 – 30092024 – Intensive
DESCRIPTION:Inizio Corso – Durata 4 gg – Full Time – Versione Intensiva.\nCorso di preparazione al conseguimento della Certificazione Microsoft Azure Administrator Associate
URL:https://www.vegatraining.eu/calendario/azure-administrator-az-104-30092024-intensive/
ORGANIZER;CN="Vega Training":MAILTO:contatti@vegatraining.eu
END:VEVENT
END:VCALENDAR