BEGIN:VCALENDAR
VERSION:2.0
PRODID:-//Vega Training - ECPv6.15.20//NONSGML v1.0//EN
CALSCALE:GREGORIAN
METHOD:PUBLISH
X-WR-CALNAME:Vega Training
X-ORIGINAL-URL:https://www.vegatraining.eu
X-WR-CALDESC:Eventi per Vega Training
REFRESH-INTERVAL;VALUE=DURATION:PT1H
X-Robots-Tag:noindex
X-PUBLISHED-TTL:PT1H
BEGIN:VTIMEZONE
TZID:UTC
BEGIN:STANDARD
TZOFFSETFROM:+0000
TZOFFSETTO:+0000
TZNAME:UTC
DTSTART:20230101T000000
END:STANDARD
END:VTIMEZONE
BEGIN:VEVENT
DTSTART;VALUE=DATE:20240923
DTEND;VALUE=DATE:20240924
DTSTAMP:20260421T202906
CREATED:20240125T140241Z
LAST-MODIFIED:20240806T151030Z
UID:16316-1727049600-1727135999@www.vegatraining.eu
SUMMARY:Sistemista Informatico CompTIA A+ – 23092024 – Extensive
DESCRIPTION:Inizio Corso – Durata 69 ore – Lun. Mer. 18:30/21:30\nCorso di preparazione al conseguimento della: Certificazione CompTIA A+
URL:https://www.vegatraining.eu/calendario/sistemista-informatico-comptia-a-25092024-extensive/
LOCATION:Vega Training Italia\, Vega Training\, Online\, Italia
ORGANIZER;CN="Vega Training":MAILTO:contatti@vegatraining.eu
END:VEVENT
BEGIN:VEVENT
DTSTART;VALUE=DATE:20240923
DTEND;VALUE=DATE:20240924
DTSTAMP:20260421T202906
CREATED:20240307T090043Z
LAST-MODIFIED:20240307T090043Z
UID:16534-1727049600-1727135999@www.vegatraining.eu
SUMMARY:Cisco Meraki - 23092024 - Intensive
DESCRIPTION:Inizio Corso – Durata 4gg – Full Time – Versione Intensiva. Il corso contribuisce alla preparazione dell’esame di Certificazione Cisco Meraki Solutions Specialist (Esame 500-220).
URL:https://www.vegatraining.eu/calendario/cisco-meraki-23092024-intensive/
ORGANIZER;CN="Vega Training":MAILTO:contatti@vegatraining.eu
END:VEVENT
BEGIN:VEVENT
DTSTART;VALUE=DATE:20240923
DTEND;VALUE=DATE:20240924
DTSTAMP:20260421T202906
CREATED:20240313T161554Z
LAST-MODIFIED:20240408T101016Z
UID:16565-1727049600-1727135999@www.vegatraining.eu
SUMMARY:CompTIA Security+ – 23092024 – Intensive
DESCRIPTION:Inizio Corso – Durata 5gg – Full Time – Versione Intensiva.\nCorso di preparazione al conseguimento della:\nCertificazione CompTIA Security+
URL:https://www.vegatraining.eu/calendario/comptia-security-23092024-intensive/
LOCATION:Vega Training Italia\, Vega Training\, Online\, Italia
ORGANIZER;CN="Vega Training":MAILTO:contatti@vegatraining.eu
END:VEVENT
BEGIN:VEVENT
DTSTART;VALUE=DATE:20240923
DTEND;VALUE=DATE:20240924
DTSTAMP:20260421T202906
CREATED:20240426T092108Z
LAST-MODIFIED:20240715T131828Z
UID:16986-1727049600-1727135999@www.vegatraining.eu
SUMMARY:Architecting with Google Cloud: Design and Process - 23092024 - Intensive
DESCRIPTION:Inizio Corso – Durata 2 gg – Full Time –\nIl Corso contribuisce alla preparazione dell’esame di Certificazione Google Cloud Certified Professional Cloud Architect e Google Cloud Certified Professional Cloud DevOps Engineer.
URL:https://www.vegatraining.eu/calendario/architecting-with-google-cloud-design-and-process-23092024-intensive/
ORGANIZER;CN="Vega Training":MAILTO:contatti@vegatraining.eu
END:VEVENT
END:VCALENDAR