BEGIN:VCALENDAR
VERSION:2.0
PRODID:-//Vega Training - ECPv6.15.20//NONSGML v1.0//EN
CALSCALE:GREGORIAN
METHOD:PUBLISH
X-WR-CALNAME:Vega Training
X-ORIGINAL-URL:https://www.vegatraining.eu
X-WR-CALDESC:Eventi per Vega Training
REFRESH-INTERVAL;VALUE=DURATION:PT1H
X-Robots-Tag:noindex
X-PUBLISHED-TTL:PT1H
BEGIN:VTIMEZONE
TZID:Europe/Rome
BEGIN:DAYLIGHT
TZOFFSETFROM:+0100
TZOFFSETTO:+0200
TZNAME:CEST
DTSTART:20230326T010000
END:DAYLIGHT
BEGIN:STANDARD
TZOFFSETFROM:+0200
TZOFFSETTO:+0100
TZNAME:CET
DTSTART:20231029T010000
END:STANDARD
BEGIN:DAYLIGHT
TZOFFSETFROM:+0100
TZOFFSETTO:+0200
TZNAME:CEST
DTSTART:20240331T010000
END:DAYLIGHT
BEGIN:STANDARD
TZOFFSETFROM:+0200
TZOFFSETTO:+0100
TZNAME:CET
DTSTART:20241027T010000
END:STANDARD
BEGIN:DAYLIGHT
TZOFFSETFROM:+0100
TZOFFSETTO:+0200
TZNAME:CEST
DTSTART:20250330T010000
END:DAYLIGHT
BEGIN:STANDARD
TZOFFSETFROM:+0200
TZOFFSETTO:+0100
TZNAME:CET
DTSTART:20251026T010000
END:STANDARD
END:VTIMEZONE
BEGIN:VTIMEZONE
TZID:UTC
BEGIN:STANDARD
TZOFFSETFROM:+0000
TZOFFSETTO:+0000
TZNAME:UTC
DTSTART:20230101T000000
END:STANDARD
END:VTIMEZONE
BEGIN:VEVENT
DTSTART;VALUE=DATE:20240916
DTEND;VALUE=DATE:20240917
DTSTAMP:20260421T202907
CREATED:20231228T143805Z
LAST-MODIFIED:20240328T082555Z
UID:15241-1726444800-1726531199@www.vegatraining.eu
SUMMARY:CCNP ENARSI – 16092024 – Extensive
DESCRIPTION:Inizio Corso – Durata 60 ore – Lun. Mer.  Ven. 18:30/21:30\nCorso di preparazione al conseguimento della\nCertificazione Cisco CCNP Enterprise ENARSI\nEsame 300-410 Parte della Certificazione Cisco CCNP Enterprise\nImplementing Cisco Enterprise Advanced Routing and Services (ENARSI)
URL:https://www.vegatraining.eu/calendario/ccnp-enarsi-08042024-extensive/
LOCATION:Vega Training Italia\, Vega Training\, Online\, Italia
ORGANIZER;CN="Vega Training":MAILTO:contatti@vegatraining.eu
END:VEVENT
BEGIN:VEVENT
DTSTART;VALUE=DATE:20240916
DTEND;VALUE=DATE:20240917
DTSTAMP:20260421T202907
CREATED:20240326T150536Z
LAST-MODIFIED:20240326T150536Z
UID:16610-1726444800-1726531199@www.vegatraining.eu
SUMMARY:Architecting on AWS – 16092024 – Intensive
DESCRIPTION:Inizio Corso – Durata 3 gg – Full Time\nCorso di preparazione al conseguimento della\nCertificazione AWS Certified Solutions Architect – Associate
URL:https://www.vegatraining.eu/calendario/architecting-on-aws-16092024-intensive/
LOCATION:Vega Training Italia\, Vega Training\, Online\, Italia
ORGANIZER;CN="Vega Training":MAILTO:contatti@vegatraining.eu
END:VEVENT
BEGIN:VEVENT
DTSTART;VALUE=DATE:20240916
DTEND;VALUE=DATE:20240917
DTSTAMP:20260421T202907
CREATED:20240430T071212Z
LAST-MODIFIED:20240701T154109Z
UID:17099-1726444800-1726531199@www.vegatraining.eu
SUMMARY:FortiGate Administrator - 16092024 - Intensive
DESCRIPTION:Inizio Corso – Durata 4 gg – Full Time – Versione Intensiva.\nIl Corso contribuisce alla preparazione dell’esame di Certificazione FCP – FortiGate Administrator\, parte delle Certificazioni:\n– Fortinet Certified Professional in Security Operations\n– Fortinet Certified Professional in Network Security\n– Fortinet Certified Professional in Public Cloud Security
URL:https://www.vegatraining.eu/calendario/fortigate-administrator-08072024-intensive/
LOCATION:Vega Training Italia\, Vega Training\, Online\, Italia
ORGANIZER;CN="Vega Training":MAILTO:contatti@vegatraining.eu
END:VEVENT
END:VCALENDAR