BEGIN:VCALENDAR
VERSION:2.0
PRODID:-//Vega Training - ECPv6.15.20//NONSGML v1.0//EN
CALSCALE:GREGORIAN
METHOD:PUBLISH
X-WR-CALNAME:Vega Training
X-ORIGINAL-URL:https://www.vegatraining.eu
X-WR-CALDESC:Eventi per Vega Training
REFRESH-INTERVAL;VALUE=DURATION:PT1H
X-Robots-Tag:noindex
X-PUBLISHED-TTL:PT1H
BEGIN:VTIMEZONE
TZID:UTC
BEGIN:STANDARD
TZOFFSETFROM:+0000
TZOFFSETTO:+0000
TZNAME:UTC
DTSTART:20230101T000000
END:STANDARD
END:VTIMEZONE
BEGIN:VTIMEZONE
TZID:Europe/Rome
BEGIN:DAYLIGHT
TZOFFSETFROM:+0100
TZOFFSETTO:+0200
TZNAME:CEST
DTSTART:20230326T010000
END:DAYLIGHT
BEGIN:STANDARD
TZOFFSETFROM:+0200
TZOFFSETTO:+0100
TZNAME:CET
DTSTART:20231029T010000
END:STANDARD
BEGIN:DAYLIGHT
TZOFFSETFROM:+0100
TZOFFSETTO:+0200
TZNAME:CEST
DTSTART:20240331T010000
END:DAYLIGHT
BEGIN:STANDARD
TZOFFSETFROM:+0200
TZOFFSETTO:+0100
TZNAME:CET
DTSTART:20241027T010000
END:STANDARD
BEGIN:DAYLIGHT
TZOFFSETFROM:+0100
TZOFFSETTO:+0200
TZNAME:CEST
DTSTART:20250330T010000
END:DAYLIGHT
BEGIN:STANDARD
TZOFFSETFROM:+0200
TZOFFSETTO:+0100
TZNAME:CET
DTSTART:20251026T010000
END:STANDARD
END:VTIMEZONE
BEGIN:VEVENT
DTSTART;VALUE=DATE:20240909
DTEND;VALUE=DATE:20240910
DTSTAMP:20260421T202934
CREATED:20240125T154729Z
LAST-MODIFIED:20240523T133051Z
UID:16336-1725840000-1725926399@www.vegatraining.eu
SUMMARY:VMware vSphere with Tanzu: Deploy\, Configure\, Manage [V8] - 09092024 - Intensive
DESCRIPTION:Inizio Corso – Durata 3 gg – Full Time. Corso di preparazione al conseguimento della Certificazione VMware Certified Specialist vSphere with Tanzu 2024
URL:https://www.vegatraining.eu/calendario/vmware-vsphere-with-tanzu-deploy-configure-manage-v8-15072024-intensive/
LOCATION:Vega Training Italia\, Vega Training\, Online\, Italia
ORGANIZER;CN="Vega Training":MAILTO:contatti@vegatraining.eu
END:VEVENT
BEGIN:VEVENT
DTSTART;VALUE=DATE:20240909
DTEND;VALUE=DATE:20240910
DTSTAMP:20260421T202934
CREATED:20240305T114503Z
LAST-MODIFIED:20240305T114503Z
UID:16502-1725840000-1725926399@www.vegatraining.eu
SUMMARY:Cisco CCNA – 09092024 – Intensive
DESCRIPTION:Inizio Corso – Durata 5 gg – Dal Lunedì al Venerdì – Formula Full Time – Versione CCNA Intensivo.\nCorso di preparazione al conseguimento della\nCertificazione Cisco CCNA Esame 200-301
URL:https://www.vegatraining.eu/calendario/cisco-ccna-09092024-intensive/
LOCATION:Vega Training Italia\, Vega Training\, Online\, Italia
END:VEVENT
BEGIN:VEVENT
DTSTART;VALUE=DATE:20240909
DTEND;VALUE=DATE:20240910
DTSTAMP:20260421T202934
CREATED:20240305T120008Z
LAST-MODIFIED:20240305T120008Z
UID:16508-1725840000-1725926399@www.vegatraining.eu
SUMMARY:Cybersecurity CBROPS – 09092024 – Intensive
DESCRIPTION:Inizio Corso – Durata 5 gg – Dal Lunedì al Venerdì – Formula Full Time – Versione CyberOps Intensivo.\nCorso di preparazione al conseguimento della\nCertificazione Cisco CyberOps Associate\nUnderstanding Cisco Cybersecurity Operations Fundamentals (CBROPS)
URL:https://www.vegatraining.eu/calendario/cybersecurity-cbrops-09092024-intensive/
LOCATION:Vega Training Italia\, Vega Training\, Online\, Italia
ORGANIZER;CN="Vega Training":MAILTO:contatti@vegatraining.eu
END:VEVENT
BEGIN:VEVENT
DTSTART;VALUE=DATE:20240909
DTEND;VALUE=DATE:20240910
DTSTAMP:20260421T202934
CREATED:20240326T152508Z
LAST-MODIFIED:20240326T152508Z
UID:16622-1725840000-1725926399@www.vegatraining.eu
SUMMARY:AWS Cloud Practitioner Essentials – 09092024 – Intensive
DESCRIPTION:Inizio Corso – Durata 1 gg – Full Time – Versione Intensiva.\nCorso di preparazione al conseguimento della Certificazione AWS Certified Cloud Practitioner
URL:https://www.vegatraining.eu/calendario/aws-cloud-practitioner-essentials-09092024-intensive/
LOCATION:Vega Training Italia\, Vega Training\, Online\, Italia
ORGANIZER;CN="Vega Training":MAILTO:contatti@vegatraining.eu
END:VEVENT
BEGIN:VEVENT
DTSTART;VALUE=DATE:20240909
DTEND;VALUE=DATE:20240910
DTSTAMP:20260421T202934
CREATED:20240408T131940Z
LAST-MODIFIED:20240408T131940Z
UID:16714-1725840000-1725926399@www.vegatraining.eu
SUMMARY:Corso VMware vSphere: Troubleshooting – 09092024 – Intensive (TD Synnex)
DESCRIPTION:Inizio Corso – Durata 5 gg – Dal Lunedì al Venerdì – Formula Full Time.\nIl corso contribuisce alla preparazione dell’esame di Certificazione VMware Certified Professional Data Center Virtualization e dell’esame di Certificazione VMware Certified Advanced Professional Data Center Virtualization Deploy 2024.
URL:https://www.vegatraining.eu/calendario/corso-vmware-vsphere-troubleshooting-09092024-intensive-td-synnex/
LOCATION:Vega Training Italia\, Vega Training\, Online\, Italia
ORGANIZER;CN="Vega Training":MAILTO:contatti@vegatraining.eu
END:VEVENT
BEGIN:VEVENT
DTSTART;VALUE=DATE:20240909
DTEND;VALUE=DATE:20240910
DTSTAMP:20260421T202934
CREATED:20240426T100844Z
LAST-MODIFIED:20240426T100844Z
UID:17026-1725840000-1725926399@www.vegatraining.eu
SUMMARY:Google Cloud Big Data and Machine Learning Fundamentals - 09092024 - Intensive
DESCRIPTION:Inizio Corso – Durata 1 gg – Full Time –\nIl corso contribuisce alla preparazione dell’esame di Certificazione Google Cloud Certified Professional Data Engineer e Google Cloud Certified Professional Machine Learning Engineer
URL:https://www.vegatraining.eu/calendario/google-cloud-big-data-and-machine-learning-fundamentals-09092024-intensive/
ORGANIZER;CN="Vega Training":MAILTO:contatti@vegatraining.eu
END:VEVENT
BEGIN:VEVENT
DTSTART;VALUE=DATE:20240909
DTEND;VALUE=DATE:20240910
DTSTAMP:20260421T202934
CREATED:20240513T093320Z
LAST-MODIFIED:20240513T093320Z
UID:17152-1725840000-1725926399@www.vegatraining.eu
SUMMARY:Cisco CCNA – 09092024 – Intensive
DESCRIPTION:Inizio Corso – Durata 5 gg – Dal Lunedì al Venerdì – Formula Full Time – Versione CCNA Intensivo.\nCorso di preparazione al conseguimento della\nCertificazione Cisco CCNA Esame 200-301
URL:https://www.vegatraining.eu/calendario/cisco-ccna-09092024-intensive-2/
LOCATION:Vega Training Italia\, Vega Training\, Online\, Italia
ORGANIZER;CN="Vega Training":MAILTO:contatti@vegatraining.eu
END:VEVENT
BEGIN:VEVENT
DTSTART;VALUE=DATE:20240909
DTEND;VALUE=DATE:20240910
DTSTAMP:20260421T202934
CREATED:20240524T074441Z
LAST-MODIFIED:20240524T074441Z
UID:17186-1725840000-1725926399@www.vegatraining.eu
SUMMARY:VMware vSphere ICM – 09092024 – Intensive (TD SYNNEX)
DESCRIPTION:Inizio Corso – Durata 5 gg – Dal Lunedì al Venerdì – Formula Full Time.\nCorso di preparazione al conseguimento della\nCertificazione VMware Certified Professional vSphere Data Center Virtualization VCP-DCV 2023
URL:https://www.vegatraining.eu/calendario/vmware-vsphere-icm-09092024-intensive-td-synnex/
ORGANIZER;CN="Vega Training":MAILTO:contatti@vegatraining.eu
END:VEVENT
END:VCALENDAR