BEGIN:VCALENDAR
VERSION:2.0
PRODID:-//Vega Training - ECPv6.15.20//NONSGML v1.0//EN
CALSCALE:GREGORIAN
METHOD:PUBLISH
X-WR-CALNAME:Vega Training
X-ORIGINAL-URL:https://www.vegatraining.eu
X-WR-CALDESC:Eventi per Vega Training
REFRESH-INTERVAL;VALUE=DURATION:PT1H
X-Robots-Tag:noindex
X-PUBLISHED-TTL:PT1H
BEGIN:VTIMEZONE
TZID:Europe/Rome
BEGIN:DAYLIGHT
TZOFFSETFROM:+0100
TZOFFSETTO:+0200
TZNAME:CEST
DTSTART:20230326T010000
END:DAYLIGHT
BEGIN:STANDARD
TZOFFSETFROM:+0200
TZOFFSETTO:+0100
TZNAME:CET
DTSTART:20231029T010000
END:STANDARD
BEGIN:DAYLIGHT
TZOFFSETFROM:+0100
TZOFFSETTO:+0200
TZNAME:CEST
DTSTART:20240331T010000
END:DAYLIGHT
BEGIN:STANDARD
TZOFFSETFROM:+0200
TZOFFSETTO:+0100
TZNAME:CET
DTSTART:20241027T010000
END:STANDARD
BEGIN:DAYLIGHT
TZOFFSETFROM:+0100
TZOFFSETTO:+0200
TZNAME:CEST
DTSTART:20250330T010000
END:DAYLIGHT
BEGIN:STANDARD
TZOFFSETFROM:+0200
TZOFFSETTO:+0100
TZNAME:CET
DTSTART:20251026T010000
END:STANDARD
END:VTIMEZONE
BEGIN:VTIMEZONE
TZID:UTC
BEGIN:STANDARD
TZOFFSETFROM:+0000
TZOFFSETTO:+0000
TZNAME:UTC
DTSTART:20230101T000000
END:STANDARD
END:VTIMEZONE
BEGIN:VEVENT
DTSTART;VALUE=DATE:20240506
DTEND;VALUE=DATE:20240507
DTSTAMP:20260423T144915
CREATED:20231228T143756Z
LAST-MODIFIED:20240328T091028Z
UID:15176-1714953600-1715039999@www.vegatraining.eu
SUMMARY:Kubernetes Administrator CKA – 06052024 – Intensive
DESCRIPTION:Inizio Corso – Durata 4 gg – Full Time – Versione Intensiva.\nCorso propedeutico al conseguimento della: Certificazione Kubernetes Administrator CKA
URL:https://www.vegatraining.eu/calendario/kubernetes-administrator-cka-06052024-intensive/
ORGANIZER;CN="Vega Training":MAILTO:contatti@vegatraining.eu
END:VEVENT
BEGIN:VEVENT
DTSTART;VALUE=DATE:20240506
DTEND;VALUE=DATE:20240507
DTSTAMP:20260423T144915
CREATED:20231228T143801Z
LAST-MODIFIED:20231228T152406Z
UID:15203-1714953600-1715039999@www.vegatraining.eu
SUMMARY:Developing on AWS – 06052024 – Intensive
DESCRIPTION:Inizio Corso – Durata 3 gg – Full Time\nCorso di preparazione al conseguimento della\nCertificazione AWS Certified Developer – Associate
URL:https://www.vegatraining.eu/calendario/developing-on-aws-06052024-intensive/
ORGANIZER;CN="Vega Training":MAILTO:contatti@vegatraining.eu
END:VEVENT
BEGIN:VEVENT
DTSTART;VALUE=DATE:20240506
DTEND;VALUE=DATE:20240507
DTSTAMP:20260423T144915
CREATED:20240125T150925Z
LAST-MODIFIED:20240125T150925Z
UID:16325-1714953600-1715039999@www.vegatraining.eu
SUMMARY:Corso VMware Horizon: Deploy and Manage - 06052024 - Intensive
DESCRIPTION:Inizio Corso – Durata 5gg – Full Time – Versione Intensiva. Corso di preparazione al conseguimento della: VMware Certified Professional Desktop Management 2024 (VCP-DTM 2024)
URL:https://www.vegatraining.eu/calendario/corso-vmware-horizon-deploy-and-manage-06052024-intensive/
LOCATION:Vega Training Italia\, Vega Training\, Online\, Italia
ORGANIZER;CN="Vega Training":MAILTO:contatti@vegatraining.eu
END:VEVENT
BEGIN:VEVENT
DTSTART;VALUE=DATE:20240506
DTEND;VALUE=DATE:20240507
DTSTAMP:20260423T144915
CREATED:20240305T114145Z
LAST-MODIFIED:20240311T170819Z
UID:16498-1714953600-1715039999@www.vegatraining.eu
SUMMARY:Cisco CCNA – 06052024 – Intensive
DESCRIPTION:Inizio Corso – Durata 5 gg – Dal Lunedì al Venerdì – Formula Full Time – Versione CCNA Intensivo.\nCorso di preparazione al conseguimento della\nCertificazione Cisco CCNA Esame 200-301
URL:https://www.vegatraining.eu/calendario/cisco-ccna-27052024-intensive/
LOCATION:Vega Training Italia\, Vega Training\, Online\, Italia
ORGANIZER;CN="Vega Training":MAILTO:contatti@vegatraining.eu
END:VEVENT
BEGIN:VEVENT
DTSTART;VALUE=DATE:20240506
DTEND;VALUE=DATE:20240507
DTSTAMP:20260423T144915
CREATED:20240426T084408Z
LAST-MODIFIED:20240426T084408Z
UID:16955-1714953600-1715039999@www.vegatraining.eu
SUMMARY:Architecting with Google Kubernetes Engine - 06052024 - Intensive
DESCRIPTION:Inizio Corso – Durata 3 gg – Full Time\nCorso di preparazione alla certificazione Google Cloud Certified Professional Cloud Architect
URL:https://www.vegatraining.eu/calendario/architecting-with-google-kubernetes-engine-06052024-intensive/
ORGANIZER;CN="Vega Training":MAILTO:contatti@vegatraining.eu
END:VEVENT
END:VCALENDAR